| Back to Multiple platform build/check report for BioC 3.9 |
|
This page was generated on 2019-04-09 13:23:09 -0400 (Tue, 09 Apr 2019).
| Package 153/1703 | Hostname | OS / Arch | INSTALL | BUILD | CHECK | BUILD BIN | ||||||
| biocViews 1.51.15 Bioconductor Package Maintainer
| malbec2 | Linux (Ubuntu 18.04.2 LTS) / x86_64 | OK | OK | WARNINGS | |||||||
| tokay2 | Windows Server 2012 R2 Standard / x64 | OK | OK | WARNINGS | OK | |||||||
| celaya2 | OS X 10.11.6 El Capitan / x86_64 | OK | OK | WARNINGS | OK | |||||||
| merida2 | OS X 10.11.6 El Capitan / x86_64 | OK | OK | WARNINGS | [ OK ] |
| Package: biocViews |
| Version: 1.51.15 |
| Command: rm -rf biocViews.buildbin-libdir && mkdir biocViews.buildbin-libdir && /Users/biocbuild/BBS/utils/build-universal.sh biocViews_1.51.15.tar.gz /Library/Frameworks/R.framework/Versions/Current/Resources/bin/R biocViews.buildbin-libdir |
| StartedAt: 2019-04-09 04:49:23 -0400 (Tue, 09 Apr 2019) |
| EndedAt: 2019-04-09 04:50:38 -0400 (Tue, 09 Apr 2019) |
| EllapsedTime: 74.4 seconds |
| RetCode: 0 |
| Status: OK |
| PackageFile: biocViews_1.51.15.tgz |
| PackageFileSize: 576.6 KiB |
############################################################################## ############################################################################## ### ### Running command: ### ### rm -rf biocViews.buildbin-libdir && mkdir biocViews.buildbin-libdir && /Users/biocbuild/BBS/utils/build-universal.sh biocViews_1.51.15.tar.gz /Library/Frameworks/R.framework/Versions/Current/Resources/bin/R biocViews.buildbin-libdir ### ############################################################################## ############################################################################## >>>>>>> >>>>>>> INSTALLATION WITH 'R CMD INSTALL --preclean --no-multiarch --library=biocViews.buildbin-libdir biocViews_1.51.15.tar.gz' >>>>>>> * installing *source* package ‘biocViews’ ... ** R ** data ** inst ** byte-compile and prepare package for lazy loading ** help *** installing help indices ** building package indices ** installing vignettes ** testing if installed package can be loaded * DONE (biocViews)