| Back to Multiple platform build/check report for BioC 3.9 | 
 | 
This page was generated on 2019-04-09 13:23:17 -0400 (Tue, 09 Apr 2019).
| Package 118/1703 | Hostname | OS / Arch | INSTALL | BUILD | CHECK | BUILD BIN | ||||||
| beadarray 2.33.2 Mark Dunning 
 | malbec2 | Linux (Ubuntu 18.04.2 LTS) / x86_64 | OK | OK | OK |  | ||||||
| tokay2 | Windows Server 2012 R2 Standard / x64 | OK | OK | OK | OK |  | ||||||
| celaya2 | OS X 10.11.6 El Capitan / x86_64 | OK | OK | OK | OK |  | ||||||
| merida2 | OS X 10.11.6 El Capitan / x86_64 | OK | OK | [ OK ] | OK | 
| Package: beadarray | 
| Version: 2.33.2 | 
| Command: /Library/Frameworks/R.framework/Versions/Current/Resources/bin/R CMD check --install=check:beadarray.install-out.txt --library=/Library/Frameworks/R.framework/Versions/Current/Resources/library --no-vignettes --timings beadarray_2.33.2.tar.gz | 
| StartedAt: 2019-04-08 23:25:59 -0400 (Mon, 08 Apr 2019) | 
| EndedAt: 2019-04-08 23:34:14 -0400 (Mon, 08 Apr 2019) | 
| EllapsedTime: 494.7 seconds | 
| RetCode: 0 | 
| Status: OK | 
| CheckDir: beadarray.Rcheck | 
| Warnings: 0 | 
##############################################################################
##############################################################################
###
### Running command:
###
###   /Library/Frameworks/R.framework/Versions/Current/Resources/bin/R CMD check --install=check:beadarray.install-out.txt --library=/Library/Frameworks/R.framework/Versions/Current/Resources/library --no-vignettes --timings beadarray_2.33.2.tar.gz
###
##############################################################################
##############################################################################
* using log directory ‘/Users/biocbuild/bbs-3.9-bioc/meat/beadarray.Rcheck’
* using R Under development (unstable) (2018-11-27 r75683)
* using platform: x86_64-apple-darwin15.6.0 (64-bit)
* using session charset: UTF-8
* using option ‘--no-vignettes’
* checking for file ‘beadarray/DESCRIPTION’ ... OK
* this is package ‘beadarray’ version ‘2.33.2’
* checking package namespace information ... OK
* checking package dependencies ... OK
* checking if this is a source package ... OK
* checking if there is a namespace ... OK
* checking for hidden files and directories ... OK
* checking for portable file names ... OK
* checking for sufficient/correct file permissions ... OK
* checking whether package ‘beadarray’ can be installed ... OK
* checking installed package size ... OK
* checking package directory ... OK
* checking ‘build’ directory ... OK
* checking DESCRIPTION meta-information ... OK
* checking top-level files ... OK
* checking for left-over files ... OK
* checking index information ... OK
* checking package subdirectories ... OK
* checking R files for non-ASCII characters ... OK
* checking R files for syntax errors ... OK
* checking whether the package can be loaded ... OK
* checking whether the package can be loaded with stated dependencies ... OK
* checking whether the package can be unloaded cleanly ... OK
* checking whether the namespace can be loaded with stated dependencies ... OK
* checking whether the namespace can be unloaded cleanly ... OK
* checking dependencies in R code ... NOTE
Package in Depends field not imported from: ‘hexbin’
  These packages need to be imported from (in the NAMESPACE file)
  for when this namespace is loaded but not attached.
Unexported objects imported by ':::' calls:
  ‘BeadDataPackR:::combineFiles’ ‘BeadDataPackR:::readHeader’
  ‘Biobase:::assayDataStorageMode’
  See the note in ?`:::` about the use of this operator.
* checking S3 generic/method consistency ... OK
* checking replacement functions ... OK
* checking foreign function calls ... NOTE
Foreign function call to a different package:
  .Call("roundLocsFileValues", ..., PACKAGE = "BeadDataPackR")
See chapter ‘System and foreign language interfaces’ in the ‘Writing R
Extensions’ manual.
* checking R code for possible problems ... NOTE
combinedControlPlot: no visible binding for global variable ‘Control’
combinedControlPlot: no visible binding for global variable ‘Negative’
combinedControlPlot: no visible binding for global variable ‘ID’
combinedControlPlot: no visible binding for global variable
  ‘Log2Intensity’
combinedControlPlot: no visible binding for global variable
  ‘ControlType’
combinedControlPlot: no visible binding for global variable ‘Masked’
createGEOMeta: no visible binding for global variable ‘metaTemplate’
expressionQCPipeline: no visible global function definition for
  ‘openPage’
expressionQCPipeline: no visible global function definition for
  ‘hwrite’
expressionQCPipeline: no visible global function definition for
  ‘hwriteImage’
expressionQCPipeline: no visible global function definition for
  ‘closePage’
getPlatformSigs: no visible global function definition for
  ‘lumiHumanIDMapping_dbconn’
getPlatformSigs: no visible global function definition for
  ‘dbListTables’
getPlatformSigs: no visible global function definition for
  ‘dbListFields’
getPlatformSigs: no visible global function definition for ‘dbGetQuery’
getPlatformSigs: no visible global function definition for
  ‘lumiMouseIDMapping_dbconn’
getPlatformSigs: no visible global function definition for
  ‘lumiRatIDMapping_dbconn’
imageplot: no visible binding for global variable ‘Var1’
imageplot: no visible binding for global variable ‘Var2’
imageplot: no visible binding for global variable ‘value’
makeReport: no visible binding for global variable ‘Nozzle.R1’
makeReport: no visible binding for global variable ‘ggbio’
makeReport: no visible global function definition for ‘newCustomReport’
makeReport: no visible global function definition for ‘newSection’
makeReport: no visible global function definition for ‘newTable’
makeReport: no visible global function definition for ‘newParagraph’
makeReport: no visible global function definition for ‘addTo’
makeReport: no visible global function definition for ‘autoplot’
makeReport: no visible global function definition for ‘plotIdeogram’
makeReport: no visible global function definition for ‘tracks’
makeReport: no visible global function definition for ‘newFigure’
makeReport: no visible binding for global variable ‘IMAGE.TYPE.RASTER’
makeReport: no visible binding for global variable ‘PROTECTION.PUBLIC’
makeReport: no visible binding for global variable ‘value’
makeReport: no visible global function definition for ‘writeReport’
maplots: no visible binding for global variable ‘value.1’
maplots: no visible binding for global variable ‘value’
normaliseIllumina: no visible global function definition for ‘lumiT’
normaliseIllumina: no visible global function definition for
  ‘normalize.qspline’
normaliseIllumina: no visible global function definition for ‘vsn2’
plotBeadLocations2: no visible global function definition for ‘qplot’
plotBeadLocations2: no visible global function definition for ‘opts’
plotBeadLocations2: no visible global function definition for
  ‘theme_blank’
plotProbe: no visible global function definition for ‘autoplot’
plotProbe: no visible binding for global variable ‘genesymbol’
plotProbe: no visible global function definition for ‘tracks’
plotProbe: no visible binding for global variable ‘PROBEQUALITY’
rankInvariantNormalise: no visible global function definition for
  ‘normalize.invariantset’
suggestAnnotation: no visible binding for global variable
  ‘platformSigs’
suggestAnnotation_Vector: no visible binding for global variable
  ‘platformSigs’
[,ExpressionSetIllumina-ANY: no visible global function definition for
  ‘assayDataEnvLock’
boxplot,ExpressionSetIllumina: no visible binding for global variable
  ‘Var2’
boxplot,ExpressionSetIllumina: no visible binding for global variable
  ‘value’
plotMA,ExpressionSetIllumina: no visible binding for global variable
  ‘value.1’
plotMA,ExpressionSetIllumina: no visible binding for global variable
  ‘value’
Undefined global functions or variables:
  Control ControlType ID IMAGE.TYPE.RASTER Log2Intensity Masked
  Negative Nozzle.R1 PROBEQUALITY PROTECTION.PUBLIC Var1 Var2 addTo
  assayDataEnvLock autoplot closePage dbGetQuery dbListFields
  dbListTables genesymbol ggbio hwrite hwriteImage
  lumiHumanIDMapping_dbconn lumiMouseIDMapping_dbconn
  lumiRatIDMapping_dbconn lumiT metaTemplate newCustomReport newFigure
  newParagraph newSection newTable normalize.invariantset
  normalize.qspline openPage opts platformSigs plotIdeogram qplot
  theme_blank tracks value value.1 vsn2 writeReport
* checking Rd files ... OK
* checking Rd metadata ... OK
* checking Rd cross-references ... OK
* checking for missing documentation entries ... OK
* checking for code/documentation mismatches ... OK
* checking Rd \usage sections ... OK
* checking Rd contents ... OK
* checking for unstated dependencies in examples ... OK
* checking contents of ‘data’ directory ... OK
* checking data for non-ASCII characters ... OK
* checking data for ASCII and uncompressed saves ... OK
* checking line endings in C/C++/Fortran sources/headers ... OK
* checking compiled code ... NOTE
Note: information on .o files is not available
* checking sizes of PDF files under ‘inst/doc’ ... OK
* checking files in ‘vignettes’ ... OK
* checking examples ... OK
Examples with CPU or elapsed time > 5s
                           user system elapsed
squeezedVarOutlierMethod 61.222  1.067  63.033
summarize                37.118  2.882  40.959
limmaDE                  26.062  0.334  26.662
outlierplot              18.866  1.053  20.155
calculateOutlierStats    14.888  1.603  16.617
normaliseIllumina        12.983  0.918  13.991
calculateDetection       12.794  0.861  13.746
controlProbeDetection    12.324  0.945  13.454
identifyControlBeads     12.284  0.467  12.849
insertSectionData         9.883  1.093  11.081
makeQCTable               9.419  1.180  10.711
poscontPlot               9.136  0.878  10.119
imageplot                 8.672  0.788   9.665
showArrayMask             7.507  0.951   8.568
annotationInterface       6.618  0.520   7.183
addFeatureData            6.609  0.309   6.975
maplots                   5.187  1.567   6.809
quickSummary              5.832  0.571   6.434
* checking for unstated dependencies in vignettes ... OK
* checking package vignettes in ‘inst/doc’ ... OK
* checking running R code from vignettes ... SKIPPED
* checking re-building of vignette outputs ... SKIPPED
* checking PDF version of manual ... OK
* DONE
Status: 4 NOTEs
See
  ‘/Users/biocbuild/bbs-3.9-bioc/meat/beadarray.Rcheck/00check.log’
for details.
beadarray.Rcheck/00install.out
############################################################################## ############################################################################## ### ### Running command: ### ### /Library/Frameworks/R.framework/Versions/Current/Resources/bin/R CMD INSTALL beadarray ### ############################################################################## ############################################################################## * installing to library ‘/Library/Frameworks/R.framework/Versions/3.6/Resources/library’ * installing *source* package ‘beadarray’ ... ** libs clang -I"/Library/Frameworks/R.framework/Resources/include" -DNDEBUG -I/usr/local/include -fPIC -Wall -g -O2 -c BASH.c -o BASH.o clang -I"/Library/Frameworks/R.framework/Resources/include" -DNDEBUG -I/usr/local/include -fPIC -Wall -g -O2 -c HULK.c -o HULK.o clang -I"/Library/Frameworks/R.framework/Resources/include" -DNDEBUG -I/usr/local/include -fPIC -Wall -g -O2 -c determiningGridPositions.c -o determiningGridPositions.o clang -I"/Library/Frameworks/R.framework/Resources/include" -DNDEBUG -I/usr/local/include -fPIC -Wall -g -O2 -c findAllOutliers.c -o findAllOutliers.o clang -I"/Library/Frameworks/R.framework/Resources/include" -DNDEBUG -I/usr/local/include -fPIC -Wall -g -O2 -c imageProcessing.c -o imageProcessing.o clang -dynamiclib -Wl,-headerpad_max_install_names -undefined dynamic_lookup -single_module -multiply_defined suppress -L/Library/Frameworks/R.framework/Resources/lib -L/usr/local/lib -o beadarray.so BASH.o HULK.o determiningGridPositions.o findAllOutliers.o imageProcessing.o -F/Library/Frameworks/R.framework/.. -framework R -Wl,-framework -Wl,CoreFoundation installing to /Library/Frameworks/R.framework/Versions/3.6/Resources/library/beadarray/libs ** R ** data *** moving datasets to lazyload DB ** inst ** byte-compile and prepare package for lazy loading ** help *** installing help indices ** building package indices ** installing vignettes ** testing if installed package can be loaded * DONE (beadarray)
beadarray.Rcheck/beadarray-Ex.timings
| name | user | system | elapsed | |
| BASH | 0 | 0 | 0 | |
| BASHCompact | 0.000 | 0.001 | 0.000 | |
| BASHDiffuse | 0 | 0 | 0 | |
| BASHExtended | 0.001 | 0.000 | 0.000 | |
| GEO | 0 | 0 | 0 | |
| GEOtemplate | 0.003 | 0.001 | 0.005 | |
| HULK | 0 | 0 | 0 | |
| addFeatureData | 6.609 | 0.309 | 6.975 | |
| annotationInterface | 6.618 | 0.520 | 7.183 | |
| backgroundCorrectSingleSection | 0.000 | 0.001 | 0.001 | |
| beadarrayUsersGuide | 0.002 | 0.000 | 0.002 | |
| boxplot | 4.030 | 0.243 | 4.295 | |
| calculateDetection | 12.794 | 0.861 | 13.746 | |
| calculateOutlierStats | 14.888 | 1.603 | 16.617 | |
| class-beadLevelData | 3.352 | 0.372 | 3.761 | |
| class-illuminaChannel | 0.003 | 0.000 | 0.004 | |
| combine | 3.798 | 0.592 | 4.496 | |
| controlProbeDetection | 12.324 | 0.945 | 13.454 | |
| createTargetsFile | 0 | 0 | 0 | |
| expressionQCPipeline | 0.022 | 0.000 | 0.022 | |
| generateNeighbours | 0.000 | 0.000 | 0.001 | |
| getBeadData | 2.530 | 0.243 | 2.799 | |
| identifyControlBeads | 12.284 | 0.467 | 12.849 | |
| illuminaOutlierMethod | 3.727 | 0.485 | 4.262 | |
| imageplot | 8.672 | 0.788 | 9.665 | |
| insertBeadData | 3.472 | 0.411 | 3.934 | |
| insertSectionData | 9.883 | 1.093 | 11.081 | |
| limmaDE | 26.062 | 0.334 | 26.662 | |
| makeControlProfile | 0.376 | 0.006 | 0.385 | |
| makeQCTable | 9.419 | 1.180 | 10.711 | |
| maplots | 5.187 | 1.567 | 6.809 | |
| medianNormalise | 1.946 | 0.163 | 2.127 | |
| metrics | 2.459 | 0.235 | 2.709 | |
| noOutlierMethod | 2.501 | 0.187 | 2.705 | |
| normaliseIllumina | 12.983 | 0.918 | 13.991 | |
| numBeads | 2.503 | 0.252 | 2.783 | |
| outlierplot | 18.866 | 1.053 | 20.155 | |
| plotBeadIntensities | 3.605 | 0.434 | 4.080 | |
| plotBeadLocations | 2.815 | 0.370 | 3.215 | |
| plotChipLayout | 0 | 0 | 0 | |
| plotMAXY | 0 | 0 | 0 | |
| poscontPlot | 9.136 | 0.878 | 10.119 | |
| quickSummary | 5.832 | 0.571 | 6.434 | |
| readBeadSummaryData | 0.000 | 0.000 | 0.001 | |
| sectionNames | 2.347 | 0.279 | 2.670 | |
| showArrayMask | 7.507 | 0.951 | 8.568 | |
| squeezedVarOutlierMethod | 61.222 | 1.067 | 63.033 | |
| summarize | 37.118 | 2.882 | 40.959 | |
| transformationFunctions | 3.544 | 0.550 | 4.113 | |
| weightsOutlierMethod | 0 | 0 | 0 | |