| Back to Multiple platform build/check report for BioC 3.9 |
|
This page was generated on 2019-04-09 12:51:25 -0400 (Tue, 09 Apr 2019).
| Package 118/1703 | Hostname | OS / Arch | INSTALL | BUILD | CHECK | BUILD BIN | ||||||
| beadarray 2.33.2 Mark Dunning
| malbec2 | Linux (Ubuntu 18.04.2 LTS) / x86_64 | OK | OK | OK | |||||||
| tokay2 | Windows Server 2012 R2 Standard / x64 | OK | OK | OK | OK | |||||||
| celaya2 | OS X 10.11.6 El Capitan / x86_64 | OK | OK | [ OK ] | OK | |||||||
| merida2 | OS X 10.11.6 El Capitan / x86_64 | OK | OK | OK | OK |
| Package: beadarray |
| Version: 2.33.2 |
| Command: /Library/Frameworks/R.framework/Versions/Current/Resources/bin/R CMD check --install=check:beadarray.install-out.txt --library=/Library/Frameworks/R.framework/Versions/Current/Resources/library --no-vignettes --timings beadarray_2.33.2.tar.gz |
| StartedAt: 2019-04-09 00:05:41 -0400 (Tue, 09 Apr 2019) |
| EndedAt: 2019-04-09 00:16:02 -0400 (Tue, 09 Apr 2019) |
| EllapsedTime: 620.9 seconds |
| RetCode: 0 |
| Status: OK |
| CheckDir: beadarray.Rcheck |
| Warnings: 0 |
##############################################################################
##############################################################################
###
### Running command:
###
### /Library/Frameworks/R.framework/Versions/Current/Resources/bin/R CMD check --install=check:beadarray.install-out.txt --library=/Library/Frameworks/R.framework/Versions/Current/Resources/library --no-vignettes --timings beadarray_2.33.2.tar.gz
###
##############################################################################
##############################################################################
* using log directory ‘/Users/biocbuild/bbs-3.9-bioc/meat/beadarray.Rcheck’
* using R Under development (unstable) (2019-03-18 r76245)
* using platform: x86_64-apple-darwin15.6.0 (64-bit)
* using session charset: UTF-8
* using option ‘--no-vignettes’
* checking for file ‘beadarray/DESCRIPTION’ ... OK
* this is package ‘beadarray’ version ‘2.33.2’
* checking package namespace information ... OK
* checking package dependencies ... OK
* checking if this is a source package ... OK
* checking if there is a namespace ... OK
* checking for hidden files and directories ... OK
* checking for portable file names ... OK
* checking for sufficient/correct file permissions ... OK
* checking whether package ‘beadarray’ can be installed ... OK
* checking installed package size ... OK
* checking package directory ... OK
* checking ‘build’ directory ... OK
* checking DESCRIPTION meta-information ... OK
* checking top-level files ... OK
* checking for left-over files ... OK
* checking index information ... OK
* checking package subdirectories ... OK
* checking R files for non-ASCII characters ... OK
* checking R files for syntax errors ... OK
* checking whether the package can be loaded ... OK
* checking whether the package can be loaded with stated dependencies ... OK
* checking whether the package can be unloaded cleanly ... OK
* checking whether the namespace can be loaded with stated dependencies ... OK
* checking whether the namespace can be unloaded cleanly ... OK
* checking dependencies in R code ... NOTE
Package in Depends field not imported from: ‘hexbin’
These packages need to be imported from (in the NAMESPACE file)
for when this namespace is loaded but not attached.
Unexported objects imported by ':::' calls:
‘BeadDataPackR:::combineFiles’ ‘BeadDataPackR:::readHeader’
‘Biobase:::assayDataStorageMode’
See the note in ?`:::` about the use of this operator.
* checking S3 generic/method consistency ... OK
* checking replacement functions ... OK
* checking foreign function calls ... NOTE
Foreign function call to a different package:
.Call("roundLocsFileValues", ..., PACKAGE = "BeadDataPackR")
See chapter ‘System and foreign language interfaces’ in the ‘Writing R
Extensions’ manual.
* checking R code for possible problems ... NOTE
combinedControlPlot: no visible binding for global variable ‘Control’
combinedControlPlot: no visible binding for global variable ‘Negative’
combinedControlPlot: no visible binding for global variable ‘ID’
combinedControlPlot: no visible binding for global variable
‘Log2Intensity’
combinedControlPlot: no visible binding for global variable
‘ControlType’
combinedControlPlot: no visible binding for global variable ‘Masked’
createGEOMeta: no visible binding for global variable ‘metaTemplate’
expressionQCPipeline: no visible global function definition for
‘openPage’
expressionQCPipeline: no visible global function definition for
‘hwrite’
expressionQCPipeline: no visible global function definition for
‘hwriteImage’
expressionQCPipeline: no visible global function definition for
‘closePage’
getPlatformSigs: no visible global function definition for
‘lumiHumanIDMapping_dbconn’
getPlatformSigs: no visible global function definition for
‘dbListTables’
getPlatformSigs: no visible global function definition for
‘dbListFields’
getPlatformSigs: no visible global function definition for ‘dbGetQuery’
getPlatformSigs: no visible global function definition for
‘lumiMouseIDMapping_dbconn’
getPlatformSigs: no visible global function definition for
‘lumiRatIDMapping_dbconn’
imageplot: no visible binding for global variable ‘Var1’
imageplot: no visible binding for global variable ‘Var2’
imageplot: no visible binding for global variable ‘value’
makeReport: no visible binding for global variable ‘Nozzle.R1’
makeReport: no visible binding for global variable ‘ggbio’
makeReport: no visible global function definition for ‘newCustomReport’
makeReport: no visible global function definition for ‘newSection’
makeReport: no visible global function definition for ‘newTable’
makeReport: no visible global function definition for ‘newParagraph’
makeReport: no visible global function definition for ‘addTo’
makeReport: no visible global function definition for ‘autoplot’
makeReport: no visible global function definition for ‘plotIdeogram’
makeReport: no visible global function definition for ‘tracks’
makeReport: no visible global function definition for ‘newFigure’
makeReport: no visible binding for global variable ‘IMAGE.TYPE.RASTER’
makeReport: no visible binding for global variable ‘PROTECTION.PUBLIC’
makeReport: no visible binding for global variable ‘value’
makeReport: no visible global function definition for ‘writeReport’
maplots: no visible binding for global variable ‘value.1’
maplots: no visible binding for global variable ‘value’
normaliseIllumina: no visible global function definition for ‘lumiT’
normaliseIllumina: no visible global function definition for
‘normalize.qspline’
normaliseIllumina: no visible global function definition for ‘vsn2’
plotBeadLocations2: no visible global function definition for ‘qplot’
plotBeadLocations2: no visible global function definition for ‘opts’
plotBeadLocations2: no visible global function definition for
‘theme_blank’
plotProbe: no visible global function definition for ‘autoplot’
plotProbe: no visible binding for global variable ‘genesymbol’
plotProbe: no visible global function definition for ‘tracks’
plotProbe: no visible binding for global variable ‘PROBEQUALITY’
rankInvariantNormalise: no visible global function definition for
‘normalize.invariantset’
suggestAnnotation: no visible binding for global variable
‘platformSigs’
suggestAnnotation_Vector: no visible binding for global variable
‘platformSigs’
[,ExpressionSetIllumina-ANY: no visible global function definition for
‘assayDataEnvLock’
boxplot,ExpressionSetIllumina: no visible binding for global variable
‘Var2’
boxplot,ExpressionSetIllumina: no visible binding for global variable
‘value’
plotMA,ExpressionSetIllumina: no visible binding for global variable
‘value.1’
plotMA,ExpressionSetIllumina: no visible binding for global variable
‘value’
Undefined global functions or variables:
Control ControlType ID IMAGE.TYPE.RASTER Log2Intensity Masked
Negative Nozzle.R1 PROBEQUALITY PROTECTION.PUBLIC Var1 Var2 addTo
assayDataEnvLock autoplot closePage dbGetQuery dbListFields
dbListTables genesymbol ggbio hwrite hwriteImage
lumiHumanIDMapping_dbconn lumiMouseIDMapping_dbconn
lumiRatIDMapping_dbconn lumiT metaTemplate newCustomReport newFigure
newParagraph newSection newTable normalize.invariantset
normalize.qspline openPage opts platformSigs plotIdeogram qplot
theme_blank tracks value value.1 vsn2 writeReport
* checking Rd files ... OK
* checking Rd metadata ... OK
* checking Rd cross-references ... OK
* checking for missing documentation entries ... OK
* checking for code/documentation mismatches ... OK
* checking Rd \usage sections ... OK
* checking Rd contents ... OK
* checking for unstated dependencies in examples ... OK
* checking contents of ‘data’ directory ... OK
* checking data for non-ASCII characters ... OK
* checking data for ASCII and uncompressed saves ... OK
* checking line endings in C/C++/Fortran sources/headers ... OK
* checking compiled code ... NOTE
Note: information on .o files is not available
* checking sizes of PDF files under ‘inst/doc’ ... OK
* checking files in ‘vignettes’ ... OK
* checking examples ... OK
Examples with CPU or elapsed time > 5s
user system elapsed
squeezedVarOutlierMethod 57.834 1.553 60.396
summarize 35.152 6.028 41.591
limmaDE 35.567 0.626 37.268
normaliseIllumina 18.704 1.976 20.686
outlierplot 18.808 1.680 20.741
calculateOutlierStats 15.258 2.609 17.875
calculateDetection 15.029 2.061 17.090
controlProbeDetection 12.269 1.266 13.537
makeQCTable 10.472 2.240 13.347
identifyControlBeads 12.034 0.637 12.679
poscontPlot 11.098 0.999 12.405
insertSectionData 10.189 1.671 12.095
imageplot 9.073 1.073 10.621
showArrayMask 7.661 1.517 9.245
maplots 6.245 2.914 9.240
addFeatureData 8.418 0.661 9.163
quickSummary 7.260 1.027 8.376
annotationInterface 7.026 0.909 7.936
transformationFunctions 4.301 1.027 5.328
insertBeadData 4.526 0.669 5.262
boxplot 4.711 0.477 5.188
illuminaOutlierMethod 4.151 0.900 5.172
plotBeadIntensities 4.240 0.784 5.029
* checking for unstated dependencies in vignettes ... OK
* checking package vignettes in ‘inst/doc’ ... OK
* checking running R code from vignettes ... SKIPPED
* checking re-building of vignette outputs ... SKIPPED
* checking PDF version of manual ... OK
* DONE
Status: 4 NOTEs
See
‘/Users/biocbuild/bbs-3.9-bioc/meat/beadarray.Rcheck/00check.log’
for details.
beadarray.Rcheck/00install.out
############################################################################## ############################################################################## ### ### Running command: ### ### /Library/Frameworks/R.framework/Versions/Current/Resources/bin/R CMD INSTALL beadarray ### ############################################################################## ############################################################################## * installing to library ‘/Library/Frameworks/R.framework/Versions/3.6/Resources/library’ * installing *source* package ‘beadarray’ ... ** using staged installation ** libs clang -I"/Library/Frameworks/R.framework/Resources/include" -DNDEBUG -I/usr/local/include -fPIC -Wall -g -O2 -c BASH.c -o BASH.o clang -I"/Library/Frameworks/R.framework/Resources/include" -DNDEBUG -I/usr/local/include -fPIC -Wall -g -O2 -c HULK.c -o HULK.o clang -I"/Library/Frameworks/R.framework/Resources/include" -DNDEBUG -I/usr/local/include -fPIC -Wall -g -O2 -c determiningGridPositions.c -o determiningGridPositions.o clang -I"/Library/Frameworks/R.framework/Resources/include" -DNDEBUG -I/usr/local/include -fPIC -Wall -g -O2 -c findAllOutliers.c -o findAllOutliers.o clang -I"/Library/Frameworks/R.framework/Resources/include" -DNDEBUG -I/usr/local/include -fPIC -Wall -g -O2 -c imageProcessing.c -o imageProcessing.o clang -dynamiclib -Wl,-headerpad_max_install_names -undefined dynamic_lookup -single_module -multiply_defined suppress -L/Library/Frameworks/R.framework/Resources/lib -L/usr/local/lib -o beadarray.so BASH.o HULK.o determiningGridPositions.o findAllOutliers.o imageProcessing.o -F/Library/Frameworks/R.framework/.. -framework R -Wl,-framework -Wl,CoreFoundation installing to /Library/Frameworks/R.framework/Versions/3.6/Resources/library/00LOCK-beadarray/00new/beadarray/libs ** R ** data *** moving datasets to lazyload DB ** inst ** byte-compile and prepare package for lazy loading ** help *** installing help indices ** building package indices ** installing vignettes ** testing if installed package can be loaded from temporary location ** checking absolute paths in shared objects and dynamic libraries ** testing if installed package can be loaded from final location ** testing if installed package keeps a record of temporary installation path * DONE (beadarray)
beadarray.Rcheck/beadarray-Ex.timings
| name | user | system | elapsed | |
| BASH | 0.000 | 0.001 | 0.001 | |
| BASHCompact | 0 | 0 | 0 | |
| BASHDiffuse | 0.000 | 0.000 | 0.001 | |
| BASHExtended | 0.000 | 0.001 | 0.001 | |
| GEO | 0 | 0 | 0 | |
| GEOtemplate | 0.003 | 0.002 | 0.004 | |
| HULK | 0 | 0 | 0 | |
| addFeatureData | 8.418 | 0.661 | 9.163 | |
| annotationInterface | 7.026 | 0.909 | 7.936 | |
| backgroundCorrectSingleSection | 0.001 | 0.001 | 0.001 | |
| beadarrayUsersGuide | 0.002 | 0.001 | 0.002 | |
| boxplot | 4.711 | 0.477 | 5.188 | |
| calculateDetection | 15.029 | 2.061 | 17.090 | |
| calculateOutlierStats | 15.258 | 2.609 | 17.875 | |
| class-beadLevelData | 3.368 | 0.714 | 4.082 | |
| class-illuminaChannel | 0.003 | 0.001 | 0.003 | |
| combine | 3.859 | 0.872 | 4.731 | |
| controlProbeDetection | 12.269 | 1.266 | 13.537 | |
| createTargetsFile | 0 | 0 | 0 | |
| expressionQCPipeline | 0.037 | 0.002 | 0.038 | |
| generateNeighbours | 0.001 | 0.001 | 0.000 | |
| getBeadData | 3.314 | 0.607 | 3.921 | |
| identifyControlBeads | 12.034 | 0.637 | 12.679 | |
| illuminaOutlierMethod | 4.151 | 0.900 | 5.172 | |
| imageplot | 9.073 | 1.073 | 10.621 | |
| insertBeadData | 4.526 | 0.669 | 5.262 | |
| insertSectionData | 10.189 | 1.671 | 12.095 | |
| limmaDE | 35.567 | 0.626 | 37.268 | |
| makeControlProfile | 0.558 | 0.011 | 0.653 | |
| makeQCTable | 10.472 | 2.240 | 13.347 | |
| maplots | 6.245 | 2.914 | 9.240 | |
| medianNormalise | 1.890 | 0.233 | 2.123 | |
| metrics | 2.370 | 0.382 | 2.752 | |
| noOutlierMethod | 2.451 | 0.300 | 2.750 | |
| normaliseIllumina | 18.704 | 1.976 | 20.686 | |
| numBeads | 2.745 | 0.371 | 3.116 | |
| outlierplot | 18.808 | 1.680 | 20.741 | |
| plotBeadIntensities | 4.240 | 0.784 | 5.029 | |
| plotBeadLocations | 3.977 | 0.612 | 4.589 | |
| plotChipLayout | 0.000 | 0.000 | 0.001 | |
| plotMAXY | 0.000 | 0.001 | 0.001 | |
| poscontPlot | 11.098 | 0.999 | 12.405 | |
| quickSummary | 7.260 | 1.027 | 8.376 | |
| readBeadSummaryData | 0.001 | 0.000 | 0.001 | |
| sectionNames | 2.528 | 0.362 | 2.902 | |
| showArrayMask | 7.661 | 1.517 | 9.245 | |
| squeezedVarOutlierMethod | 57.834 | 1.553 | 60.396 | |
| summarize | 35.152 | 6.028 | 41.591 | |
| transformationFunctions | 4.301 | 1.027 | 5.328 | |
| weightsOutlierMethod | 0 | 0 | 0 | |