| Back to Multiple platform build/check report for BioC 3.9 | 
 | 
This page was generated on 2019-04-09 11:57:32 -0400 (Tue, 09 Apr 2019).
| Package 112/1703 | Hostname | OS / Arch | INSTALL | BUILD | CHECK | BUILD BIN | ||||||
| baySeq 2.17.0 Thomas J. Hardcastle 
 | malbec2 | Linux (Ubuntu 18.04.2 LTS) / x86_64 | OK | OK | OK |  | ||||||
| tokay2 | Windows Server 2012 R2 Standard / x64 | OK | [ OK ] | OK | OK |  | ||||||
| celaya2 | OS X 10.11.6 El Capitan / x86_64 | OK | OK | OK | OK |  | ||||||
| merida2 | OS X 10.11.6 El Capitan / x86_64 | OK | OK | OK | OK | 
| Package: baySeq | 
| Version: 2.17.0 | 
| Command: chmod a+r baySeq -R && C:\Users\biocbuild\bbs-3.9-bioc\R\bin\R.exe CMD build --keep-empty-dirs --no-resave-data baySeq | 
| StartedAt: 2019-04-08 21:19:22 -0400 (Mon, 08 Apr 2019) | 
| EndedAt: 2019-04-08 21:24:35 -0400 (Mon, 08 Apr 2019) | 
| EllapsedTime: 313.1 seconds | 
| RetCode: 0 | 
| Status: OK | 
| PackageFile: baySeq_2.17.0.tar.gz | 
| PackageFileSize: 714.9 KiB | 
##############################################################################
##############################################################################
###
### Running command:
###
###   chmod a+r baySeq -R && C:\Users\biocbuild\bbs-3.9-bioc\R\bin\R.exe CMD build --keep-empty-dirs --no-resave-data baySeq
###
##############################################################################
##############################################################################
* checking for file 'baySeq/DESCRIPTION' ... OK
* preparing 'baySeq':
* checking DESCRIPTION meta-information ... OK
* installing the package to build vignettes
* creating vignettes ... OK
Warning: 'inst/doc' file
    'baySeq_generic.R'
  ignored as vignettes have been rebuilt.
  Run R CMD build with --no-build-vignettes to prevent rebuilding.
* checking for LF line-endings in source and make files and shell scripts
* checking for empty or unneeded directories
* looking to see if a 'data/datalist' file should be added
* building 'baySeq_2.17.0.tar.gz'