| Back to Multiple platform build/check report for BioC 3.9 | 
 | 
This page was generated on 2019-04-09 11:57:32 -0400 (Tue, 09 Apr 2019).
| Package 112/1703 | Hostname | OS / Arch | INSTALL | BUILD | CHECK | BUILD BIN | ||||||
| baySeq 2.17.0 Thomas J. Hardcastle 
 | malbec2 | Linux (Ubuntu 18.04.2 LTS) / x86_64 | OK | OK | OK |  | ||||||
| tokay2 | Windows Server 2012 R2 Standard / x64 | OK | OK | OK | [ OK ] |  | ||||||
| celaya2 | OS X 10.11.6 El Capitan / x86_64 | OK | OK | OK | OK |  | ||||||
| merida2 | OS X 10.11.6 El Capitan / x86_64 | OK | OK | OK | OK | 
| Package: baySeq | 
| Version: 2.17.0 | 
| Command: rm -rf baySeq.buildbin-libdir && mkdir baySeq.buildbin-libdir && C:\Users\biocbuild\bbs-3.9-bioc\R\bin\R.exe CMD INSTALL --merge-multiarch --build --library=baySeq.buildbin-libdir baySeq_2.17.0.tar.gz | 
| StartedAt: 2019-04-09 07:28:30 -0400 (Tue, 09 Apr 2019) | 
| EndedAt: 2019-04-09 07:28:56 -0400 (Tue, 09 Apr 2019) | 
| EllapsedTime: 26.0 seconds | 
| RetCode: 0 | 
| Status: OK | 
| PackageFile: baySeq_2.17.0.zip | 
| PackageFileSize: 1.167 MiB | 
##############################################################################
##############################################################################
###
### Running command:
###
###   rm -rf baySeq.buildbin-libdir && mkdir baySeq.buildbin-libdir && C:\Users\biocbuild\bbs-3.9-bioc\R\bin\R.exe CMD INSTALL --merge-multiarch --build --library=baySeq.buildbin-libdir baySeq_2.17.0.tar.gz
###
##############################################################################
##############################################################################
install for i386
* installing *source* package 'baySeq' ...
** R
** data
** inst
** byte-compile and prepare package for lazy loading
** help
*** installing help indices
  converting help for package 'baySeq'
    finding HTML links ... done
    CDPost                                  html  
    CDPriors                                html  
    allModels                               html  
    baySeq-classes                          html  
    baySeq-package                          html  
    bimodalSep                              html  
    densityFunction                         html  
    densityFunctions                        html  
    getLibsizes                             html  
    getLikelihoods                          html  
    getPosteriors                           html  
    getPriors                               html  
    getTPs                                  html  
    makeOrderings                           html  
    marginaliseEqual                        html  
    marginalisePairwise                     html  
    methObservables                         html  
    mobAnnotation                           html  
    mobData                                 html  
    pairData                                html  
    plotMA.CD                               html  
    plotNullPrior                           html  
    plotPosteriors                          html  
    plotPriors                              html  
    selectTop                               html  
    simData                                 html  
    summarisePosteriors                     html  
    topCounts                               html  
    zimData                                 html  
** building package indices
** installing vignettes
** testing if installed package can be loaded from temporary location
** testing if installed package can be loaded from final location
** testing if installed package keeps a record of temporary installation path
install for x64
* installing *source* package 'baySeq' ...
** testing if installed package can be loaded
* MD5 sums
packaged installation of 'baySeq' as baySeq_2.17.0.zip
* DONE (baySeq)