Back to Multiple platform build/check report for BioC 3.9
[A]BCDEFGHIJKLMNOPQRSTUVWXYZ

BUILD BIN report for arrayQualityMetrics on celaya2

This page was generated on 2019-01-22 12:33:19 -0500 (Tue, 22 Jan 2019).

Package 73/1652HostnameOS / ArchINSTALLBUILDCHECKBUILD BIN
arrayQualityMetrics 3.39.0
Mike Smith
Snapshot Date: 2019-01-21 16:46:47 -0500 (Mon, 21 Jan 2019)
URL: https://git.bioconductor.org/packages/arrayQualityMetrics
Branch: master
Last Commit: f9dbc77
Last Changed Date: 2018-10-30 11:54:27 -0500 (Tue, 30 Oct 2018)
malbec2 Linux (Ubuntu 18.04.1 LTS) / x86_64  OK  OK  OK UNNEEDED, same version exists in internal repository
tokay2 Windows Server 2012 R2 Standard / x64  OK  OK  OK  OK UNNEEDED, same version exists in internal repository
merida2 OS X 10.11.6 El Capitan / x86_64  ERROR  ERROR  skipped  skipped 
celaya2 OS X 10.11.6 El Capitan / x86_64  OK  OK  OK [ OK ]

Summary

Package: arrayQualityMetrics
Version: 3.39.0
Command: rm -rf arrayQualityMetrics.buildbin-libdir && mkdir arrayQualityMetrics.buildbin-libdir && /Users/biocbuild/BBS/utils/build-universal.sh arrayQualityMetrics_3.39.0.tar.gz /Library/Frameworks/R.framework/Versions/Current/Resources/bin/R arrayQualityMetrics.buildbin-libdir
StartedAt: 2019-01-22 06:22:08 -0500 (Tue, 22 Jan 2019)
EndedAt: 2019-01-22 06:22:39 -0500 (Tue, 22 Jan 2019)
EllapsedTime: 31.7 seconds
RetCode: 0
Status:  OK 
PackageFile: arrayQualityMetrics_3.39.0.tgz
PackageFileSize: 546.9 KiB

Command output

##############################################################################
##############################################################################
###
### Running command:
###
###   rm -rf arrayQualityMetrics.buildbin-libdir && mkdir arrayQualityMetrics.buildbin-libdir && /Users/biocbuild/BBS/utils/build-universal.sh arrayQualityMetrics_3.39.0.tar.gz /Library/Frameworks/R.framework/Versions/Current/Resources/bin/R arrayQualityMetrics.buildbin-libdir
###
##############################################################################
##############################################################################


>>>>>>> 
>>>>>>> INSTALLATION WITH 'R CMD INSTALL --preclean --no-multiarch --library=arrayQualityMetrics.buildbin-libdir arrayQualityMetrics_3.39.0.tar.gz'
>>>>>>> 

* installing *source* package ‘arrayQualityMetrics’ ...
** R
** inst
** byte-compile and prepare package for lazy loading
** help
*** installing help indices
** building package indices
** installing vignettes
** testing if installed package can be loaded
* DONE (arrayQualityMetrics)