| Back to Multiple platform build/check report for BioC 3.9 |
|
This page was generated on 2019-04-09 12:54:04 -0400 (Tue, 09 Apr 2019).
| Package 76/1703 | Hostname | OS / Arch | INSTALL | BUILD | CHECK | BUILD BIN | ||||||
| arrayQualityMetrics 3.39.1 Mike Smith
| malbec2 | Linux (Ubuntu 18.04.2 LTS) / x86_64 | OK | OK | OK | |||||||
| tokay2 | Windows Server 2012 R2 Standard / x64 | OK | OK | OK | OK | |||||||
| celaya2 | OS X 10.11.6 El Capitan / x86_64 | ERROR | [ ERROR ] | skipped | skipped | |||||||
| merida2 | OS X 10.11.6 El Capitan / x86_64 | ERROR | ERROR | skipped | skipped |
| Package: arrayQualityMetrics |
| Version: 3.39.1 |
| Command: /Library/Frameworks/R.framework/Versions/Current/Resources/bin/R CMD build --keep-empty-dirs --no-resave-data arrayQualityMetrics |
| StartedAt: 2019-04-08 19:37:12 -0400 (Mon, 08 Apr 2019) |
| EndedAt: 2019-04-08 19:37:19 -0400 (Mon, 08 Apr 2019) |
| EllapsedTime: 7.6 seconds |
| RetCode: 1 |
| Status: ERROR |
| PackageFile: None |
| PackageFileSize: NA |
##############################################################################
##############################################################################
###
### Running command:
###
### /Library/Frameworks/R.framework/Versions/Current/Resources/bin/R CMD build --keep-empty-dirs --no-resave-data arrayQualityMetrics
###
##############################################################################
##############################################################################
* checking for file ‘arrayQualityMetrics/DESCRIPTION’ ... OK
* preparing ‘arrayQualityMetrics’:
* checking DESCRIPTION meta-information ... OK
* installing the package to build vignettes
-----------------------------------
* installing *source* package ‘arrayQualityMetrics’ ...
** using staged installation
** R
** inst
** byte-compile and prepare package for lazy loading
Error in dyn.load(file, DLLpath = DLLpath, ...) :
unable to load shared object '/Library/Frameworks/R.framework/Versions/3.6/Resources/library/gdtools/libs/gdtools.so':
dlopen(/Library/Frameworks/R.framework/Versions/3.6/Resources/library/gdtools/libs/gdtools.so, 6): Symbol not found: _FT_Done_Face
Referenced from: /Library/Frameworks/R.framework/Versions/3.6/Resources/library/gdtools/libs/gdtools.so
Expected in: flat namespace
in /Library/Frameworks/R.framework/Versions/3.6/Resources/library/gdtools/libs/gdtools.so
Calls: <Anonymous> ... asNamespace -> loadNamespace -> library.dynam -> dyn.load
Execution halted
ERROR: lazy loading failed for package ‘arrayQualityMetrics’
* removing ‘/private/tmp/RtmpROwaNw/Rinst110417e40c118/arrayQualityMetrics’
-----------------------------------
ERROR: package installation failed