| Back to Multiple platform build/check report for BioC 3.9 |
|
This page was generated on 2019-04-09 11:54:12 -0400 (Tue, 09 Apr 2019).
| Package 68/1703 | Hostname | OS / Arch | INSTALL | BUILD | CHECK | BUILD BIN | ||||||
| apComplex 2.49.1 Denise Scholtens
| malbec2 | Linux (Ubuntu 18.04.2 LTS) / x86_64 | OK | OK | OK | |||||||
| tokay2 | Windows Server 2012 R2 Standard / x64 | [ OK ] | OK | OK | OK | |||||||
| celaya2 | OS X 10.11.6 El Capitan / x86_64 | OK | OK | OK | OK | |||||||
| merida2 | OS X 10.11.6 El Capitan / x86_64 | OK | OK | OK | OK |
| Package: apComplex |
| Version: 2.49.1 |
| Command: C:\cygwin\bin\curl.exe -O https://malbec2.bioconductor.org/BBS/3.9/bioc/src/contrib/apComplex_2.49.1.tar.gz && rm -rf apComplex.buildbin-libdir && mkdir apComplex.buildbin-libdir && C:\Users\biocbuild\bbs-3.9-bioc\R\bin\R.exe CMD INSTALL --merge-multiarch --build --library=apComplex.buildbin-libdir apComplex_2.49.1.tar.gz && C:\Users\biocbuild\bbs-3.9-bioc\R\bin\R.exe CMD INSTALL apComplex_2.49.1.zip && rm apComplex_2.49.1.tar.gz apComplex_2.49.1.zip |
| StartedAt: 2019-04-08 19:31:25 -0400 (Mon, 08 Apr 2019) |
| EndedAt: 2019-04-08 19:32:14 -0400 (Mon, 08 Apr 2019) |
| EllapsedTime: 49.0 seconds |
| RetCode: 0 |
| Status: OK |
##############################################################################
##############################################################################
###
### Running command:
###
### C:\cygwin\bin\curl.exe -O https://malbec2.bioconductor.org/BBS/3.9/bioc/src/contrib/apComplex_2.49.1.tar.gz && rm -rf apComplex.buildbin-libdir && mkdir apComplex.buildbin-libdir && C:\Users\biocbuild\bbs-3.9-bioc\R\bin\R.exe CMD INSTALL --merge-multiarch --build --library=apComplex.buildbin-libdir apComplex_2.49.1.tar.gz && C:\Users\biocbuild\bbs-3.9-bioc\R\bin\R.exe CMD INSTALL apComplex_2.49.1.zip && rm apComplex_2.49.1.tar.gz apComplex_2.49.1.zip
###
##############################################################################
##############################################################################
% Total % Received % Xferd Average Speed Time Time Time Current
Dload Upload Total Spent Left Speed
0 0 0 0 0 0 0 0 --:--:-- --:--:-- --:--:-- 0
100 471k 100 471k 0 0 8037k 0 --:--:-- --:--:-- --:--:-- 9068k
install for i386
* installing *source* package 'apComplex' ...
** R
** data
** byte-compile and prepare package for lazy loading
** help
*** installing help indices
converting help for package 'apComplex'
finding HTML links ... done
FilteredEstimates html
HMSPCI html
Krogan html
LCjoin html
MBMEcHMSPCI html
MBMEcKrogan html
MBMEcTAP html
TAP html
apEX html
bhmaxSubgraph html
findComplexes html
gavinBP2006 html
kroganBPMat2006 html
mergeComplexes html
plotComplex html
sortComplexes html
yNameTAP html
yTAP html
** building package indices
** installing vignettes
** testing if installed package can be loaded from temporary location
** testing if installed package can be loaded from final location
** testing if installed package keeps a record of temporary installation path
install for x64
* installing *source* package 'apComplex' ...
** testing if installed package can be loaded
* MD5 sums
packaged installation of 'apComplex' as apComplex_2.49.1.zip
* DONE (apComplex)
* installing to library 'C:/Users/biocbuild/bbs-3.9-bioc/R/library'
package 'apComplex' successfully unpacked and MD5 sums checked