| Back to Multiple platform build/check report for BioC 3.9 | 
 | 
This page was generated on 2019-04-09 13:22:52 -0400 (Tue, 09 Apr 2019).
| Package 68/1703 | Hostname | OS / Arch | INSTALL | BUILD | CHECK | BUILD BIN | ||||||
| apComplex 2.49.1 Denise Scholtens 
 | malbec2 | Linux (Ubuntu 18.04.2 LTS) / x86_64 | OK | OK | OK |  | ||||||
| tokay2 | Windows Server 2012 R2 Standard / x64 | OK | OK | OK | OK |  | ||||||
| celaya2 | OS X 10.11.6 El Capitan / x86_64 | OK | OK | OK | OK |  | ||||||
| merida2 | OS X 10.11.6 El Capitan / x86_64 | OK | OK | [ OK ] | OK | 
| Package: apComplex | 
| Version: 2.49.1 | 
| Command: /Library/Frameworks/R.framework/Versions/Current/Resources/bin/R CMD check --install=check:apComplex.install-out.txt --library=/Library/Frameworks/R.framework/Versions/Current/Resources/library --no-vignettes --timings apComplex_2.49.1.tar.gz | 
| StartedAt: 2019-04-08 23:15:13 -0400 (Mon, 08 Apr 2019) | 
| EndedAt: 2019-04-08 23:16:45 -0400 (Mon, 08 Apr 2019) | 
| EllapsedTime: 92.4 seconds | 
| RetCode: 0 | 
| Status: OK | 
| CheckDir: apComplex.Rcheck | 
| Warnings: 0 | 
##############################################################################
##############################################################################
###
### Running command:
###
###   /Library/Frameworks/R.framework/Versions/Current/Resources/bin/R CMD check --install=check:apComplex.install-out.txt --library=/Library/Frameworks/R.framework/Versions/Current/Resources/library --no-vignettes --timings apComplex_2.49.1.tar.gz
###
##############################################################################
##############################################################################
* using log directory ‘/Users/biocbuild/bbs-3.9-bioc/meat/apComplex.Rcheck’
* using R Under development (unstable) (2018-11-27 r75683)
* using platform: x86_64-apple-darwin15.6.0 (64-bit)
* using session charset: UTF-8
* using option ‘--no-vignettes’
* checking for file ‘apComplex/DESCRIPTION’ ... OK
* this is package ‘apComplex’ version ‘2.49.1’
* checking package namespace information ... OK
* checking package dependencies ... OK
* checking if this is a source package ... OK
* checking if there is a namespace ... OK
* checking for hidden files and directories ... OK
* checking for portable file names ... OK
* checking for sufficient/correct file permissions ... OK
* checking whether package ‘apComplex’ can be installed ... OK
* checking installed package size ... OK
* checking package directory ... OK
* checking ‘build’ directory ... OK
* checking DESCRIPTION meta-information ... OK
* checking top-level files ... OK
* checking for left-over files ... OK
* checking index information ... OK
* checking package subdirectories ... OK
* checking R files for non-ASCII characters ... OK
* checking R files for syntax errors ... OK
* checking whether the package can be loaded ... OK
* checking whether the package can be loaded with stated dependencies ... OK
* checking whether the package can be unloaded cleanly ... OK
* checking whether the namespace can be loaded with stated dependencies ... OK
* checking whether the namespace can be unloaded cleanly ... OK
* checking dependencies in R code ... NOTE
Packages in Depends field not imported from:
  ‘RBGL’ ‘graph’
  These packages need to be imported from (in the NAMESPACE file)
  for when this namespace is loaded but not attached.
* checking S3 generic/method consistency ... OK
* checking replacement functions ... OK
* checking foreign function calls ... OK
* checking R code for possible problems ... NOTE
plotComplex: warning in mget(complexMembers, env = org.Sc.sgdGENENAME,
  ifnotfound = NA): partial argument match of 'env' to 'envir'
bhmaxSubgraph: no visible global function definition for ‘as’
bhmaxSubgraph: no visible global function definition for ‘ugraph’
bhmaxSubgraph: no visible global function definition for ‘maxClique’
plotComplex: no visible global function definition for ‘subGraph’
plotComplex: no visible global function definition for
  ‘removeSelfLoops’
plotComplex: no visible global function definition for ‘edgeNames’
plotComplex: no visible global function definition for ‘numEdges’
plotComplex: no visible global function definition for ‘degree’
Undefined global functions or variables:
  as degree edgeNames maxClique numEdges removeSelfLoops subGraph
  ugraph
Consider adding
  importFrom("methods", "as")
to your NAMESPACE file (and ensure that your DESCRIPTION Imports field
contains 'methods').
* checking Rd files ... OK
* checking Rd metadata ... OK
* checking Rd cross-references ... OK
* checking for missing documentation entries ... OK
* checking for code/documentation mismatches ... OK
* checking Rd \usage sections ... OK
* checking Rd contents ... OK
* checking for unstated dependencies in examples ... OK
* checking contents of ‘data’ directory ... OK
* checking data for non-ASCII characters ... OK
* checking data for ASCII and uncompressed saves ... OK
* checking sizes of PDF files under ‘inst/doc’ ... OK
* checking files in ‘vignettes’ ... OK
* checking examples ... OK
* checking for unstated dependencies in vignettes ... OK
* checking package vignettes in ‘inst/doc’ ... OK
* checking running R code from vignettes ... SKIPPED
* checking re-building of vignette outputs ... SKIPPED
* checking PDF version of manual ... OK
* DONE
Status: 2 NOTEs
See
  ‘/Users/biocbuild/bbs-3.9-bioc/meat/apComplex.Rcheck/00check.log’
for details.
apComplex.Rcheck/00install.out
############################################################################## ############################################################################## ### ### Running command: ### ### /Library/Frameworks/R.framework/Versions/Current/Resources/bin/R CMD INSTALL apComplex ### ############################################################################## ############################################################################## * installing to library ‘/Library/Frameworks/R.framework/Versions/3.6/Resources/library’ * installing *source* package ‘apComplex’ ... ** R ** data ** byte-compile and prepare package for lazy loading ** help *** installing help indices ** building package indices ** installing vignettes ** testing if installed package can be loaded * DONE (apComplex)
apComplex.Rcheck/apComplex-Ex.timings
| name | user | system | elapsed | |
| FilteredEstimates | 0.090 | 0.011 | 0.136 | |
| HMSPCI | 0.052 | 0.016 | 0.070 | |
| Krogan | 0.004 | 0.001 | 0.005 | |
| LCjoin | 0.309 | 0.016 | 0.328 | |
| MBMEcHMSPCI | 0.005 | 0.002 | 0.007 | |
| MBMEcKrogan | 0.002 | 0.001 | 0.004 | |
| MBMEcTAP | 0.008 | 0.002 | 0.010 | |
| TAP | 0.030 | 0.014 | 0.046 | |
| apEX | 0.004 | 0.002 | 0.006 | |
| bhmaxSubgraph | 0.068 | 0.012 | 0.082 | |
| findComplexes | 0.031 | 0.010 | 0.042 | |
| gavinBP2006 | 0.135 | 0.048 | 0.185 | |
| kroganBPMat2006 | 0.337 | 0.093 | 0.434 | |
| mergeComplexes | 0.029 | 0.022 | 0.050 | |
| plotComplex | 0.119 | 0.010 | 0.130 | |
| sortComplexes | 0.026 | 0.009 | 0.035 | |
| yNameTAP | 0.015 | 0.035 | 0.050 | |
| yTAP | 0.007 | 0.036 | 0.043 | |