| Back to Multiple platform build/check report for BioC 3.9 |
|
This page was generated on 2019-04-09 12:44:30 -0400 (Tue, 09 Apr 2019).
| Package 1692/1703 | Hostname | OS / Arch | INSTALL | BUILD | CHECK | BUILD BIN | ||||||
| Xeva 0.99.19 Benjamin Haibe-Kains
| malbec2 | Linux (Ubuntu 18.04.2 LTS) / x86_64 | ERROR | ERROR | skipped | |||||||
| tokay2 | Windows Server 2012 R2 Standard / x64 | ERROR | [ ERROR ] | skipped | skipped | |||||||
| celaya2 | OS X 10.11.6 El Capitan / x86_64 | ERROR | ERROR | skipped | skipped | |||||||
| merida2 | OS X 10.11.6 El Capitan / x86_64 | OK | OK | OK | OK |
| Package: Xeva |
| Version: 0.99.19 |
| Command: chmod a+r Xeva -R && C:\Users\biocbuild\bbs-3.9-bioc\R\bin\R.exe CMD build --keep-empty-dirs --no-resave-data Xeva |
| StartedAt: 2019-04-09 00:47:35 -0400 (Tue, 09 Apr 2019) |
| EndedAt: 2019-04-09 00:47:57 -0400 (Tue, 09 Apr 2019) |
| EllapsedTime: 21.7 seconds |
| RetCode: 1 |
| Status: ERROR |
| PackageFile: Xeva_0.99.19.tar.gz |
| PackageFileSize: 764.3 KiB |
##############################################################################
##############################################################################
###
### Running command:
###
### chmod a+r Xeva -R && C:\Users\biocbuild\bbs-3.9-bioc\R\bin\R.exe CMD build --keep-empty-dirs --no-resave-data Xeva
###
##############################################################################
##############################################################################
* checking for file 'Xeva/DESCRIPTION' ... OK
* preparing 'Xeva':
* checking DESCRIPTION meta-information ... OK
* installing the package to build vignettes
-----------------------------------
ERROR: dependency 'PharmacoGx' is not available for package 'Xeva'
* removing 'C:/Users/biocbuild/bbs-3.9-bioc/tmpdir/RtmpAJNOeq/Rinst23b05eed4a42/Xeva'
-----------------------------------
ERROR: package installation failed