| Back to Multiple platform build/check report for BioC 3.9 |
|
This page was generated on 2019-04-09 13:21:53 -0400 (Tue, 09 Apr 2019).
| Package 1692/1703 | Hostname | OS / Arch | INSTALL | BUILD | CHECK | BUILD BIN | ||||||
| Xeva 0.99.19 Benjamin Haibe-Kains
| malbec2 | Linux (Ubuntu 18.04.2 LTS) / x86_64 | ERROR | ERROR | skipped | |||||||
| tokay2 | Windows Server 2012 R2 Standard / x64 | ERROR | ERROR | skipped | skipped | |||||||
| celaya2 | OS X 10.11.6 El Capitan / x86_64 | ERROR | [ ERROR ] | skipped | skipped | |||||||
| merida2 | OS X 10.11.6 El Capitan / x86_64 | OK | OK | OK | OK |
| Package: Xeva |
| Version: 0.99.19 |
| Command: /Library/Frameworks/R.framework/Versions/Current/Resources/bin/R CMD build --keep-empty-dirs --no-resave-data Xeva |
| StartedAt: 2019-04-08 23:30:34 -0400 (Mon, 08 Apr 2019) |
| EndedAt: 2019-04-08 23:30:42 -0400 (Mon, 08 Apr 2019) |
| EllapsedTime: 8.2 seconds |
| RetCode: 1 |
| Status: ERROR |
| PackageFile: None |
| PackageFileSize: NA |
##############################################################################
##############################################################################
###
### Running command:
###
### /Library/Frameworks/R.framework/Versions/Current/Resources/bin/R CMD build --keep-empty-dirs --no-resave-data Xeva
###
##############################################################################
##############################################################################
* checking for file ‘Xeva/DESCRIPTION’ ... OK
* preparing ‘Xeva’:
* checking DESCRIPTION meta-information ... OK
* installing the package to build vignettes
-----------------------------------
ERROR: dependency ‘PharmacoGx’ is not available for package ‘Xeva’
* removing ‘/private/tmp/Rtmp58Muj1/Rinst10a9e49e80048/Xeva’
-----------------------------------
ERROR: package installation failed