| Back to Multiple platform build/check report for BioC 3.9 |
|
This page was generated on 2019-04-09 12:41:47 -0400 (Tue, 09 Apr 2019).
| Package 1693/1703 | Hostname | OS / Arch | INSTALL | BUILD | CHECK | BUILD BIN | ||||||
| XINA 1.1.1 Lang Ho Lee
| malbec2 | Linux (Ubuntu 18.04.2 LTS) / x86_64 | OK | OK | OK | |||||||
| tokay2 | Windows Server 2012 R2 Standard / x64 | OK | OK | OK | [ OK ] | |||||||
| celaya2 | OS X 10.11.6 El Capitan / x86_64 | OK | OK | OK | OK | |||||||
| merida2 | OS X 10.11.6 El Capitan / x86_64 | OK | OK | OK | OK |
| Package: XINA |
| Version: 1.1.1 |
| Command: rm -rf XINA.buildbin-libdir && mkdir XINA.buildbin-libdir && C:\Users\biocbuild\bbs-3.9-bioc\R\bin\R.exe CMD INSTALL --merge-multiarch --build --library=XINA.buildbin-libdir XINA_1.1.1.tar.gz |
| StartedAt: 2019-04-09 09:11:38 -0400 (Tue, 09 Apr 2019) |
| EndedAt: 2019-04-09 09:12:16 -0400 (Tue, 09 Apr 2019) |
| EllapsedTime: 38.2 seconds |
| RetCode: 0 |
| Status: OK |
| PackageFile: XINA_1.1.1.zip |
| PackageFileSize: 1.416 MiB |
##############################################################################
##############################################################################
###
### Running command:
###
### rm -rf XINA.buildbin-libdir && mkdir XINA.buildbin-libdir && C:\Users\biocbuild\bbs-3.9-bioc\R\bin\R.exe CMD INSTALL --merge-multiarch --build --library=XINA.buildbin-libdir XINA_1.1.1.tar.gz
###
##############################################################################
##############################################################################
install for i386
* installing *source* package 'XINA' ...
** R
** data
** inst
** byte-compile and prepare package for lazy loading
** help
*** installing help indices
converting help for package 'XINA'
finding HTML links ... done
add_legend html
alluvial_enriched html
alluvial_enrichment_tests html
calculate_centrality_scores html
default_size html
draw_alluvial_plot html
example_clusters html
extract_data_column html
find_similar_clusters html
generate_count_table html
generate_superset html
get_color_for_nodes html
get_colors html
get_comigrations_by_name html
get_condition_biased_comigrations html
get_layout html
get_mTOR_proteins html
get_random_data html
get_stats html
get_theme_blank html
get_unknown_ppi_nodes html
gn html
gn_desc html
hprd_ppi html
length2 html
load_previous_results html
make_random_xina_data html
mutate_colors html
organize_clusters html
plot_NA html
plot_clusters html
plot_clusters_all html
plot_condition_compositions html
plot_enrichment_results html
rank_centrality html
string_example html
xina_analysis html
xina_clustering html
xina_enrichment html
xina_plot_all html
xina_plot_bycluster html
xina_plot_single html
xina_result_example html
** building package indices
** installing vignettes
** testing if installed package can be loaded from temporary location
** testing if installed package can be loaded from final location
** testing if installed package keeps a record of temporary installation path
install for x64
* installing *source* package 'XINA' ...
** testing if installed package can be loaded
* MD5 sums
packaged installation of 'XINA' as XINA_1.1.1.zip
* DONE (XINA)