| Back to Multiple platform build/check report for BioC 3.9 |
|
This page was generated on 2019-04-09 12:01:19 -0400 (Tue, 09 Apr 2019).
| Package 1671/1703 | Hostname | OS / Arch | INSTALL | BUILD | CHECK | BUILD BIN | ||||||
| VariantTools 1.25.1 Michael Lawrence
| malbec2 | Linux (Ubuntu 18.04.2 LTS) / x86_64 | OK | OK | WARNINGS | |||||||
| tokay2 | Windows Server 2012 R2 Standard / x64 | OK | OK | WARNINGS | [ OK ] | |||||||
| celaya2 | OS X 10.11.6 El Capitan / x86_64 | OK | OK | WARNINGS | OK | |||||||
| merida2 | OS X 10.11.6 El Capitan / x86_64 | OK | OK | WARNINGS | OK |
| Package: VariantTools |
| Version: 1.25.1 |
| Command: rm -rf VariantTools.buildbin-libdir && mkdir VariantTools.buildbin-libdir && C:\Users\biocbuild\bbs-3.9-bioc\R\bin\R.exe CMD INSTALL --merge-multiarch --build --library=VariantTools.buildbin-libdir VariantTools_1.25.1.tar.gz |
| StartedAt: 2019-04-09 09:10:24 -0400 (Tue, 09 Apr 2019) |
| EndedAt: 2019-04-09 09:11:16 -0400 (Tue, 09 Apr 2019) |
| EllapsedTime: 51.9 seconds |
| RetCode: 0 |
| Status: OK |
| PackageFile: VariantTools_1.25.1.zip |
| PackageFileSize: 6.301 MiB |
##############################################################################
##############################################################################
###
### Running command:
###
### rm -rf VariantTools.buildbin-libdir && mkdir VariantTools.buildbin-libdir && C:\Users\biocbuild\bbs-3.9-bioc\R\bin\R.exe CMD INSTALL --merge-multiarch --build --library=VariantTools.buildbin-libdir VariantTools_1.25.1.tar.gz
###
##############################################################################
##############################################################################
install for i386
* installing *source* package 'VariantTools' ...
** R
** data
** inst
** byte-compile and prepare package for lazy loading
** help
*** installing help indices
converting help for package 'VariantTools'
finding HTML links ... done
FilterConstructors html
annnotateWithControlDepth html
callGenotypes html
callSampleSpecificVariants html
callVariants html
Rd warning: C:/Users/biocbuild/bbs-3.9-bioc/tmpdir/RtmpmSHquY/R.INSTALL2fb85d0926c3/VariantTools/man/callVariants.Rd:84: file link 'FilterRules' in package 'S4Vectors' does not exist and so has been treated as a topic
callWildtype html
concordance html
extractCoverageForPositions html
Rd warning: C:/Users/biocbuild/bbs-3.9-bioc/tmpdir/RtmpmSHquY/R.INSTALL2fb85d0926c3/VariantTools/man/extractCoverageForPositions.Rd:16: file link 'coverage' in package 'IRanges' does not exist and so has been treated as a topic
matchVariants html
pileupVariants html
Rd warning: C:/Users/biocbuild/bbs-3.9-bioc/tmpdir/RtmpmSHquY/R.INSTALL2fb85d0926c3/VariantTools/man/pileupVariants.Rd:21: file link 'PileupFiles' in package 'Rsamtools' does not exist and so has been treated as a topic
Rd warning: C:/Users/biocbuild/bbs-3.9-bioc/tmpdir/RtmpmSHquY/R.INSTALL2fb85d0926c3/VariantTools/man/pileupVariants.Rd:28: file link 'ApplyPileupsParam' in package 'Rsamtools' does not exist and so has been treated as a topic
postFilterVariants html
Rd warning: C:/Users/biocbuild/bbs-3.9-bioc/tmpdir/RtmpmSHquY/R.INSTALL2fb85d0926c3/VariantTools/man/postFilterVariants.Rd:50: file link 'FilterRules' in package 'S4Vectors' does not exist and so has been treated as a topic
qaVariants html
Rd warning: C:/Users/biocbuild/bbs-3.9-bioc/tmpdir/RtmpmSHquY/R.INSTALL2fb85d0926c3/VariantTools/man/qaVariants.Rd:51: file link 'FilterRules' in package 'S4Vectors' does not exist and so has been treated as a topic
tallyVariants html
finding level-2 HTML links ... done
Rd warning: C:/Users/biocbuild/bbs-3.9-bioc/tmpdir/RtmpmSHquY/R.INSTALL2fb85d0926c3/VariantTools/man/tallyVariants.Rd:60: file link 'stackSamples' in package 'VariantAnnotation' does not exist and so has been treated as a topic
variantGR2Vcf html
Rd warning: C:/Users/biocbuild/bbs-3.9-bioc/tmpdir/RtmpmSHquY/R.INSTALL2fb85d0926c3/VariantTools/man/variantGR2Vcf.Rd:8: file link 'VCF' in package 'VariantAnnotation' does not exist and so has been treated as a topic
Rd warning: C:/Users/biocbuild/bbs-3.9-bioc/tmpdir/RtmpmSHquY/R.INSTALL2fb85d0926c3/VariantTools/man/variantGR2Vcf.Rd:10: file link 'writeVcf' in package 'VariantAnnotation' does not exist and so has been treated as a topic
Rd warning: C:/Users/biocbuild/bbs-3.9-bioc/tmpdir/RtmpmSHquY/R.INSTALL2fb85d0926c3/VariantTools/man/variantGR2Vcf.Rd:19: file link 'VRanges' in package 'VariantAnnotation' does not exist and so has been treated as a topic
vignette html
** building package indices
** installing vignettes
** testing if installed package can be loaded from temporary location
** testing if installed package can be loaded from final location
** testing if installed package keeps a record of temporary installation path
install for x64
* installing *source* package 'VariantTools' ...
** testing if installed package can be loaded
* MD5 sums
packaged installation of 'VariantTools' as VariantTools_1.25.1.zip
* DONE (VariantTools)