| Back to Multiple platform build/check report for BioC 3.9 | 
 | 
This page was generated on 2019-04-09 11:55:57 -0400 (Tue, 09 Apr 2019).
| Package 1667/1703 | Hostname | OS / Arch | INSTALL | BUILD | CHECK | BUILD BIN | ||||||
| VanillaICE 1.45.0 Robert Scharpf 
 | malbec2 | Linux (Ubuntu 18.04.2 LTS) / x86_64 | ERROR | ERROR | skipped | |||||||
| tokay2 | Windows Server 2012 R2 Standard / x64 | ERROR | [ ERROR ] | skipped | skipped | |||||||
| celaya2 | OS X 10.11.6 El Capitan / x86_64 | ERROR | ERROR | skipped | skipped | |||||||
| merida2 | OS X 10.11.6 El Capitan / x86_64 | OK | OK | OK | OK | 
| Package: VanillaICE | 
| Version: 1.45.0 | 
| Command: chmod a+r VanillaICE -R && C:\Users\biocbuild\bbs-3.9-bioc\R\bin\R.exe CMD build --keep-empty-dirs --no-resave-data VanillaICE | 
| StartedAt: 2019-04-08 21:09:45 -0400 (Mon, 08 Apr 2019) | 
| EndedAt: 2019-04-08 21:10:17 -0400 (Mon, 08 Apr 2019) | 
| EllapsedTime: 32.2 seconds | 
| RetCode: 1 | 
| Status: ERROR | 
| PackageFile: VanillaICE_1.45.0.tar.gz | 
| PackageFileSize: 1.069 MiB | 
##############################################################################
##############################################################################
###
### Running command:
###
###   chmod a+r VanillaICE -R && C:\Users\biocbuild\bbs-3.9-bioc\R\bin\R.exe CMD build --keep-empty-dirs --no-resave-data VanillaICE
###
##############################################################################
##############################################################################
* checking for file 'VanillaICE/DESCRIPTION' ... OK
* preparing 'VanillaICE':
* checking DESCRIPTION meta-information ... OK
* cleaning src
* installing the package to build vignettes
      -----------------------------------
* installing *source* package 'VanillaICE' ...
** libs
C:/Rtools/mingw_64/bin/gcc  -I"C:/Users/BIOCBU˜1/BBS-3˜1.9-B/R/include" -DNDEBUG     -I"C:/extsoft/include"     -O2 -Wall  -std=gnu99 -mtune=generic -c rinit.c -o rinit.o
C:/Rtools/mingw_64/bin/gcc  -I"C:/Users/BIOCBU˜1/BBS-3˜1.9-B/R/include" -DNDEBUG     -I"C:/extsoft/include"     -O2 -Wall  -std=gnu99 -mtune=generic -c viterbi.c -o viterbi.o
C:/Rtools/mingw_64/bin/gcc -shared -s -static-libgcc -o VanillaICE.dll tmp.def rinit.o viterbi.o -lm -LC:/extsoft/lib/x64 -LC:/extsoft/lib -LC:/Users/BIOCBU˜1/BBS-3˜1.9-B/R/bin/x64 -lR
installing to C:/Users/biocbuild/bbs-3.9-bioc/tmpdir/Rtmpa0VVfR/Rinst164c44011c52/00LOCK-VanillaICE/00new/VanillaICE/libs/x64
** R
** data
** inst
** byte-compile and prepare package for lazy loading
Error in reconcilePropertiesAndPrototype(name, slots, prototype, superClasses,  : 
  The prototype for class "SnpDataFrame" has undefined slot(s): 'isSnp'
Error: unable to load R code in package 'VanillaICE'
Execution halted
ERROR: lazy loading failed for package 'VanillaICE'
* removing 'C:/Users/biocbuild/bbs-3.9-bioc/tmpdir/Rtmpa0VVfR/Rinst164c44011c52/VanillaICE'
      -----------------------------------
ERROR: package installation failed