| Back to Multiple platform build/check report for BioC 3.9 |
|
This page was generated on 2019-04-09 13:27:42 -0400 (Tue, 09 Apr 2019).
| Package 1663/1703 | Hostname | OS / Arch | INSTALL | BUILD | CHECK | BUILD BIN | ||||||
| UniProt.ws 2.23.0 Marc Carlson
| malbec2 | Linux (Ubuntu 18.04.2 LTS) / x86_64 | OK | OK | OK | |||||||
| tokay2 | Windows Server 2012 R2 Standard / x64 | OK | ERROR | skipped | skipped | |||||||
| celaya2 | OS X 10.11.6 El Capitan / x86_64 | OK | OK | OK | OK | |||||||
| merida2 | OS X 10.11.6 El Capitan / x86_64 | OK | OK | OK | [ OK ] |
| Package: UniProt.ws |
| Version: 2.23.0 |
| Command: rm -rf UniProt.ws.buildbin-libdir && mkdir UniProt.ws.buildbin-libdir && /Users/biocbuild/BBS/utils/build-universal.sh UniProt.ws_2.23.0.tar.gz /Library/Frameworks/R.framework/Versions/Current/Resources/bin/R UniProt.ws.buildbin-libdir |
| StartedAt: 2019-04-09 06:43:29 -0400 (Tue, 09 Apr 2019) |
| EndedAt: 2019-04-09 06:44:44 -0400 (Tue, 09 Apr 2019) |
| EllapsedTime: 75.1 seconds |
| RetCode: 0 |
| Status: OK |
| PackageFile: UniProt.ws_2.23.0.tgz |
| PackageFileSize: 970.3 KiB |
############################################################################## ############################################################################## ### ### Running command: ### ### rm -rf UniProt.ws.buildbin-libdir && mkdir UniProt.ws.buildbin-libdir && /Users/biocbuild/BBS/utils/build-universal.sh UniProt.ws_2.23.0.tar.gz /Library/Frameworks/R.framework/Versions/Current/Resources/bin/R UniProt.ws.buildbin-libdir ### ############################################################################## ############################################################################## >>>>>>> >>>>>>> INSTALLATION WITH 'R CMD INSTALL --preclean --no-multiarch --library=UniProt.ws.buildbin-libdir UniProt.ws_2.23.0.tar.gz' >>>>>>> * installing *source* package ‘UniProt.ws’ ... ** R ** inst ** byte-compile and prepare package for lazy loading ** help *** installing help indices ** building package indices ** installing vignettes ** testing if installed package can be loaded * DONE (UniProt.ws)