| Back to Multiple platform build/check report for BioC 3.9 | 
 | 
This page was generated on 2019-04-09 12:43:00 -0400 (Tue, 09 Apr 2019).
| Package 1613/1703 | Hostname | OS / Arch | INSTALL | BUILD | CHECK | BUILD BIN | ||||||
| TimeSeriesExperiment 1.1.4 Lan Huong Nguyen 
 | malbec2 | Linux (Ubuntu 18.04.2 LTS) / x86_64 | OK | OK | OK |  | ||||||
| tokay2 | Windows Server 2012 R2 Standard / x64 | [ OK ] | OK | OK | OK |  | ||||||
| celaya2 | OS X 10.11.6 El Capitan / x86_64 | OK | OK | OK | OK |  | ||||||
| merida2 | OS X 10.11.6 El Capitan / x86_64 | OK | OK | OK | OK | 
| Package: TimeSeriesExperiment | 
| Version: 1.1.4 | 
| Command: C:\cygwin\bin\curl.exe -O https://malbec2.bioconductor.org/BBS/3.9/bioc/src/contrib/TimeSeriesExperiment_1.1.4.tar.gz && rm -rf TimeSeriesExperiment.buildbin-libdir && mkdir TimeSeriesExperiment.buildbin-libdir && C:\Users\biocbuild\bbs-3.9-bioc\R\bin\R.exe CMD INSTALL --merge-multiarch --build --library=TimeSeriesExperiment.buildbin-libdir TimeSeriesExperiment_1.1.4.tar.gz && C:\Users\biocbuild\bbs-3.9-bioc\R\bin\R.exe CMD INSTALL TimeSeriesExperiment_1.1.4.zip && rm TimeSeriesExperiment_1.1.4.tar.gz TimeSeriesExperiment_1.1.4.zip | 
| StartedAt: 2019-04-08 20:22:40 -0400 (Mon, 08 Apr 2019) | 
| EndedAt: 2019-04-08 20:23:42 -0400 (Mon, 08 Apr 2019) | 
| EllapsedTime: 62.4 seconds | 
| RetCode: 0 | 
| Status: OK | 
##############################################################################
##############################################################################
###
### Running command:
###
###   C:\cygwin\bin\curl.exe -O https://malbec2.bioconductor.org/BBS/3.9/bioc/src/contrib/TimeSeriesExperiment_1.1.4.tar.gz && rm -rf TimeSeriesExperiment.buildbin-libdir && mkdir TimeSeriesExperiment.buildbin-libdir && C:\Users\biocbuild\bbs-3.9-bioc\R\bin\R.exe CMD INSTALL --merge-multiarch --build --library=TimeSeriesExperiment.buildbin-libdir TimeSeriesExperiment_1.1.4.tar.gz && C:\Users\biocbuild\bbs-3.9-bioc\R\bin\R.exe CMD INSTALL TimeSeriesExperiment_1.1.4.zip && rm TimeSeriesExperiment_1.1.4.tar.gz TimeSeriesExperiment_1.1.4.zip
###
##############################################################################
##############################################################################
  % Total    % Received % Xferd  Average Speed   Time    Time     Time  Current
                                 Dload  Upload   Total   Spent    Left  Speed
  0     0    0     0    0     0      0      0 --:--:-- --:--:-- --:--:--     0
100  624k  100  624k    0     0  9154k      0 --:--:-- --:--:-- --:--:--  9.9M
install for i386
* installing *source* package 'TimeSeriesExperiment' ...
** R
** data
** inst
** byte-compile and prepare package for lazy loading
** help
*** installing help indices
  converting help for package 'TimeSeriesExperiment'
    finding HTML links ... done
    TimeSeriesExperiment                    html  
    finding level-2 HTML links ... done
    addLags                                 html  
    assignClusterDynamic                    html  
    assignClusterStatic                     html  
    clusterAssignment                       html  
    clusterData                             html  
    clusterTimeSeries                       html  
    colData                                 html  
    collapseReplicates                      html  
    collapsed-data                          html  
    dataToTimeSeries                        html  
    differentialExpression                  html  
    dimensionReduction                      html  
    dot-addLagsToTimeSeries                 html  
    dot-imputeData                          html  
    endoderm_small                          html  
    filterFeatures                          html  
    groups                                  html  
    makeTimeSeries                          html  
    makeTimeSeriesExperimentFromExpressionSet
                                            html  
    makeTimeSeriesExperimentFromSummarizedExperiment
                                            html  
    meltMatrix                              html  
    normalizeData                           html  
    pathwayEnrichment                       html  
    pipe                                    html  
    plotEnrichment                          html  
    plotHeatmap                             html  
    plotSamplePCA                           html  
    plotTimeSeries                          html  
    plotTimeSeriesClusters                  html  
    plotTimeSeriesPCA                       html  
    replicates                              html  
    rowData                                 html  
    row_and_colnames                        html  
    runPCA                                  html  
    show-methods                            html  
    timeSeries                              html  
    timepointDE                             html  
    timepoints                              html  
    trajectoryDE                            html  
    varianceStabilization                   html  
** building package indices
** installing vignettes
** testing if installed package can be loaded from temporary location
** testing if installed package can be loaded from final location
** testing if installed package keeps a record of temporary installation path
install for x64
* installing *source* package 'TimeSeriesExperiment' ...
** testing if installed package can be loaded
* MD5 sums
packaged installation of 'TimeSeriesExperiment' as TimeSeriesExperiment_1.1.4.zip
* DONE (TimeSeriesExperiment)
* installing to library 'C:/Users/biocbuild/bbs-3.9-bioc/R/library'
package 'TimeSeriesExperiment' successfully unpacked and MD5 sums checked