| Back to Multiple platform build/check report for BioC 3.9 | 
 | 
This page was generated on 2019-04-09 12:25:00 -0400 (Tue, 09 Apr 2019).
| Package 1594/1703 | Hostname | OS / Arch | INSTALL | BUILD | CHECK | BUILD BIN | ||||||
| TarSeqQC 1.13.1 Gabriela Merino 
 | malbec2 | Linux (Ubuntu 18.04.2 LTS) / x86_64 | OK | OK | OK |  | ||||||
| tokay2 | Windows Server 2012 R2 Standard / x64 | OK | OK | OK | [ OK ] |  | ||||||
| celaya2 | OS X 10.11.6 El Capitan / x86_64 | OK | OK | OK | OK |  | ||||||
| merida2 | OS X 10.11.6 El Capitan / x86_64 | OK | OK | OK | OK | 
| Package: TarSeqQC | 
| Version: 1.13.1 | 
| Command: rm -rf TarSeqQC.buildbin-libdir && mkdir TarSeqQC.buildbin-libdir && C:\Users\biocbuild\bbs-3.9-bioc\R\bin\R.exe CMD INSTALL --merge-multiarch --build --library=TarSeqQC.buildbin-libdir TarSeqQC_1.13.1.tar.gz | 
| StartedAt: 2019-04-09 09:04:49 -0400 (Tue, 09 Apr 2019) | 
| EndedAt: 2019-04-09 09:07:30 -0400 (Tue, 09 Apr 2019) | 
| EllapsedTime: 161.8 seconds | 
| RetCode: 0 | 
| Status: OK | 
| PackageFile: TarSeqQC_1.13.1.zip | 
| PackageFileSize: 2.582 MiB | 
##############################################################################
##############################################################################
###
### Running command:
###
###   rm -rf TarSeqQC.buildbin-libdir && mkdir TarSeqQC.buildbin-libdir && C:\Users\biocbuild\bbs-3.9-bioc\R\bin\R.exe CMD INSTALL --merge-multiarch --build --library=TarSeqQC.buildbin-libdir TarSeqQC_1.13.1.tar.gz
###
##############################################################################
##############################################################################
install for i386
* installing *source* package 'TarSeqQC' ...
** R
** data
** inst
** byte-compile and prepare package for lazy loading
** help
*** installing help indices
  converting help for package 'TarSeqQC'
    finding HTML links ... done
    TEList                                  html  
    TarSeqQC-package                        html  
    TargetExperiment-biasExploration        html  
    TargetExperiment-buildFeaturePanel      html  
    TargetExperiment-buildReport            html  
    TargetExperiment-class                  html  
    TargetExperiment-constructor            html  
    TargetExperiment-getters                html  
    TargetExperiment-initialize             html  
    TargetExperiment-plot                   html  
    TargetExperiment-plotAttrExpl           html  
    TargetExperiment-plotAttrPerform        html  
    TargetExperiment-plotFeatPerform        html  
    TargetExperiment-plotFeature            html  
    TargetExperiment-plotGeneAttrPerFeat    html  
    TargetExperiment-plotMetaDataExpl       html  
    TargetExperiment-plotNtdPercentage      html  
    TargetExperiment-plotRegion             html  
    TargetExperiment-print                  html  
    TargetExperiment-readFrequencies        html  
    TargetExperiment-setters                html  
    TargetExperiment-show                   html  
    TargetExperiment-statistics             html  
    TargetExperiment-summarizePanel         html  
    TargetExperimentList-class              html  
    TargetExperimentList-constructor        html  
    TargetExperimentList-initialize         html  
    TargetExperimentList-plotGlobalAttrExpl
                                            html  
    TargetExperimentList-plotPoolPerformance
                                            html  
    ampliPanel                              html  
    ampliPanel2                             html  
    checkBedFasta                           html  
    myCounts                                html  
    object                                  html  
    pileupCounts                            html  
    plotInOutFeatures                       html  
** building package indices
** installing vignettes
** testing if installed package can be loaded from temporary location
** testing if installed package can be loaded from final location
** testing if installed package keeps a record of temporary installation path
install for x64
* installing *source* package 'TarSeqQC' ...
** testing if installed package can be loaded
* MD5 sums
packaged installation of 'TarSeqQC' as TarSeqQC_1.13.1.zip
* DONE (TarSeqQC)