| Back to Multiple platform build/check report for BioC 3.9 | 
 | 
This page was generated on 2019-04-09 13:14:51 -0400 (Tue, 09 Apr 2019).
| Package 1594/1703 | Hostname | OS / Arch | INSTALL | BUILD | CHECK | BUILD BIN | ||||||
| TarSeqQC 1.13.1 Gabriela Merino 
 | malbec2 | Linux (Ubuntu 18.04.2 LTS) / x86_64 | OK | OK | OK |  | ||||||
| tokay2 | Windows Server 2012 R2 Standard / x64 | OK | OK | OK | OK |  | ||||||
| celaya2 | OS X 10.11.6 El Capitan / x86_64 | OK | [ OK ] | OK | OK |  | ||||||
| merida2 | OS X 10.11.6 El Capitan / x86_64 | OK | OK | OK | OK | 
| Package: TarSeqQC | 
| Version: 1.13.1 | 
| Command: /Library/Frameworks/R.framework/Versions/Current/Resources/bin/R CMD build --keep-empty-dirs --no-resave-data TarSeqQC | 
| StartedAt: 2019-04-08 21:29:05 -0400 (Mon, 08 Apr 2019) | 
| EndedAt: 2019-04-08 21:30:59 -0400 (Mon, 08 Apr 2019) | 
| EllapsedTime: 113.9 seconds | 
| RetCode: 0 | 
| Status: OK | 
| PackageFile: TarSeqQC_1.13.1.tar.gz | 
| PackageFileSize: 2.682 MiB | 
############################################################################## ############################################################################## ### ### Running command: ### ### /Library/Frameworks/R.framework/Versions/Current/Resources/bin/R CMD build --keep-empty-dirs --no-resave-data TarSeqQC ### ############################################################################## ############################################################################## * checking for file ‘TarSeqQC/DESCRIPTION’ ... OK * preparing ‘TarSeqQC’: * checking DESCRIPTION meta-information ... OK * installing the package to build vignettes * creating vignettes ... OK * checking for LF line-endings in source and make files and shell scripts * checking for empty or unneeded directories * looking to see if a ‘data/datalist’ file should be added * building ‘TarSeqQC_1.13.1.tar.gz’