Back to Multiple platform build/check report for BioC 3.9 |
|
This page was generated on 2019-04-09 12:45:57 -0400 (Tue, 09 Apr 2019).
Package 1619/1703 | Hostname | OS / Arch | INSTALL | BUILD | CHECK | BUILD BIN | ||||||
TNBC.CMS 0.99.10 Doyeong Yu
| malbec2 | Linux (Ubuntu 18.04.2 LTS) / x86_64 | OK | OK | OK | ![]() | ||||||
tokay2 | Windows Server 2012 R2 Standard / x64 | OK | [ OK ] | OK | OK | ![]() | ||||||
celaya2 | OS X 10.11.6 El Capitan / x86_64 | OK | OK | OK | OK | ![]() | ||||||
merida2 | OS X 10.11.6 El Capitan / x86_64 | OK | OK | OK | OK |
Package: TNBC.CMS |
Version: 0.99.10 |
Command: chmod a+r TNBC.CMS -R && C:\Users\biocbuild\bbs-3.9-bioc\R\bin\R.exe CMD build --keep-empty-dirs --no-resave-data TNBC.CMS |
StartedAt: 2019-04-09 00:51:06 -0400 (Tue, 09 Apr 2019) |
EndedAt: 2019-04-09 00:52:07 -0400 (Tue, 09 Apr 2019) |
EllapsedTime: 60.8 seconds |
RetCode: 0 |
Status: OK |
PackageFile: TNBC.CMS_0.99.10.tar.gz |
PackageFileSize: 2.963 MiB |
############################################################################## ############################################################################## ### ### Running command: ### ### chmod a+r TNBC.CMS -R && C:\Users\biocbuild\bbs-3.9-bioc\R\bin\R.exe CMD build --keep-empty-dirs --no-resave-data TNBC.CMS ### ############################################################################## ############################################################################## * checking for file 'TNBC.CMS/DESCRIPTION' ... OK * preparing 'TNBC.CMS': * checking DESCRIPTION meta-information ... OK * installing the package to build vignettes * creating vignettes ... OK * checking for LF line-endings in source and make files and shell scripts * checking for empty or unneeded directories * looking to see if a 'data/datalist' file should be added * building 'TNBC.CMS_0.99.10.tar.gz'