| Back to Multiple platform build/check report for BioC 3.9 | 
 | 
This page was generated on 2019-04-09 13:39:44 -0400 (Tue, 09 Apr 2019).
| Package 1619/1703 | Hostname | OS / Arch | INSTALL | BUILD | CHECK | BUILD BIN | ||||||
| TNBC.CMS 0.99.10 Doyeong Yu 
 | malbec2 | Linux (Ubuntu 18.04.2 LTS) / x86_64 | OK | OK | OK |  | ||||||
| tokay2 | Windows Server 2012 R2 Standard / x64 | OK | OK | OK | OK |  | ||||||
| celaya2 | OS X 10.11.6 El Capitan / x86_64 | OK | OK | OK | OK |  | ||||||
| merida2 | OS X 10.11.6 El Capitan / x86_64 | OK | OK | OK | [ OK ] | 
| Package: TNBC.CMS | 
| Version: 0.99.10 | 
| Command: rm -rf TNBC.CMS.buildbin-libdir && mkdir TNBC.CMS.buildbin-libdir && /Users/biocbuild/BBS/utils/build-universal.sh TNBC.CMS_0.99.10.tar.gz /Library/Frameworks/R.framework/Versions/Current/Resources/bin/R TNBC.CMS.buildbin-libdir | 
| StartedAt: 2019-04-09 06:40:17 -0400 (Tue, 09 Apr 2019) | 
| EndedAt: 2019-04-09 06:41:34 -0400 (Tue, 09 Apr 2019) | 
| EllapsedTime: 76.7 seconds | 
| RetCode: 0 | 
| Status: OK | 
| PackageFile: TNBC.CMS_0.99.10.tgz | 
| PackageFileSize: 3.096 MiB | 
############################################################################## ############################################################################## ### ### Running command: ### ### rm -rf TNBC.CMS.buildbin-libdir && mkdir TNBC.CMS.buildbin-libdir && /Users/biocbuild/BBS/utils/build-universal.sh TNBC.CMS_0.99.10.tar.gz /Library/Frameworks/R.framework/Versions/Current/Resources/bin/R TNBC.CMS.buildbin-libdir ### ############################################################################## ############################################################################## >>>>>>> >>>>>>> INSTALLATION WITH 'R CMD INSTALL --preclean --no-multiarch --library=TNBC.CMS.buildbin-libdir TNBC.CMS_0.99.10.tar.gz' >>>>>>> * installing *source* package ‘TNBC.CMS’ ... ** R ** data ** inst ** byte-compile and prepare package for lazy loading ** help *** installing help indices ** building package indices ** installing vignettes ** testing if installed package can be loaded * DONE (TNBC.CMS)