| Back to Multiple platform build/check report for BioC 3.9 |
|
This page was generated on 2019-04-09 12:37:11 -0400 (Tue, 09 Apr 2019).
| Package 1573/1703 | Hostname | OS / Arch | INSTALL | BUILD | CHECK | BUILD BIN | ||||||
| SummarizedBenchmark 2.1.1 Alejandro Reyes
| malbec2 | Linux (Ubuntu 18.04.2 LTS) / x86_64 | OK | OK | OK | |||||||
| tokay2 | Windows Server 2012 R2 Standard / x64 | OK | OK | OK | [ OK ] | |||||||
| celaya2 | OS X 10.11.6 El Capitan / x86_64 | OK | OK | OK | OK | |||||||
| merida2 | OS X 10.11.6 El Capitan / x86_64 | OK | OK | OK | OK |
| Package: SummarizedBenchmark |
| Version: 2.1.1 |
| Command: rm -rf SummarizedBenchmark.buildbin-libdir && mkdir SummarizedBenchmark.buildbin-libdir && C:\Users\biocbuild\bbs-3.9-bioc\R\bin\R.exe CMD INSTALL --merge-multiarch --build --library=SummarizedBenchmark.buildbin-libdir SummarizedBenchmark_2.1.1.tar.gz |
| StartedAt: 2019-04-09 09:03:24 -0400 (Tue, 09 Apr 2019) |
| EndedAt: 2019-04-09 09:04:15 -0400 (Tue, 09 Apr 2019) |
| EllapsedTime: 51.0 seconds |
| RetCode: 0 |
| Status: OK |
| PackageFile: SummarizedBenchmark_2.1.1.zip |
| PackageFileSize: 12.36 MiB |
##############################################################################
##############################################################################
###
### Running command:
###
### rm -rf SummarizedBenchmark.buildbin-libdir && mkdir SummarizedBenchmark.buildbin-libdir && C:\Users\biocbuild\bbs-3.9-bioc\R\bin\R.exe CMD INSTALL --merge-multiarch --build --library=SummarizedBenchmark.buildbin-libdir SummarizedBenchmark_2.1.1.tar.gz
###
##############################################################################
##############################################################################
install for i386
* installing *source* package 'SummarizedBenchmark' ...
** R
** data
*** moving datasets to lazyload DB
** inst
** byte-compile and prepare package for lazy loading
** help
*** installing help indices
converting help for package 'SummarizedBenchmark'
finding HTML links ... done
BDData-class html
BDData html
BDMethod-class html
BDMethod html
BDMethodList-accessors html
BDMethodList-class html
BDMethodList html
BenchDesign-accessors html
BenchDesign-class html
BenchDesign html
SummarizedBenchmark-accessors html
SummarizedBenchmark-class html
finding level-2 HTML links ... done
SummarizedBenchmark html
addMethod html
addPerformanceMetric html
allSB html
availableMetrics html
buildBench html
compareBDData html
compareBDMethod html
compareBenchDesigns html
dropMethod html
estimateMetrics html
expandMethod html
hashBDData html
modifyMethod html
modmethod html
performanceMetrics html
plotMethodsOverlap html
plotROC html
printMethod html
sb html
tdat html
tidyBDMethod html
tidyUpMetrics html
updateBench html
** building package indices
** installing vignettes
** testing if installed package can be loaded from temporary location
** testing if installed package can be loaded from final location
** testing if installed package keeps a record of temporary installation path
install for x64
* installing *source* package 'SummarizedBenchmark' ...
** testing if installed package can be loaded
* MD5 sums
packaged installation of 'SummarizedBenchmark' as SummarizedBenchmark_2.1.1.zip
* DONE (SummarizedBenchmark)