| Back to Multiple platform build/check report for BioC 3.9 |
|
This page was generated on 2019-04-09 13:36:39 -0400 (Tue, 09 Apr 2019).
| Package 1573/1703 | Hostname | OS / Arch | INSTALL | BUILD | CHECK | BUILD BIN | ||||||
| SummarizedBenchmark 2.1.1 Alejandro Reyes
| malbec2 | Linux (Ubuntu 18.04.2 LTS) / x86_64 | OK | OK | OK | |||||||
| tokay2 | Windows Server 2012 R2 Standard / x64 | OK | OK | OK | OK | |||||||
| celaya2 | OS X 10.11.6 El Capitan / x86_64 | OK | OK | OK | OK | |||||||
| merida2 | OS X 10.11.6 El Capitan / x86_64 | OK | OK | [ OK ] | OK |
| Package: SummarizedBenchmark |
| Version: 2.1.1 |
| Command: /Library/Frameworks/R.framework/Versions/Current/Resources/bin/R CMD check --install=check:SummarizedBenchmark.install-out.txt --library=/Library/Frameworks/R.framework/Versions/Current/Resources/library --no-vignettes --timings SummarizedBenchmark_2.1.1.tar.gz |
| StartedAt: 2019-04-09 04:00:33 -0400 (Tue, 09 Apr 2019) |
| EndedAt: 2019-04-09 04:04:18 -0400 (Tue, 09 Apr 2019) |
| EllapsedTime: 224.5 seconds |
| RetCode: 0 |
| Status: OK |
| CheckDir: SummarizedBenchmark.Rcheck |
| Warnings: 0 |
##############################################################################
##############################################################################
###
### Running command:
###
### /Library/Frameworks/R.framework/Versions/Current/Resources/bin/R CMD check --install=check:SummarizedBenchmark.install-out.txt --library=/Library/Frameworks/R.framework/Versions/Current/Resources/library --no-vignettes --timings SummarizedBenchmark_2.1.1.tar.gz
###
##############################################################################
##############################################################################
* using log directory ‘/Users/biocbuild/bbs-3.9-bioc/meat/SummarizedBenchmark.Rcheck’
* using R Under development (unstable) (2018-11-27 r75683)
* using platform: x86_64-apple-darwin15.6.0 (64-bit)
* using session charset: UTF-8
* using option ‘--no-vignettes’
* checking for file ‘SummarizedBenchmark/DESCRIPTION’ ... OK
* checking extension type ... Package
* this is package ‘SummarizedBenchmark’ version ‘2.1.1’
* package encoding: UTF-8
* checking package namespace information ... OK
* checking package dependencies ... NOTE
Depends: includes the non-default packages:
'tidyr', 'SummarizedExperiment', 'S4Vectors', 'BiocGenerics',
'UpSetR', 'rlang', 'stringr', 'BiocParallel', 'ggplot2', 'mclust',
'dplyr', 'digest', 'sessioninfo', 'crayon', 'tibble'
Adding so many packages to the search path is excessive and importing
selectively is preferable.
* checking if this is a source package ... OK
* checking if there is a namespace ... OK
* checking for hidden files and directories ... OK
* checking for portable file names ... OK
* checking for sufficient/correct file permissions ... OK
* checking whether package ‘SummarizedBenchmark’ can be installed ... OK
* checking installed package size ... NOTE
installed size is 11.4Mb
sub-directories of 1Mb or more:
data 10.6Mb
* checking package directory ... OK
* checking ‘build’ directory ... OK
* checking DESCRIPTION meta-information ... OK
* checking top-level files ... OK
* checking for left-over files ... OK
* checking index information ... OK
* checking package subdirectories ... OK
* checking R files for non-ASCII characters ... OK
* checking R files for syntax errors ... OK
* checking whether the package can be loaded ... OK
* checking whether the package can be loaded with stated dependencies ... OK
* checking whether the package can be unloaded cleanly ... OK
* checking whether the namespace can be loaded with stated dependencies ... OK
* checking whether the namespace can be unloaded cleanly ... OK
* checking dependencies in R code ... NOTE
Package in Depends field not imported from: ‘BiocGenerics’
These packages need to be imported from (in the NAMESPACE file)
for when this namespace is loaded but not attached.
Unexported object imported by a ':::' call: ‘BiocGenerics:::replaceSlots’
See the note in ?`:::` about the use of this operator.
* checking S3 generic/method consistency ... OK
* checking replacement functions ... OK
* checking foreign function calls ... OK
* checking R code for possible problems ... NOTE
.combineSummarizedBenchmarks: no visible binding for global variable
‘colid’
.combineSummarizedBenchmarks: no visible global function definition for
‘metadata’
.combineSummarizedBenchmarks: no visible binding for global variable
‘label’
.compare.meta: no visible binding for global variable ‘label’
.compare.meta : <anonymous>: no visible binding for global variable
‘label’
.compare.meta : <anonymous>: no visible binding for global variable ‘.’
.compare.meta: no visible binding for global variable ‘value’
.compare.meta: no visible binding for global variable ‘comparison’
.list2mat: no visible binding for global variable ‘.method’
.list2mat: no visible binding for global variable ‘.val’
.list2mat: no visible binding for global variable ‘.id’
.printUpdateBench: no visible binding for global variable ‘f’
.printUpdateBench: no visible binding for global variable ‘meta’
.printUpdateBench: no visible binding for global variable ‘params’
.printUpdateBench: no visible binding for global variable ‘post’
.printUpdateBench: no visible binding for global variable ‘rerun’
.printUpdateBench: no visible binding for global variable ‘overlap’
.printUpdateBench: no visible binding for global variable ‘.’
.show.BDData: no visible global function definition for ‘head’
.show.BDMethodList: no visible global function definition for ‘head’
.show.BenchDesign: no visible global function definition for ‘head’
.tidyForComparison: no visible binding for global variable ‘slot’
BDData: no visible global function definition for ‘.valueClassTest’
BDMethod: no visible global function definition for ‘.valueClassTest’
BDMethodList: no visible global function definition for
‘.valueClassTest’
BenchDesign: no visible global function definition for
‘.valueClassTest’
plotROC: no visible binding for global variable ‘FDR’
plotROC: no visible binding for global variable ‘TPR’
plotROC: no visible binding for global variable ‘method’
sb.correlation: no visible global function definition for ‘cor’
sb.sdad: no visible global function definition for ‘sd’
updateBench: no visible global function definition for ‘metadata’
updateBench: no visible binding for global variable ‘overlap’
updateBench: no visible binding for global variable ‘f’
updateBench: no visible binding for global variable ‘meta’
updateBench: no visible binding for global variable ‘params’
updateBench: no visible binding for global variable ‘post’
show,BDData: no visible global function definition for ‘head’
show,BDMethodList: no visible global function definition for ‘head’
show,BenchDesign: no visible global function definition for ‘head’
Undefined global functions or variables:
. .id .method .val .valueClassTest FDR TPR colid comparison cor f
head label meta metadata method overlap params post rerun sd slot
value
Consider adding
importFrom("methods", ".valueClassTest", "slot")
importFrom("stats", "cor", "sd")
importFrom("utils", "head")
to your NAMESPACE file (and ensure that your DESCRIPTION Imports field
contains 'methods').
* checking Rd files ... OK
* checking Rd metadata ... OK
* checking Rd cross-references ... OK
* checking for missing documentation entries ... OK
* checking for code/documentation mismatches ... OK
* checking Rd \usage sections ... OK
* checking Rd contents ... OK
* checking for unstated dependencies in examples ... OK
* checking contents of ‘data’ directory ... OK
* checking data for non-ASCII characters ... OK
* checking data for ASCII and uncompressed saves ... OK
* checking files in ‘vignettes’ ... OK
* checking examples ... OK
* checking for unstated dependencies in ‘tests’ ... OK
* checking tests ...
Running ‘testthat.R’
OK
* checking for unstated dependencies in vignettes ... OK
* checking package vignettes in ‘inst/doc’ ... OK
* checking running R code from vignettes ... SKIPPED
* checking re-building of vignette outputs ... SKIPPED
* checking PDF version of manual ... OK
* DONE
Status: 4 NOTEs
See
‘/Users/biocbuild/bbs-3.9-bioc/meat/SummarizedBenchmark.Rcheck/00check.log’
for details.
SummarizedBenchmark.Rcheck/00install.out
############################################################################## ############################################################################## ### ### Running command: ### ### /Library/Frameworks/R.framework/Versions/Current/Resources/bin/R CMD INSTALL SummarizedBenchmark ### ############################################################################## ############################################################################## * installing to library ‘/Library/Frameworks/R.framework/Versions/3.6/Resources/library’ * installing *source* package ‘SummarizedBenchmark’ ... ** R ** data *** moving datasets to lazyload DB ** byte-compile and prepare package for lazy loading ** help *** installing help indices ** building package indices ** installing vignettes ** testing if installed package can be loaded * DONE (SummarizedBenchmark)
SummarizedBenchmark.Rcheck/tests/testthat.Rout
R Under development (unstable) (2018-11-27 r75683) -- "Unsuffered Consequences"
Copyright (C) 2018 The R Foundation for Statistical Computing
Platform: x86_64-apple-darwin15.6.0 (64-bit)
R is free software and comes with ABSOLUTELY NO WARRANTY.
You are welcome to redistribute it under certain conditions.
Type 'license()' or 'licence()' for distribution details.
R is a collaborative project with many contributors.
Type 'contributors()' for more information and
'citation()' on how to cite R or R packages in publications.
Type 'demo()' for some demos, 'help()' for on-line help, or
'help.start()' for an HTML browser interface to help.
Type 'q()' to quit R.
> library("testthat")
> library("SummarizedBenchmark")
Loading required package: tidyr
Loading required package: SummarizedExperiment
Loading required package: GenomicRanges
Loading required package: stats4
Loading required package: BiocGenerics
Loading required package: parallel
Attaching package: 'BiocGenerics'
The following objects are masked from 'package:parallel':
clusterApply, clusterApplyLB, clusterCall, clusterEvalQ,
clusterExport, clusterMap, parApply, parCapply, parLapply,
parLapplyLB, parRapply, parSapply, parSapplyLB
The following objects are masked from 'package:stats':
IQR, mad, sd, var, xtabs
The following objects are masked from 'package:base':
Filter, Find, Map, Position, Reduce, anyDuplicated, append,
as.data.frame, basename, cbind, colMeans, colSums, colnames,
dirname, do.call, duplicated, eval, evalq, get, grep, grepl,
intersect, is.unsorted, lapply, mapply, match, mget, order, paste,
pmax, pmax.int, pmin, pmin.int, rank, rbind, rowMeans, rowSums,
rownames, sapply, setdiff, sort, table, tapply, union, unique,
unsplit, which, which.max, which.min
Loading required package: S4Vectors
Attaching package: 'S4Vectors'
The following object is masked from 'package:tidyr':
expand
The following object is masked from 'package:base':
expand.grid
Loading required package: IRanges
Loading required package: GenomeInfoDb
Loading required package: Biobase
Welcome to Bioconductor
Vignettes contain introductory material; view with
'browseVignettes()'. To cite Bioconductor, see
'citation("Biobase")', and for packages 'citation("pkgname")'.
Loading required package: DelayedArray
Loading required package: matrixStats
Attaching package: 'matrixStats'
The following objects are masked from 'package:Biobase':
anyMissing, rowMedians
Loading required package: BiocParallel
Attaching package: 'DelayedArray'
The following objects are masked from 'package:matrixStats':
colMaxs, colMins, colRanges, rowMaxs, rowMins, rowRanges
The following objects are masked from 'package:base':
aperm, apply, rowsum
Loading required package: UpSetR
Loading required package: rlang
Attaching package: 'rlang'
The following object is masked from 'package:Biobase':
exprs
The following objects are masked from 'package:testthat':
is_false, is_null, is_true
Loading required package: stringr
Loading required package: ggplot2
Loading required package: mclust
Package 'mclust' version 5.4.3
Type 'citation("mclust")' for citing this R package in publications.
Loading required package: dplyr
Attaching package: 'dplyr'
The following object is masked from 'package:matrixStats':
count
The following object is masked from 'package:Biobase':
combine
The following objects are masked from 'package:GenomicRanges':
intersect, setdiff, union
The following object is masked from 'package:GenomeInfoDb':
intersect
The following objects are masked from 'package:IRanges':
collapse, desc, intersect, setdiff, slice, union
The following objects are masked from 'package:S4Vectors':
first, intersect, rename, setdiff, setequal, union
The following objects are masked from 'package:BiocGenerics':
combine, intersect, setdiff, union
The following object is masked from 'package:testthat':
matches
The following objects are masked from 'package:stats':
filter, lag
The following objects are masked from 'package:base':
intersect, setdiff, setequal, union
Loading required package: digest
Loading required package: sessioninfo
Loading required package: crayon
Attaching package: 'crayon'
The following object is masked from 'package:ggplot2':
%+%
The following object is masked from 'package:rlang':
chr
Loading required package: tibble
>
> test_check("SummarizedBenchmark")
Option rerun is set to `FALSE`:
Rerunning performance metrics only for the following methods: BH2
══ testthat results ═══════════════════════════════════════════════════════════
OK: 224 SKIPPED: 0 FAILED: 0
>
> proc.time()
user system elapsed
23.625 1.029 24.886
SummarizedBenchmark.Rcheck/SummarizedBenchmark-Ex.timings
| name | user | system | elapsed | |
| BDMethodList | 0.034 | 0.001 | 0.035 | |
| BenchDesign | 0.018 | 0.000 | 0.018 | |
| SummarizedBenchmark-accessors | 0.624 | 0.006 | 0.638 | |
| SummarizedBenchmark-class | 0.719 | 0.075 | 0.814 | |
| SummarizedBenchmark | 0.267 | 0.007 | 0.281 | |
| addMethod | 0.049 | 0.002 | 0.052 | |
| addPerformanceMetric | 0.059 | 0.004 | 0.063 | |
| allSB | 0.002 | 0.003 | 0.005 | |
| availableMetrics | 0.005 | 0.001 | 0.006 | |
| buildBench | 0.614 | 0.066 | 0.693 | |
| dropMethod | 0.037 | 0.001 | 0.038 | |
| estimateMetrics | 0.456 | 0.006 | 0.464 | |
| expandMethod | 0.040 | 0.001 | 0.041 | |
| modifyMethod | 0.032 | 0.001 | 0.033 | |
| performanceMetrics | 0.048 | 0.003 | 0.051 | |
| plotMethodsOverlap | 0.002 | 0.002 | 0.003 | |
| plotROC | 0.001 | 0.002 | 0.004 | |
| printMethod | 0.021 | 0.000 | 0.021 | |
| sb | 0.002 | 0.002 | 0.004 | |
| tdat | 0.002 | 0.002 | 0.003 | |
| tidyUpMetrics | 0.153 | 0.002 | 0.156 | |