| Back to Multiple platform build/check report for BioC 3.9 | 
 | 
This page was generated on 2019-04-09 12:21:44 -0400 (Tue, 09 Apr 2019).
| Package 1483/1703 | Hostname | OS / Arch | INSTALL | BUILD | CHECK | BUILD BIN | ||||||
| SigCheck 2.15.0 Rory Stark 
 | malbec2 | Linux (Ubuntu 18.04.2 LTS) / x86_64 | OK | OK | OK |  | ||||||
| tokay2 | Windows Server 2012 R2 Standard / x64 | OK | OK | OK | [ OK ] |  | ||||||
| celaya2 | OS X 10.11.6 El Capitan / x86_64 | OK | OK | OK | OK |  | ||||||
| merida2 | OS X 10.11.6 El Capitan / x86_64 | OK | OK | OK | OK | 
| Package: SigCheck | 
| Version: 2.15.0 | 
| Command: rm -rf SigCheck.buildbin-libdir && mkdir SigCheck.buildbin-libdir && C:\Users\biocbuild\bbs-3.9-bioc\R\bin\R.exe CMD INSTALL --merge-multiarch --build --library=SigCheck.buildbin-libdir SigCheck_2.15.0.tar.gz | 
| StartedAt: 2019-04-09 08:58:04 -0400 (Tue, 09 Apr 2019) | 
| EndedAt: 2019-04-09 08:58:38 -0400 (Tue, 09 Apr 2019) | 
| EllapsedTime: 34.3 seconds | 
| RetCode: 0 | 
| Status: OK | 
| PackageFile: SigCheck_2.15.0.zip | 
| PackageFileSize: 653.2 KiB | 
##############################################################################
##############################################################################
###
### Running command:
###
###   rm -rf SigCheck.buildbin-libdir && mkdir SigCheck.buildbin-libdir && C:\Users\biocbuild\bbs-3.9-bioc\R\bin\R.exe CMD INSTALL --merge-multiarch --build --library=SigCheck.buildbin-libdir SigCheck_2.15.0.tar.gz
###
##############################################################################
##############################################################################
install for i386
* installing *source* package 'SigCheck' ...
** R
** data
** inst
** byte-compile and prepare package for lazy loading
Creating a new generic function for 'signature' in package 'SigCheck'
** help
*** installing help indices
  converting help for package 'SigCheck'
    finding HTML links ... done
    SigCheck-package                        html  
    finding level-2 HTML links ... done
    SigCheckObject-class                    html  
    classifyResults                         html  
    knownSignatures                         html  
    nkiResults                              html  
    sigCheck                                html  
    sigCheckAll                             html  
    sigCheckKnown                           html  
    sigCheckPermuted                        html  
    sigCheckPlot                            html  
    sigCheckRandom                          html  
** building package indices
** installing vignettes
** testing if installed package can be loaded from temporary location
** testing if installed package can be loaded from final location
** testing if installed package keeps a record of temporary installation path
install for x64
* installing *source* package 'SigCheck' ...
** testing if installed package can be loaded
* MD5 sums
packaged installation of 'SigCheck' as SigCheck_2.15.0.zip
* DONE (SigCheck)