| Back to Multiple platform build/check report for BioC 3.9 |
|
This page was generated on 2019-04-09 13:30:38 -0400 (Tue, 09 Apr 2019).
| Package 1483/1703 | Hostname | OS / Arch | INSTALL | BUILD | CHECK | BUILD BIN | ||||||
| SigCheck 2.15.0 Rory Stark
| malbec2 | Linux (Ubuntu 18.04.2 LTS) / x86_64 | OK | OK | OK | |||||||
| tokay2 | Windows Server 2012 R2 Standard / x64 | OK | OK | OK | OK | |||||||
| celaya2 | OS X 10.11.6 El Capitan / x86_64 | OK | OK | OK | OK | |||||||
| merida2 | OS X 10.11.6 El Capitan / x86_64 | OK | OK | [ OK ] | OK |
| Package: SigCheck |
| Version: 2.15.0 |
| Command: /Library/Frameworks/R.framework/Versions/Current/Resources/bin/R CMD check --install=check:SigCheck.install-out.txt --library=/Library/Frameworks/R.framework/Versions/Current/Resources/library --no-vignettes --timings SigCheck_2.15.0.tar.gz |
| StartedAt: 2019-04-09 03:45:23 -0400 (Tue, 09 Apr 2019) |
| EndedAt: 2019-04-09 03:52:33 -0400 (Tue, 09 Apr 2019) |
| EllapsedTime: 430.2 seconds |
| RetCode: 0 |
| Status: OK |
| CheckDir: SigCheck.Rcheck |
| Warnings: 0 |
##############################################################################
##############################################################################
###
### Running command:
###
### /Library/Frameworks/R.framework/Versions/Current/Resources/bin/R CMD check --install=check:SigCheck.install-out.txt --library=/Library/Frameworks/R.framework/Versions/Current/Resources/library --no-vignettes --timings SigCheck_2.15.0.tar.gz
###
##############################################################################
##############################################################################
* using log directory ‘/Users/biocbuild/bbs-3.9-bioc/meat/SigCheck.Rcheck’
* using R Under development (unstable) (2018-11-27 r75683)
* using platform: x86_64-apple-darwin15.6.0 (64-bit)
* using session charset: UTF-8
* using option ‘--no-vignettes’
* checking for file ‘SigCheck/DESCRIPTION’ ... OK
* checking extension type ... Package
* this is package ‘SigCheck’ version ‘2.15.0’
* checking package namespace information ... OK
* checking package dependencies ... OK
* checking if this is a source package ... OK
* checking if there is a namespace ... OK
* checking for hidden files and directories ... OK
* checking for portable file names ... OK
* checking for sufficient/correct file permissions ... OK
* checking whether package ‘SigCheck’ can be installed ... OK
* checking installed package size ... OK
* checking package directory ... OK
* checking ‘build’ directory ... OK
* checking DESCRIPTION meta-information ... OK
* checking top-level files ... OK
* checking for left-over files ... OK
* checking index information ... OK
* checking package subdirectories ... OK
* checking R files for non-ASCII characters ... OK
* checking R files for syntax errors ... OK
* checking whether the package can be loaded ... OK
* checking whether the package can be loaded with stated dependencies ... OK
* checking whether the package can be unloaded cleanly ... OK
* checking whether the namespace can be loaded with stated dependencies ... OK
* checking whether the namespace can be unloaded cleanly ... OK
* checking dependencies in R code ... OK
* checking S3 generic/method consistency ... OK
* checking replacement functions ... OK
* checking foreign function calls ... OK
* checking R code for possible problems ... NOTE
sigCheckKnown: no visible binding for global variable ‘knownSignatures’
Undefined global functions or variables:
knownSignatures
* checking Rd files ... OK
* checking Rd metadata ... OK
* checking Rd cross-references ... OK
* checking for missing documentation entries ... OK
* checking for code/documentation mismatches ... OK
* checking Rd \usage sections ... OK
* checking Rd contents ... OK
* checking for unstated dependencies in examples ... OK
* checking contents of ‘data’ directory ... OK
* checking data for non-ASCII characters ... OK
* checking data for ASCII and uncompressed saves ... OK
* checking sizes of PDF files under ‘inst/doc’ ... OK
* checking files in ‘vignettes’ ... OK
* checking examples ... OK
Examples with CPU or elapsed time > 5s
user system elapsed
sigCheckAll 114.057 15.064 130.210
sigCheckKnown 55.146 7.057 62.776
sigCheck 16.157 1.333 17.636
sigCheckPermuted 15.218 1.558 16.950
sigCheckPlot 13.995 1.601 15.759
sigCheckRandom 10.589 1.030 11.769
* checking for unstated dependencies in vignettes ... OK
* checking package vignettes in ‘inst/doc’ ... OK
* checking running R code from vignettes ... SKIPPED
* checking re-building of vignette outputs ... SKIPPED
* checking PDF version of manual ... OK
* DONE
Status: 1 NOTE
See
‘/Users/biocbuild/bbs-3.9-bioc/meat/SigCheck.Rcheck/00check.log’
for details.
SigCheck.Rcheck/00install.out
############################################################################## ############################################################################## ### ### Running command: ### ### /Library/Frameworks/R.framework/Versions/Current/Resources/bin/R CMD INSTALL SigCheck ### ############################################################################## ############################################################################## * installing to library ‘/Library/Frameworks/R.framework/Versions/3.6/Resources/library’ * installing *source* package ‘SigCheck’ ... ** R ** data ** inst ** byte-compile and prepare package for lazy loading Creating a new generic function for ‘signature’ in package ‘SigCheck’ ** help *** installing help indices ** building package indices ** installing vignettes ** testing if installed package can be loaded * DONE (SigCheck)
SigCheck.Rcheck/SigCheck-Ex.timings
| name | user | system | elapsed | |
| SigCheckObject-class | 0.006 | 0.001 | 0.007 | |
| classifyResults | 0.051 | 0.003 | 0.056 | |
| knownSignatures | 0.030 | 0.004 | 0.033 | |
| nkiResults | 0.026 | 0.004 | 0.030 | |
| sigCheck | 16.157 | 1.333 | 17.636 | |
| sigCheckAll | 114.057 | 15.064 | 130.210 | |
| sigCheckKnown | 55.146 | 7.057 | 62.776 | |
| sigCheckPermuted | 15.218 | 1.558 | 16.950 | |
| sigCheckPlot | 13.995 | 1.601 | 15.759 | |
| sigCheckRandom | 10.589 | 1.030 | 11.769 | |