| Back to Multiple platform build/check report for BioC 3.9 |
|
This page was generated on 2019-04-09 12:01:11 -0400 (Tue, 09 Apr 2019).
| Package 1432/1703 | Hostname | OS / Arch | INSTALL | BUILD | CHECK | BUILD BIN | ||||||
| SCAN.UPC 2.25.1 Stephen R. Piccolo
| malbec2 | Linux (Ubuntu 18.04.2 LTS) / x86_64 | OK | OK | OK | |||||||
| tokay2 | Windows Server 2012 R2 Standard / x64 | [ OK ] | OK | OK | OK | |||||||
| celaya2 | OS X 10.11.6 El Capitan / x86_64 | OK | OK | OK | OK | |||||||
| merida2 | OS X 10.11.6 El Capitan / x86_64 | OK | OK | OK | OK |
| Package: SCAN.UPC |
| Version: 2.25.1 |
| Command: C:\cygwin\bin\curl.exe -O https://malbec2.bioconductor.org/BBS/3.9/bioc/src/contrib/SCAN.UPC_2.25.1.tar.gz && rm -rf SCAN.UPC.buildbin-libdir && mkdir SCAN.UPC.buildbin-libdir && C:\Users\biocbuild\bbs-3.9-bioc\R\bin\R.exe CMD INSTALL --merge-multiarch --build --library=SCAN.UPC.buildbin-libdir SCAN.UPC_2.25.1.tar.gz && C:\Users\biocbuild\bbs-3.9-bioc\R\bin\R.exe CMD INSTALL SCAN.UPC_2.25.1.zip && rm SCAN.UPC_2.25.1.tar.gz SCAN.UPC_2.25.1.zip |
| StartedAt: 2019-04-08 19:57:09 -0400 (Mon, 08 Apr 2019) |
| EndedAt: 2019-04-08 19:58:09 -0400 (Mon, 08 Apr 2019) |
| EllapsedTime: 59.8 seconds |
| RetCode: 0 |
| Status: OK |
##############################################################################
##############################################################################
###
### Running command:
###
### C:\cygwin\bin\curl.exe -O https://malbec2.bioconductor.org/BBS/3.9/bioc/src/contrib/SCAN.UPC_2.25.1.tar.gz && rm -rf SCAN.UPC.buildbin-libdir && mkdir SCAN.UPC.buildbin-libdir && C:\Users\biocbuild\bbs-3.9-bioc\R\bin\R.exe CMD INSTALL --merge-multiarch --build --library=SCAN.UPC.buildbin-libdir SCAN.UPC_2.25.1.tar.gz && C:\Users\biocbuild\bbs-3.9-bioc\R\bin\R.exe CMD INSTALL SCAN.UPC_2.25.1.zip && rm SCAN.UPC_2.25.1.tar.gz SCAN.UPC_2.25.1.zip
###
##############################################################################
##############################################################################
% Total % Received % Xferd Average Speed Time Time Time Current
Dload Upload Total Spent Left Speed
0 0 0 0 0 0 0 0 --:--:-- --:--:-- --:--:-- 0
100 274k 100 274k 0 0 3516k 0 --:--:-- --:--:-- --:--:-- 3860k
install for i386
* installing *source* package 'SCAN.UPC' ...
** R
** inst
** byte-compile and prepare package for lazy loading
Parallel computing support for 'oligo/crlmm': Disabled
- Load 'ff'
- Load and register a 'foreach' adaptor
Example - Using 'multicore' for 2 cores:
library(doMC)
registerDoMC(2)
================================================================================
** help
*** installing help indices
converting help for package 'SCAN.UPC'
finding HTML links ... done
BatchAdjust html
BatchAdjustFromFile html
InstallBrainArrayPackage html
ParseMetaFromGtfFile html
SCAN html
SCAN_TwoColor html
UPC_Generic html
UPC_Generic_ExpressionSet html
UPC_RNASeq html
UPC_RNASeq_Single html
UPC_TwoColor html
** building package indices
** installing vignettes
** testing if installed package can be loaded from temporary location
Parallel computing support for 'oligo/crlmm': Disabled
- Load 'ff'
- Load and register a 'foreach' adaptor
Example - Using 'multicore' for 2 cores:
library(doMC)
registerDoMC(2)
================================================================================
** testing if installed package can be loaded from final location
Parallel computing support for 'oligo/crlmm': Disabled
- Load 'ff'
- Load and register a 'foreach' adaptor
Example - Using 'multicore' for 2 cores:
library(doMC)
registerDoMC(2)
================================================================================
** testing if installed package keeps a record of temporary installation path
install for x64
* installing *source* package 'SCAN.UPC' ...
** testing if installed package can be loaded
Parallel computing support for 'oligo/crlmm': Disabled
- Load 'ff'
- Load and register a 'foreach' adaptor
Example - Using 'multicore' for 2 cores:
library(doMC)
registerDoMC(2)
================================================================================
* MD5 sums
packaged installation of 'SCAN.UPC' as SCAN.UPC_2.25.1.zip
* DONE (SCAN.UPC)
* installing to library 'C:/Users/biocbuild/bbs-3.9-bioc/R/library'
package 'SCAN.UPC' successfully unpacked and MD5 sums checked