| Back to Multiple platform build/check report for BioC 3.9 |
|
This page was generated on 2019-04-09 13:27:32 -0400 (Tue, 09 Apr 2019).
| Package 1432/1703 | Hostname | OS / Arch | INSTALL | BUILD | CHECK | BUILD BIN | ||||||
| SCAN.UPC 2.25.1 Stephen R. Piccolo
| malbec2 | Linux (Ubuntu 18.04.2 LTS) / x86_64 | OK | OK | OK | |||||||
| tokay2 | Windows Server 2012 R2 Standard / x64 | OK | OK | OK | OK | |||||||
| celaya2 | OS X 10.11.6 El Capitan / x86_64 | OK | OK | OK | OK | |||||||
| merida2 | OS X 10.11.6 El Capitan / x86_64 | OK | OK | OK | [ OK ] |
| Package: SCAN.UPC |
| Version: 2.25.1 |
| Command: rm -rf SCAN.UPC.buildbin-libdir && mkdir SCAN.UPC.buildbin-libdir && /Users/biocbuild/BBS/utils/build-universal.sh SCAN.UPC_2.25.1.tar.gz /Library/Frameworks/R.framework/Versions/Current/Resources/bin/R SCAN.UPC.buildbin-libdir |
| StartedAt: 2019-04-09 06:26:07 -0400 (Tue, 09 Apr 2019) |
| EndedAt: 2019-04-09 06:27:22 -0400 (Tue, 09 Apr 2019) |
| EllapsedTime: 74.7 seconds |
| RetCode: 0 |
| Status: OK |
| PackageFile: SCAN.UPC_2.25.1.tgz |
| PackageFileSize: 443.8 KiB |
##############################################################################
##############################################################################
###
### Running command:
###
### rm -rf SCAN.UPC.buildbin-libdir && mkdir SCAN.UPC.buildbin-libdir && /Users/biocbuild/BBS/utils/build-universal.sh SCAN.UPC_2.25.1.tar.gz /Library/Frameworks/R.framework/Versions/Current/Resources/bin/R SCAN.UPC.buildbin-libdir
###
##############################################################################
##############################################################################
>>>>>>>
>>>>>>> INSTALLATION WITH 'R CMD INSTALL --preclean --no-multiarch --library=SCAN.UPC.buildbin-libdir SCAN.UPC_2.25.1.tar.gz'
>>>>>>>
* installing *source* package ‘SCAN.UPC’ ...
** R
** inst
** byte-compile and prepare package for lazy loading
Parallel computing support for 'oligo/crlmm': Disabled
- Load 'ff'
- Load and register a 'foreach' adaptor
Example - Using 'multicore' for 2 cores:
library(doMC)
registerDoMC(2)
================================================================================
** help
*** installing help indices
** building package indices
** installing vignettes
** testing if installed package can be loaded
Parallel computing support for 'oligo/crlmm': Disabled
- Load 'ff'
- Load and register a 'foreach' adaptor
Example - Using 'multicore' for 2 cores:
library(doMC)
registerDoMC(2)
================================================================================
* DONE (SCAN.UPC)