| Back to Multiple platform build/check report for BioC 3.9 |
|
This page was generated on 2019-04-09 13:31:31 -0400 (Tue, 09 Apr 2019).
| Package 1375/1703 | Hostname | OS / Arch | INSTALL | BUILD | CHECK | BUILD BIN | ||||||
| RnBeads 2.1.0 Fabian Mueller
| malbec2 | Linux (Ubuntu 18.04.2 LTS) / x86_64 | OK | OK | OK | |||||||
| tokay2 | Windows Server 2012 R2 Standard / x64 | OK | OK | OK | OK | |||||||
| celaya2 | OS X 10.11.6 El Capitan / x86_64 | OK | OK | OK | OK | |||||||
| merida2 | OS X 10.11.6 El Capitan / x86_64 | OK | [ OK ] | OK | OK |
| Package: RnBeads |
| Version: 2.1.0 |
| Command: /Library/Frameworks/R.framework/Versions/Current/Resources/bin/R CMD build --keep-empty-dirs --no-resave-data RnBeads |
| StartedAt: 2019-04-08 21:11:27 -0400 (Mon, 08 Apr 2019) |
| EndedAt: 2019-04-08 21:14:01 -0400 (Mon, 08 Apr 2019) |
| EllapsedTime: 153.2 seconds |
| RetCode: 0 |
| Status: OK |
| PackageFile: RnBeads_2.1.0.tar.gz |
| PackageFileSize: 6.246 MiB |
##############################################################################
##############################################################################
###
### Running command:
###
### /Library/Frameworks/R.framework/Versions/Current/Resources/bin/R CMD build --keep-empty-dirs --no-resave-data RnBeads
###
##############################################################################
##############################################################################
* checking for file ‘RnBeads/DESCRIPTION’ ... OK
* preparing ‘RnBeads’:
* checking DESCRIPTION meta-information ... OK
* installing the package to build vignettes
* creating vignettes ... OK
Warning: ‘inst/doc’ file
‘RnBeads_Annotations.R’
ignored as vignettes have been rebuilt.
Run R CMD build with --no-build-vignettes to prevent rebuilding.
* checking for LF line-endings in source and make files and shell scripts
* checking for empty or unneeded directories
* looking to see if a ‘data/datalist’ file should be added
* building ‘RnBeads_2.1.0.tar.gz’