| Back to Multiple platform build/check report for BioC 3.9 |
|
This page was generated on 2019-04-09 13:31:32 -0400 (Tue, 09 Apr 2019).
| Package 1375/1703 | Hostname | OS / Arch | INSTALL | BUILD | CHECK | BUILD BIN | ||||||
| RnBeads 2.1.0 Fabian Mueller
| malbec2 | Linux (Ubuntu 18.04.2 LTS) / x86_64 | OK | OK | OK | |||||||
| tokay2 | Windows Server 2012 R2 Standard / x64 | OK | OK | OK | OK | |||||||
| celaya2 | OS X 10.11.6 El Capitan / x86_64 | OK | OK | OK | OK | |||||||
| merida2 | OS X 10.11.6 El Capitan / x86_64 | OK | OK | OK | [ OK ] |
| Package: RnBeads |
| Version: 2.1.0 |
| Command: rm -rf RnBeads.buildbin-libdir && mkdir RnBeads.buildbin-libdir && /Users/biocbuild/BBS/utils/build-universal.sh RnBeads_2.1.0.tar.gz /Library/Frameworks/R.framework/Versions/Current/Resources/bin/R RnBeads.buildbin-libdir |
| StartedAt: 2019-04-09 06:21:42 -0400 (Tue, 09 Apr 2019) |
| EndedAt: 2019-04-09 06:22:46 -0400 (Tue, 09 Apr 2019) |
| EllapsedTime: 64.2 seconds |
| RetCode: 0 |
| Status: OK |
| PackageFile: RnBeads_2.1.0.tgz |
| PackageFileSize: 6.827 MiB |
############################################################################## ############################################################################## ### ### Running command: ### ### rm -rf RnBeads.buildbin-libdir && mkdir RnBeads.buildbin-libdir && /Users/biocbuild/BBS/utils/build-universal.sh RnBeads_2.1.0.tar.gz /Library/Frameworks/R.framework/Versions/Current/Resources/bin/R RnBeads.buildbin-libdir ### ############################################################################## ############################################################################## >>>>>>> >>>>>>> INSTALLATION WITH 'R CMD INSTALL --preclean --no-multiarch --library=RnBeads.buildbin-libdir RnBeads_2.1.0.tar.gz' >>>>>>> * installing *source* package ‘RnBeads’ ... ** R ** data ** inst ** byte-compile and prepare package for lazy loading ** help *** installing help indices ** building package indices ** installing vignettes ** testing if installed package can be loaded * DONE (RnBeads)