| Back to Multiple platform build/check report for BioC 3.9 |
|
This page was generated on 2019-04-09 12:45:10 -0400 (Tue, 09 Apr 2019).
| Package 1307/1703 | Hostname | OS / Arch | INSTALL | BUILD | CHECK | BUILD BIN | ||||||
| RcwlPipelines 0.99.11 Qiang Hu
| malbec2 | Linux (Ubuntu 18.04.2 LTS) / x86_64 | OK | OK | OK | |||||||
| tokay2 | Windows Server 2012 R2 Standard / x64 | [ ERROR ] | ERROR | skipped | skipped | |||||||
| celaya2 | OS X 10.11.6 El Capitan / x86_64 | ERROR | ERROR | skipped | skipped | |||||||
| merida2 | OS X 10.11.6 El Capitan / x86_64 | ERROR | ERROR | skipped | skipped |
| Package: RcwlPipelines |
| Version: 0.99.11 |
| Command: C:\Users\biocbuild\bbs-3.9-bioc\R\bin\R.exe CMD INSTALL RcwlPipelines |
| StartedAt: 2019-04-08 19:32:14 -0400 (Mon, 08 Apr 2019) |
| EndedAt: 2019-04-08 19:32:17 -0400 (Mon, 08 Apr 2019) |
| EllapsedTime: 3.7 seconds |
| RetCode: 1 |
| Status: ERROR |
############################################################################## ############################################################################## ### ### Running command: ### ### C:\Users\biocbuild\bbs-3.9-bioc\R\bin\R.exe CMD INSTALL RcwlPipelines ### ############################################################################## ############################################################################## * installing to library 'C:/Users/biocbuild/bbs-3.9-bioc/R/library' ERROR: dependency 'Rcwl' is not available for package 'RcwlPipelines' * removing 'C:/Users/biocbuild/bbs-3.9-bioc/R/library/RcwlPipelines'