| Back to Multiple platform build/check report for BioC 3.9 |
|
This page was generated on 2019-04-09 13:21:58 -0400 (Tue, 09 Apr 2019).
| Package 1307/1703 | Hostname | OS / Arch | INSTALL | BUILD | CHECK | BUILD BIN | ||||||
| RcwlPipelines 0.99.11 Qiang Hu
| malbec2 | Linux (Ubuntu 18.04.2 LTS) / x86_64 | OK | OK | OK | |||||||
| tokay2 | Windows Server 2012 R2 Standard / x64 | ERROR | ERROR | skipped | skipped | |||||||
| celaya2 | OS X 10.11.6 El Capitan / x86_64 | [ ERROR ] | ERROR | skipped | skipped | |||||||
| merida2 | OS X 10.11.6 El Capitan / x86_64 | ERROR | ERROR | skipped | skipped |
| Package: RcwlPipelines |
| Version: 0.99.11 |
| Command: /Library/Frameworks/R.framework/Versions/Current/Resources/bin/R CMD INSTALL RcwlPipelines |
| StartedAt: 2019-04-08 18:35:21 -0400 (Mon, 08 Apr 2019) |
| EndedAt: 2019-04-08 18:35:56 -0400 (Mon, 08 Apr 2019) |
| EllapsedTime: 35.5 seconds |
| RetCode: 1 |
| Status: ERROR |
############################################################################## ############################################################################## ### ### Running command: ### ### /Library/Frameworks/R.framework/Versions/Current/Resources/bin/R CMD INSTALL RcwlPipelines ### ############################################################################## ############################################################################## * installing to library ‘/Library/Frameworks/R.framework/Versions/3.6/Resources/library’ ERROR: dependency ‘Rcwl’ is not available for package ‘RcwlPipelines’ * removing ‘/Library/Frameworks/R.framework/Versions/3.6/Resources/library/RcwlPipelines’