| Back to Multiple platform build/check report for BioC 3.9 | 
 | 
This page was generated on 2019-04-09 12:24:06 -0400 (Tue, 09 Apr 2019).
| Package 1403/1703 | Hostname | OS / Arch | INSTALL | BUILD | CHECK | BUILD BIN | ||||||
| RTCGAToolbox 2.13.9 Marcel Ramos 
 | malbec2 | Linux (Ubuntu 18.04.2 LTS) / x86_64 | OK | OK | OK |  | ||||||
| tokay2 | Windows Server 2012 R2 Standard / x64 | [ OK ] | OK | WARNINGS | OK |  | ||||||
| celaya2 | OS X 10.11.6 El Capitan / x86_64 | OK | OK | OK | OK |  | ||||||
| merida2 | OS X 10.11.6 El Capitan / x86_64 | OK | OK | OK | OK | 
| Package: RTCGAToolbox | 
| Version: 2.13.9 | 
| Command: C:\cygwin\bin\curl.exe -O https://malbec2.bioconductor.org/BBS/3.9/bioc/src/contrib/RTCGAToolbox_2.13.9.tar.gz && rm -rf RTCGAToolbox.buildbin-libdir && mkdir RTCGAToolbox.buildbin-libdir && C:\Users\biocbuild\bbs-3.9-bioc\R\bin\R.exe CMD INSTALL --merge-multiarch --build --library=RTCGAToolbox.buildbin-libdir RTCGAToolbox_2.13.9.tar.gz && C:\Users\biocbuild\bbs-3.9-bioc\R\bin\R.exe CMD INSTALL RTCGAToolbox_2.13.9.zip && rm RTCGAToolbox_2.13.9.tar.gz RTCGAToolbox_2.13.9.zip | 
| StartedAt: 2019-04-08 20:37:37 -0400 (Mon, 08 Apr 2019) | 
| EndedAt: 2019-04-08 20:38:26 -0400 (Mon, 08 Apr 2019) | 
| EllapsedTime: 48.5 seconds | 
| RetCode: 0 | 
| Status: OK | 
##############################################################################
##############################################################################
###
### Running command:
###
###   C:\cygwin\bin\curl.exe -O https://malbec2.bioconductor.org/BBS/3.9/bioc/src/contrib/RTCGAToolbox_2.13.9.tar.gz && rm -rf RTCGAToolbox.buildbin-libdir && mkdir RTCGAToolbox.buildbin-libdir && C:\Users\biocbuild\bbs-3.9-bioc\R\bin\R.exe CMD INSTALL --merge-multiarch --build --library=RTCGAToolbox.buildbin-libdir RTCGAToolbox_2.13.9.tar.gz && C:\Users\biocbuild\bbs-3.9-bioc\R\bin\R.exe CMD INSTALL RTCGAToolbox_2.13.9.zip && rm RTCGAToolbox_2.13.9.tar.gz RTCGAToolbox_2.13.9.zip
###
##############################################################################
##############################################################################
  % Total    % Received % Xferd  Average Speed   Time    Time     Time  Current
                                 Dload  Upload   Total   Spent    Left  Speed
  0     0    0     0    0     0      0      0 --:--:-- --:--:-- --:--:--     0
 20 2538k   20  528k    0     0  3416k      0 --:--:-- --:--:-- --:--:-- 3567k
100 2538k  100 2538k    0     0  7539k      0 --:--:-- --:--:-- --:--:-- 7692k
install for i386
Warning in untar2(tarfile, files, list, exdir, restore_times) :
  failed to copy 'RTCGAToolbox/inst/NEWS' to 'RTCGAToolbox/NEWS.md'
* installing *source* package 'RTCGAToolbox' ...
** R
** data
*** moving datasets to lazyload DB
** inst
** byte-compile and prepare package for lazy loading
** help
*** installing help indices
  converting help for package 'RTCGAToolbox'
    finding HTML links ... done
    CorResult-class                         html  
    DGEResult-class                         html  
    FirehoseCGHArray-class                  html  
    FirehoseData-class                      html  
    FirehoseGISTIC-class                    html  
    FirehoseMethylationArray-class          html  
    FirehosemRNAArray-class                 html  
    RTCGASample                             html  
    RTCGAToolbox                            html  
    biocExtract                             html  
    finding level-2 HTML links ... done
Rd warning: C:/Users/biocbuild/bbs-3.9-bioc/tmpdir/RtmpQjMwcq/R.INSTALLd20618a58fb/RTCGAToolbox/man/biocExtract.Rd:32: file link 'RaggedExperiment' in package 'RaggedExperiment' does not exist and so has been treated as a topic
    getBroadSubtypes                        html  
    getCNGECorrelation                      html  
    getData                                 html  
    getDiffExpressedGenes                   html  
    getFirehoseAnalyzeDates                 html  
    getFirehoseData                         html  
    getFirehoseDatasets                     html  
    getFirehoseRunningDates                 html  
    getGISTICPeaks                          html  
    getMutationRate                         html  
    getReport                               html  
    getSurvival                             html  
    hg19.ucsc.gene.locations                html  
    selectType                              html  
    showResults-CorResult                   html  
    showResults-DGEResult                   html  
    showResults                             html  
** building package indices
** installing vignettes
** testing if installed package can be loaded from temporary location
** testing if installed package can be loaded from final location
** testing if installed package keeps a record of temporary installation path
install for x64
Warning in untar2(tarfile, files, list, exdir, restore_times) :
  failed to copy 'RTCGAToolbox/inst/NEWS' to 'RTCGAToolbox/NEWS.md'
* installing *source* package 'RTCGAToolbox' ...
** testing if installed package can be loaded
* MD5 sums
packaged installation of 'RTCGAToolbox' as RTCGAToolbox_2.13.9.zip
* DONE (RTCGAToolbox)
* installing to library 'C:/Users/biocbuild/bbs-3.9-bioc/R/library'
package 'RTCGAToolbox' successfully unpacked and MD5 sums checked