| Back to Multiple platform build/check report for BioC 3.9 | 
 | 
This page was generated on 2019-04-09 13:14:12 -0400 (Tue, 09 Apr 2019).
| Package 1403/1703 | Hostname | OS / Arch | INSTALL | BUILD | CHECK | BUILD BIN | ||||||
| RTCGAToolbox 2.13.9 Marcel Ramos 
 | malbec2 | Linux (Ubuntu 18.04.2 LTS) / x86_64 | OK | OK | OK |  | ||||||
| tokay2 | Windows Server 2012 R2 Standard / x64 | OK | OK | WARNINGS | OK |  | ||||||
| celaya2 | OS X 10.11.6 El Capitan / x86_64 | OK | OK | [ OK ] | OK |  | ||||||
| merida2 | OS X 10.11.6 El Capitan / x86_64 | OK | OK | OK | OK | 
| Package: RTCGAToolbox | 
| Version: 2.13.9 | 
| Command: /Library/Frameworks/R.framework/Versions/Current/Resources/bin/R CMD check --install=check:RTCGAToolbox.install-out.txt --library=/Library/Frameworks/R.framework/Versions/Current/Resources/library --no-vignettes --timings RTCGAToolbox_2.13.9.tar.gz | 
| StartedAt: 2019-04-09 05:11:06 -0400 (Tue, 09 Apr 2019) | 
| EndedAt: 2019-04-09 05:15:23 -0400 (Tue, 09 Apr 2019) | 
| EllapsedTime: 256.6 seconds | 
| RetCode: 0 | 
| Status: OK | 
| CheckDir: RTCGAToolbox.Rcheck | 
| Warnings: 0 | 
##############################################################################
##############################################################################
###
### Running command:
###
###   /Library/Frameworks/R.framework/Versions/Current/Resources/bin/R CMD check --install=check:RTCGAToolbox.install-out.txt --library=/Library/Frameworks/R.framework/Versions/Current/Resources/library --no-vignettes --timings RTCGAToolbox_2.13.9.tar.gz
###
##############################################################################
##############################################################################
* using log directory ‘/Users/biocbuild/bbs-3.9-bioc/meat/RTCGAToolbox.Rcheck’
* using R Under development (unstable) (2019-03-18 r76245)
* using platform: x86_64-apple-darwin15.6.0 (64-bit)
* using session charset: UTF-8
* using option ‘--no-vignettes’
* checking for file ‘RTCGAToolbox/DESCRIPTION’ ... OK
* checking extension type ... Package
* this is package ‘RTCGAToolbox’ version ‘2.13.9’
* checking package namespace information ... OK
* checking package dependencies ... OK
* checking if this is a source package ... OK
* checking if there is a namespace ... OK
* checking for hidden files and directories ... OK
* checking for portable file names ... OK
* checking for sufficient/correct file permissions ... OK
* checking whether package ‘RTCGAToolbox’ can be installed ... OK
* checking installed package size ... OK
* checking package directory ... OK
* checking ‘build’ directory ... OK
* checking DESCRIPTION meta-information ... OK
* checking top-level files ... OK
* checking for left-over files ... OK
* checking index information ... OK
* checking package subdirectories ... OK
* checking R files for non-ASCII characters ... OK
* checking R files for syntax errors ... OK
* checking whether the package can be loaded ... OK
* checking whether the package can be loaded with stated dependencies ... OK
* checking whether the package can be unloaded cleanly ... OK
* checking whether the namespace can be loaded with stated dependencies ... OK
* checking whether the namespace can be unloaded cleanly ... OK
* checking dependencies in R code ... OK
* checking S3 generic/method consistency ... OK
* checking replacement functions ... OK
* checking foreign function calls ... OK
* checking R code for possible problems ... OK
* checking Rd files ... OK
* checking Rd metadata ... OK
* checking Rd cross-references ... OK
* checking for missing documentation entries ... OK
* checking for code/documentation mismatches ... OK
* checking Rd \usage sections ... OK
* checking Rd contents ... OK
* checking for unstated dependencies in examples ... OK
* checking contents of ‘data’ directory ... OK
* checking data for non-ASCII characters ... OK
* checking data for ASCII and uncompressed saves ... OK
* checking files in ‘vignettes’ ... OK
* checking examples ... OK
Examples with CPU or elapsed time > 5s
            user system elapsed
getReport 10.814  0.497  11.317
* checking for unstated dependencies in vignettes ... OK
* checking package vignettes in ‘inst/doc’ ... OK
* checking running R code from vignettes ... SKIPPED
* checking re-building of vignette outputs ... SKIPPED
* checking PDF version of manual ... OK
* DONE
Status: OK
RTCGAToolbox.Rcheck/00install.out
############################################################################## ############################################################################## ### ### Running command: ### ### /Library/Frameworks/R.framework/Versions/Current/Resources/bin/R CMD INSTALL RTCGAToolbox ### ############################################################################## ############################################################################## * installing to library ‘/Library/Frameworks/R.framework/Versions/3.6/Resources/library’ * installing *source* package ‘RTCGAToolbox’ ... ** using staged installation ** R ** data *** moving datasets to lazyload DB ** inst ** byte-compile and prepare package for lazy loading ** help *** installing help indices ** building package indices ** installing vignettes ** testing if installed package can be loaded from temporary location ** testing if installed package can be loaded from final location ** testing if installed package keeps a record of temporary installation path * DONE (RTCGAToolbox)
RTCGAToolbox.Rcheck/RTCGAToolbox-Ex.timings
| name | user | system | elapsed | |
| biocExtract | 0.000 | 0.001 | 0.000 | |
| getBroadSubtypes | 0.017 | 0.004 | 0.224 | |
| getCNGECorrelation | 2.141 | 0.155 | 2.295 | |
| getData | 0.690 | 0.682 | 1.372 | |
| getDiffExpressedGenes | 0.380 | 0.048 | 0.429 | |
| getFirehoseAnalyzeDates | 0.003 | 0.002 | 1.205 | |
| getFirehoseData | 0.036 | 0.012 | 0.048 | |
| getFirehoseDatasets | 0.003 | 0.001 | 0.148 | |
| getFirehoseRunningDates | 0.005 | 0.003 | 0.299 | |
| getGISTICPeaks | 1.768 | 0.427 | 2.921 | |
| getMutationRate | 0.050 | 0.010 | 0.059 | |
| getReport | 10.814 | 0.497 | 11.317 | |
| getSurvival | 0.231 | 0.029 | 0.260 | |
| showResults-CorResult | 1.499 | 0.196 | 1.695 | |
| showResults-DGEResult | 0.324 | 0.021 | 0.355 | |
| showResults | 0.246 | 0.024 | 0.271 | |