| Back to Multiple platform build/check report for BioC 3.9 |
|
This page was generated on 2019-04-09 12:25:36 -0400 (Tue, 09 Apr 2019).
| Package 1339/1703 | Hostname | OS / Arch | INSTALL | BUILD | CHECK | BUILD BIN | ||||||
| RGraph2js 1.11.0 Stephane Cano
| malbec2 | Linux (Ubuntu 18.04.2 LTS) / x86_64 | OK | OK | OK | |||||||
| tokay2 | Windows Server 2012 R2 Standard / x64 | [ OK ] | OK | OK | OK | |||||||
| celaya2 | OS X 10.11.6 El Capitan / x86_64 | OK | OK | OK | OK | |||||||
| merida2 | OS X 10.11.6 El Capitan / x86_64 | OK | OK | OK | OK |
| Package: RGraph2js |
| Version: 1.11.0 |
| Command: C:\cygwin\bin\curl.exe -O https://malbec2.bioconductor.org/BBS/3.9/bioc/src/contrib/RGraph2js_1.11.0.tar.gz && rm -rf RGraph2js.buildbin-libdir && mkdir RGraph2js.buildbin-libdir && C:\Users\biocbuild\bbs-3.9-bioc\R\bin\R.exe CMD INSTALL --merge-multiarch --build --library=RGraph2js.buildbin-libdir RGraph2js_1.11.0.tar.gz && C:\Users\biocbuild\bbs-3.9-bioc\R\bin\R.exe CMD INSTALL RGraph2js_1.11.0.zip && rm RGraph2js_1.11.0.tar.gz RGraph2js_1.11.0.zip |
| StartedAt: 2019-04-08 18:31:48 -0400 (Mon, 08 Apr 2019) |
| EndedAt: 2019-04-08 18:32:49 -0400 (Mon, 08 Apr 2019) |
| EllapsedTime: 60.4 seconds |
| RetCode: 0 |
| Status: OK |
##############################################################################
##############################################################################
###
### Running command:
###
### C:\cygwin\bin\curl.exe -O https://malbec2.bioconductor.org/BBS/3.9/bioc/src/contrib/RGraph2js_1.11.0.tar.gz && rm -rf RGraph2js.buildbin-libdir && mkdir RGraph2js.buildbin-libdir && C:\Users\biocbuild\bbs-3.9-bioc\R\bin\R.exe CMD INSTALL --merge-multiarch --build --library=RGraph2js.buildbin-libdir RGraph2js_1.11.0.tar.gz && C:\Users\biocbuild\bbs-3.9-bioc\R\bin\R.exe CMD INSTALL RGraph2js_1.11.0.zip && rm RGraph2js_1.11.0.tar.gz RGraph2js_1.11.0.zip
###
##############################################################################
##############################################################################
% Total % Received % Xferd Average Speed Time Time Time Current
Dload Upload Total Spent Left Speed
0 0 0 0 0 0 0 0 --:--:-- --:--:-- --:--:-- 0
100 1469k 100 1469k 0 0 20.6M 0 --:--:-- --:--:-- --:--:-- 23.1M
install for i386
* installing *source* package 'RGraph2js' ...
** R
** inst
** byte-compile and prepare package for lazy loading
** help
*** installing help indices
converting help for package 'RGraph2js'
finding HTML links ... done
generateOptionsJSCode html
getAdjMat html
getDefaultOptions html
getDefaultToolParameters html
getEdgesDataFrame html
getHTMLContainerCode html
getHTMLStyleCode html
getJSCode html
getNodesDataFrame html
getUUID html
graph2js html
graph2json html
** building package indices
** installing vignettes
** testing if installed package can be loaded from temporary location
** testing if installed package can be loaded from final location
** testing if installed package keeps a record of temporary installation path
install for x64
* installing *source* package 'RGraph2js' ...
** testing if installed package can be loaded
* MD5 sums
packaged installation of 'RGraph2js' as RGraph2js_1.11.0.zip
* DONE (RGraph2js)
* installing to library 'C:/Users/biocbuild/bbs-3.9-bioc/R/library'
package 'RGraph2js' successfully unpacked and MD5 sums checked