| Back to Multiple platform build/check report for BioC 3.9 | 
 | 
This page was generated on 2019-04-09 12:25:37 -0400 (Tue, 09 Apr 2019).
| Package 1339/1703 | Hostname | OS / Arch | INSTALL | BUILD | CHECK | BUILD BIN | ||||||
| RGraph2js 1.11.0 Stephane Cano 
 | malbec2 | Linux (Ubuntu 18.04.2 LTS) / x86_64 | OK | OK | OK |  | ||||||
| tokay2 | Windows Server 2012 R2 Standard / x64 | OK | OK | OK | [ OK ] |  | ||||||
| celaya2 | OS X 10.11.6 El Capitan / x86_64 | OK | OK | OK | OK |  | ||||||
| merida2 | OS X 10.11.6 El Capitan / x86_64 | OK | OK | OK | OK | 
| Package: RGraph2js | 
| Version: 1.11.0 | 
| Command: rm -rf RGraph2js.buildbin-libdir && mkdir RGraph2js.buildbin-libdir && C:\Users\biocbuild\bbs-3.9-bioc\R\bin\R.exe CMD INSTALL --merge-multiarch --build --library=RGraph2js.buildbin-libdir RGraph2js_1.11.0.tar.gz | 
| StartedAt: 2019-04-09 08:49:41 -0400 (Tue, 09 Apr 2019) | 
| EndedAt: 2019-04-09 08:50:01 -0400 (Tue, 09 Apr 2019) | 
| EllapsedTime: 20.0 seconds | 
| RetCode: 0 | 
| Status: OK | 
| PackageFile: RGraph2js_1.11.0.zip | 
| PackageFileSize: 1.534 MiB | 
##############################################################################
##############################################################################
###
### Running command:
###
###   rm -rf RGraph2js.buildbin-libdir && mkdir RGraph2js.buildbin-libdir && C:\Users\biocbuild\bbs-3.9-bioc\R\bin\R.exe CMD INSTALL --merge-multiarch --build --library=RGraph2js.buildbin-libdir RGraph2js_1.11.0.tar.gz
###
##############################################################################
##############################################################################
install for i386
* installing *source* package 'RGraph2js' ...
** R
** inst
** byte-compile and prepare package for lazy loading
** help
*** installing help indices
  converting help for package 'RGraph2js'
    finding HTML links ... done
    generateOptionsJSCode                   html  
    getAdjMat                               html  
    getDefaultOptions                       html  
    getDefaultToolParameters                html  
    getEdgesDataFrame                       html  
    getHTMLContainerCode                    html  
    getHTMLStyleCode                        html  
    getJSCode                               html  
    getNodesDataFrame                       html  
    getUUID                                 html  
    graph2js                                html  
    graph2json                              html  
** building package indices
** installing vignettes
** testing if installed package can be loaded from temporary location
** testing if installed package can be loaded from final location
** testing if installed package keeps a record of temporary installation path
install for x64
* installing *source* package 'RGraph2js' ...
** testing if installed package can be loaded
* MD5 sums
packaged installation of 'RGraph2js' as RGraph2js_1.11.0.zip
* DONE (RGraph2js)