| Back to Multiple platform build/check report for BioC 3.9 |
|
This page was generated on 2019-04-09 12:23:45 -0400 (Tue, 09 Apr 2019).
| Package 1309/1703 | Hostname | OS / Arch | INSTALL | BUILD | CHECK | BUILD BIN | ||||||
| RCyjs 2.5.12 Paul Shannon
| malbec2 | Linux (Ubuntu 18.04.2 LTS) / x86_64 | OK | OK | WARNINGS | |||||||
| tokay2 | Windows Server 2012 R2 Standard / x64 | OK | [ OK ] | WARNINGS | OK | |||||||
| celaya2 | OS X 10.11.6 El Capitan / x86_64 | OK | OK | WARNINGS | OK | |||||||
| merida2 | OS X 10.11.6 El Capitan / x86_64 | OK | OK | WARNINGS | OK |
| Package: RCyjs |
| Version: 2.5.12 |
| Command: chmod a+r RCyjs -R && C:\Users\biocbuild\bbs-3.9-bioc\R\bin\R.exe CMD build --keep-empty-dirs --no-resave-data RCyjs |
| StartedAt: 2019-04-08 22:49:15 -0400 (Mon, 08 Apr 2019) |
| EndedAt: 2019-04-08 22:49:44 -0400 (Mon, 08 Apr 2019) |
| EllapsedTime: 29.4 seconds |
| RetCode: 0 |
| Status: OK |
| PackageFile: RCyjs_2.5.12.tar.gz |
| PackageFileSize: 1.809 MiB |
##############################################################################
##############################################################################
###
### Running command:
###
### chmod a+r RCyjs -R && C:\Users\biocbuild\bbs-3.9-bioc\R\bin\R.exe CMD build --keep-empty-dirs --no-resave-data RCyjs
###
##############################################################################
##############################################################################
* checking for file 'RCyjs/DESCRIPTION' ... OK
* preparing 'RCyjs':
* checking DESCRIPTION meta-information ... OK
* installing the package to build vignettes
* creating vignettes ... OK
Warning: 'inst/doc' files
'RCyjs.Rmd', 'RCyjs.html', 'RCyjs.R'
ignored as vignettes have been rebuilt.
Run R CMD build with --no-build-vignettes to prevent rebuilding.
* checking for LF line-endings in source and make files and shell scripts
* checking for empty or unneeded directories
WARNING: directory 'RCyjs/inst/demo' is empty
* building 'RCyjs_2.5.12.tar.gz'