| Back to Multiple platform build/check report for BioC 3.9 |
|
This page was generated on 2019-04-09 12:23:45 -0400 (Tue, 09 Apr 2019).
| Package 1309/1703 | Hostname | OS / Arch | INSTALL | BUILD | CHECK | BUILD BIN | ||||||
| RCyjs 2.5.12 Paul Shannon
| malbec2 | Linux (Ubuntu 18.04.2 LTS) / x86_64 | OK | OK | WARNINGS | |||||||
| tokay2 | Windows Server 2012 R2 Standard / x64 | OK | OK | WARNINGS | [ OK ] | |||||||
| celaya2 | OS X 10.11.6 El Capitan / x86_64 | OK | OK | WARNINGS | OK | |||||||
| merida2 | OS X 10.11.6 El Capitan / x86_64 | OK | OK | WARNINGS | OK |
| Package: RCyjs |
| Version: 2.5.12 |
| Command: rm -rf RCyjs.buildbin-libdir && mkdir RCyjs.buildbin-libdir && C:\Users\biocbuild\bbs-3.9-bioc\R\bin\R.exe CMD INSTALL --merge-multiarch --build --library=RCyjs.buildbin-libdir RCyjs_2.5.12.tar.gz |
| StartedAt: 2019-04-09 08:47:50 -0400 (Tue, 09 Apr 2019) |
| EndedAt: 2019-04-09 08:48:07 -0400 (Tue, 09 Apr 2019) |
| EllapsedTime: 16.5 seconds |
| RetCode: 0 |
| Status: OK |
| PackageFile: RCyjs_2.5.12.zip |
| PackageFileSize: 1.712 MiB |
##############################################################################
##############################################################################
###
### Running command:
###
### rm -rf RCyjs.buildbin-libdir && mkdir RCyjs.buildbin-libdir && C:\Users\biocbuild\bbs-3.9-bioc\R\bin\R.exe CMD INSTALL --merge-multiarch --build --library=RCyjs.buildbin-libdir RCyjs_2.5.12.tar.gz
###
##############################################################################
##############################################################################
install for i386
* installing *source* package 'RCyjs' ...
** R
** inst
** byte-compile and prepare package for lazy loading
Creating a new generic function for 'layout' in package 'RCyjs'
** help
*** installing help indices
converting help for package 'RCyjs'
finding HTML links ... done
RCyjs-class html
addGraph html
addGraphFromFile html
clearSelection html
createTestGaph html
deleteGraph html
deleteSelectedNodes html
eda html
edaNames html
fit html
fitSelection html
getEdgeCount html
getJSON html
getLayoutStrategies html
getNodeCount html
getNodes html
getPosition html
getSelectedNodes html
getSupportedEdgeDecoratorShapes html
getSupportedNodeShapes html
getZoom html
hAlign html
hideAllEdges html
hideEdges html
hideSelectedNodes html
invertNodeSelection html
layout html
layoutSelectionInGrid html
layoutSelectionInGridInferAnchorm html
loadStyleFile html
noa html
noaNames html
redraw html
restoreLayout html
saveJPG html
saveLayout html
savePNG html
selectFirstNeighborsOfSelectedNodes html
selectNodes html
setBackgroundColor html
setDefaultEdgeColor html
setDefaultEdgeLineColor html
setDefaultEdgeLineStyle html
setDefaultEdgeSourceArrowColor html
setDefaultEdgeSourceArrowShape html
setDefaultEdgeTargetArrowColor html
setDefaultEdgeTargetArrowShape html
setDefaultEdgeWidth html
setDefaultNodeBorderColor html
setDefaultNodeBorderWidth html
setDefaultNodeColor html
setDefaultNodeFontColor html
setDefaultNodeFontSize html
setDefaultNodeHeight html
setDefaultNodeShape html
setDefaultNodeSize html
setDefaultNodeWidth html
setDefaultStyle html
setEdgeAttributes html
setEdgeStyle html
setGraph html
setNodeAttributes html
setNodeBorderColor html
setNodeBorderWidth html
setNodeColor html
setNodeColorRule html
setNodeFontColor html
setNodeFontSize html
setNodeHeight html
setNodeLabelAlignment html
setNodeLabelRule html
setNodeShape html
setNodeSize html
setNodeSizeRule html
setNodeWidth html
setPosition html
setZoom html
sfn html
showAll html
showEdges html
simpleDemoGraph html
vAlign html
** building package indices
** installing vignettes
** testing if installed package can be loaded from temporary location
** testing if installed package can be loaded from final location
** testing if installed package keeps a record of temporary installation path
install for x64
* installing *source* package 'RCyjs' ...
** testing if installed package can be loaded
* MD5 sums
packaged installation of 'RCyjs' as RCyjs_2.5.12.zip
* DONE (RCyjs)