| Back to Multiple platform build/check report for BioC 3.9 | 
 | 
This page was generated on 2019-04-09 13:38:31 -0400 (Tue, 09 Apr 2019).
| Package 1218/1703 | Hostname | OS / Arch | INSTALL | BUILD | CHECK | BUILD BIN | ||||||
| PrecisionTrialDrawer 0.99.17 Giorgio Melloni 
 | malbec2 | Linux (Ubuntu 18.04.2 LTS) / x86_64 | OK | OK | OK |  | ||||||
| tokay2 | Windows Server 2012 R2 Standard / x64 | OK | OK | OK | OK |  | ||||||
| celaya2 | OS X 10.11.6 El Capitan / x86_64 | OK | OK | OK | OK |  | ||||||
| merida2 | OS X 10.11.6 El Capitan / x86_64 | OK | OK | OK | [ OK ] | 
| Package: PrecisionTrialDrawer | 
| Version: 0.99.17 | 
| Command: rm -rf PrecisionTrialDrawer.buildbin-libdir && mkdir PrecisionTrialDrawer.buildbin-libdir && /Users/biocbuild/BBS/utils/build-universal.sh PrecisionTrialDrawer_0.99.17.tar.gz /Library/Frameworks/R.framework/Versions/Current/Resources/bin/R PrecisionTrialDrawer.buildbin-libdir | 
| StartedAt: 2019-04-09 06:10:37 -0400 (Tue, 09 Apr 2019) | 
| EndedAt: 2019-04-09 06:11:55 -0400 (Tue, 09 Apr 2019) | 
| EllapsedTime: 77.6 seconds | 
| RetCode: 0 | 
| Status: OK | 
| PackageFile: PrecisionTrialDrawer_0.99.17.tgz | 
| PackageFileSize: 1.062 MiB | 
############################################################################## ############################################################################## ### ### Running command: ### ### rm -rf PrecisionTrialDrawer.buildbin-libdir && mkdir PrecisionTrialDrawer.buildbin-libdir && /Users/biocbuild/BBS/utils/build-universal.sh PrecisionTrialDrawer_0.99.17.tar.gz /Library/Frameworks/R.framework/Versions/Current/Resources/bin/R PrecisionTrialDrawer.buildbin-libdir ### ############################################################################## ############################################################################## >>>>>>> >>>>>>> INSTALLATION WITH 'R CMD INSTALL --preclean --no-multiarch --library=PrecisionTrialDrawer.buildbin-libdir PrecisionTrialDrawer_0.99.17.tar.gz' >>>>>>> * installing *source* package ‘PrecisionTrialDrawer’ ... ** R ** data ** inst ** byte-compile and prepare package for lazy loading Creating a generic function for ‘toJSON’ from package ‘jsonlite’ in package ‘googleVis’ ** help *** installing help indices ** building package indices ** installing vignettes ** testing if installed package can be loaded Creating a generic function for ‘toJSON’ from package ‘jsonlite’ in package ‘googleVis’ * DONE (PrecisionTrialDrawer)