| Back to Multiple platform build/check report for BioC 3.9 |
|
This page was generated on 2019-04-09 13:16:45 -0400 (Tue, 09 Apr 2019).
| Package 1178/1703 | Hostname | OS / Arch | INSTALL | BUILD | CHECK | BUILD BIN | ||||||
| PharmacoGx 1.13.0 Benjamin Haibe-Kains
| malbec2 | Linux (Ubuntu 18.04.2 LTS) / x86_64 | ERROR | ERROR | skipped | |||||||
| tokay2 | Windows Server 2012 R2 Standard / x64 | ERROR | ERROR | skipped | skipped | |||||||
| celaya2 | OS X 10.11.6 El Capitan / x86_64 | ERROR | [ ERROR ] | skipped | skipped | |||||||
| merida2 | OS X 10.11.6 El Capitan / x86_64 | OK | OK | OK | OK |
| Package: PharmacoGx |
| Version: 1.13.0 |
| Command: /Library/Frameworks/R.framework/Versions/Current/Resources/bin/R CMD build --keep-empty-dirs --no-resave-data PharmacoGx |
| StartedAt: 2019-04-08 22:06:46 -0400 (Mon, 08 Apr 2019) |
| EndedAt: 2019-04-08 22:07:31 -0400 (Mon, 08 Apr 2019) |
| EllapsedTime: 45.7 seconds |
| RetCode: 1 |
| Status: ERROR |
| PackageFile: None |
| PackageFileSize: NA |
##############################################################################
##############################################################################
###
### Running command:
###
### /Library/Frameworks/R.framework/Versions/Current/Resources/bin/R CMD build --keep-empty-dirs --no-resave-data PharmacoGx
###
##############################################################################
##############################################################################
* checking for file ‘PharmacoGx/DESCRIPTION’ ... OK
* preparing ‘PharmacoGx’:
* checking DESCRIPTION meta-information ... OK
* installing the package to build vignettes
-----------------------------------
* installing *source* package ‘PharmacoGx’ ...
** using staged installation
** R
** data
** inst
** byte-compile and prepare package for lazy loading
** help
*** installing help indices
** building package indices
** installing vignettes
** testing if installed package can be loaded from temporary location
** testing if installed package can be loaded from final location
** testing if installed package keeps a record of temporary installation path
ERROR: hard-coded installation path: please report to the package maintainer and use ‘--no-staged-install’
* removing ‘/private/tmp/RtmptRd543/Rinstd6a72134338a/PharmacoGx’
-----------------------------------
ERROR: package installation failed