| Back to Multiple platform build/check report for BioC 3.9 |
|
This page was generated on 2019-04-09 13:15:34 -0400 (Tue, 09 Apr 2019).
| Package 934/1703 | Hostname | OS / Arch | INSTALL | BUILD | CHECK | BUILD BIN | ||||||
| Mergeomics 1.11.0 Zeyneb Kurt
| malbec2 | Linux (Ubuntu 18.04.2 LTS) / x86_64 | OK | OK | OK | |||||||
| tokay2 | Windows Server 2012 R2 Standard / x64 | OK | OK | OK | OK | |||||||
| celaya2 | OS X 10.11.6 El Capitan / x86_64 | OK | OK | [ OK ] | OK | |||||||
| merida2 | OS X 10.11.6 El Capitan / x86_64 | OK | OK | OK | OK |
| Package: Mergeomics |
| Version: 1.11.0 |
| Command: /Library/Frameworks/R.framework/Versions/Current/Resources/bin/R CMD check --install=check:Mergeomics.install-out.txt --library=/Library/Frameworks/R.framework/Versions/Current/Resources/library --no-vignettes --timings Mergeomics_1.11.0.tar.gz |
| StartedAt: 2019-04-09 03:21:15 -0400 (Tue, 09 Apr 2019) |
| EndedAt: 2019-04-09 03:36:35 -0400 (Tue, 09 Apr 2019) |
| EllapsedTime: 920.0 seconds |
| RetCode: 0 |
| Status: OK |
| CheckDir: Mergeomics.Rcheck |
| Warnings: 0 |
##############################################################################
##############################################################################
###
### Running command:
###
### /Library/Frameworks/R.framework/Versions/Current/Resources/bin/R CMD check --install=check:Mergeomics.install-out.txt --library=/Library/Frameworks/R.framework/Versions/Current/Resources/library --no-vignettes --timings Mergeomics_1.11.0.tar.gz
###
##############################################################################
##############################################################################
* using log directory ‘/Users/biocbuild/bbs-3.9-bioc/meat/Mergeomics.Rcheck’
* using R Under development (unstable) (2019-03-18 r76245)
* using platform: x86_64-apple-darwin15.6.0 (64-bit)
* using session charset: UTF-8
* using option ‘--no-vignettes’
* checking for file ‘Mergeomics/DESCRIPTION’ ... OK
* checking extension type ... Package
* this is package ‘Mergeomics’ version ‘1.11.0’
* checking package namespace information ... OK
* checking package dependencies ... OK
* checking if this is a source package ... OK
* checking if there is a namespace ... OK
* checking for hidden files and directories ... OK
* checking for portable file names ... OK
* checking for sufficient/correct file permissions ... OK
* checking whether package ‘Mergeomics’ can be installed ... OK
* checking installed package size ... NOTE
installed size is 8.3Mb
sub-directories of 1Mb or more:
extdata 7.5Mb
* checking package directory ... OK
* checking ‘build’ directory ... OK
* checking DESCRIPTION meta-information ... OK
* checking top-level files ... OK
* checking for left-over files ... OK
* checking index information ... OK
* checking package subdirectories ... OK
* checking R files for non-ASCII characters ... OK
* checking R files for syntax errors ... OK
* checking whether the package can be loaded ... OK
* checking whether the package can be loaded with stated dependencies ... OK
* checking whether the package can be unloaded cleanly ... OK
* checking whether the namespace can be loaded with stated dependencies ... OK
* checking whether the namespace can be unloaded cleanly ... OK
* checking dependencies in R code ... OK
* checking S3 generic/method consistency ... OK
* checking replacement functions ... OK
* checking foreign function calls ... OK
* checking R code for possible problems ... NOTE
kda.analyze: no visible global function definition for ‘p.adjust’
kda.analyze.exec: no visible global function definition for ‘pnorm’
kda.analyze.simulate: no visible global function definition for ‘rnorm’
kda.prepare: no visible global function definition for ‘quantile’
kda.prepare: no visible global function definition for ‘object.size’
kda.prepare.screen: no visible global function definition for
‘quantile’
kda.prepare.screen: no visible global function definition for ‘median’
kda.start: no visible global function definition for ‘object.size’
kda2cytoscape: no visible global function definition for ‘write.table’
kda2cytoscape.colormap: no visible global function definition for
‘rainbow’
kda2cytoscape.colormap: no visible global function definition for
‘col2rgb’
kda2himmeli: no visible global function definition for ‘quantile’
kda2himmeli: no visible global function definition for ‘write.table’
kda2himmeli.colormap: no visible global function definition for
‘rainbow’
kda2himmeli.colormap: no visible global function definition for
‘col2rgb’
ssea.analyze: no visible global function definition for ‘qnorm’
ssea.analyze: no visible global function definition for ‘approx’
ssea.analyze: no visible global function definition for ‘pnorm’
ssea.analyze.simulate: no visible global function definition for
‘quantile’
ssea.control: no visible global function definition for ‘median’
ssea.control: no visible global function definition for ‘object.size’
ssea.meta: no visible global function definition for ‘qnorm’
ssea.meta: no visible global function definition for ‘quantile’
ssea.meta: no visible global function definition for ‘pnorm’
ssea.meta: no visible global function definition for ‘median’
ssea.meta: no visible global function definition for ‘na.omit’
ssea.prepare: no visible global function definition for ‘median’
ssea.prepare: no visible global function definition for ‘object.size’
ssea.start: no visible global function definition for ‘na.omit’
ssea.start: no visible global function definition for ‘object.size’
ssea.start.configure: no visible global function definition for
‘write.table’
ssea2kda: no visible global function definition for ‘na.omit’
ssea2kda.import: no visible global function definition for ‘na.omit’
tool.aggregate: no visible global function definition for ‘na.omit’
tool.cluster: no visible global function definition for ‘as.dist’
tool.cluster: no visible global function definition for ‘hclust’
tool.fdr.bh: no visible global function definition for ‘qnorm’
tool.fdr.bh: no visible global function definition for ‘p.adjust’
tool.fdr.bh: no visible global function definition for ‘approx’
tool.fdr.empirical: no visible global function definition for ‘qnorm’
tool.fdr.empirical: no visible global function definition for ‘approx’
tool.metap: no visible global function definition for ‘qnorm’
tool.metap: no visible global function definition for ‘pnorm’
tool.normalize: no visible global function definition for ‘sd’
tool.normalize: no visible global function definition for ‘median’
tool.normalize: no visible global function definition for ‘optim’
tool.normalize: no visible global function definition for ‘ks.test’
tool.normalize.quality: no visible global function definition for ‘sd’
tool.normalize.quality: no visible global function definition for
‘ks.test’
tool.overlap: no visible global function definition for ‘phyper’
tool.read: no visible global function definition for ‘read.delim’
tool.read: no visible global function definition for ‘na.omit’
tool.save: no visible global function definition for ‘write.table’
tool.unify: no visible global function definition for ‘sd’
tool.unify: no visible global function definition for ‘quantile’
tool.unify: no visible global function definition for ‘approx’
Undefined global functions or variables:
approx as.dist col2rgb hclust ks.test median na.omit object.size
optim p.adjust phyper pnorm qnorm quantile rainbow read.delim rnorm
sd write.table
Consider adding
importFrom("grDevices", "col2rgb", "rainbow")
importFrom("stats", "approx", "as.dist", "hclust", "ks.test", "median",
"na.omit", "optim", "p.adjust", "phyper", "pnorm", "qnorm",
"quantile", "rnorm", "sd")
importFrom("utils", "object.size", "read.delim", "write.table")
to your NAMESPACE file.
* checking Rd files ... OK
* checking Rd metadata ... OK
* checking Rd cross-references ... OK
* checking for missing documentation entries ... OK
* checking for code/documentation mismatches ... OK
* checking Rd \usage sections ... OK
* checking Rd contents ... OK
* checking for unstated dependencies in examples ... OK
* checking contents of ‘data’ directory ... OK
* checking data for non-ASCII characters ... OK
* checking data for ASCII and uncompressed saves ... OK
* checking sizes of PDF files under ‘inst/doc’ ... OK
* checking files in ‘vignettes’ ... OK
* checking examples ... OK
Examples with CPU or elapsed time > 5s
user system elapsed
kda.analyze.exec 13.382 0.675 14.080
kda.analyze.simulate 13.036 0.574 13.617
kda.prepare 13.052 0.469 13.524
kda.analyze.test 12.169 0.485 12.654
ssea2kda 10.098 1.316 11.453
ssea2kda.analyze 9.690 1.199 10.895
ssea.finish.genes 8.213 0.711 8.924
ssea.finish 7.844 0.726 8.570
ssea.finish.details 7.718 0.629 8.347
ssea.finish.fdr 7.661 0.679 8.340
ssea2kda.import 7.496 0.644 8.141
ssea.analyze 7.027 0.646 7.678
ssea.meta 7.228 0.351 7.578
ssea.analyze.simulate 6.595 0.617 7.212
ssea.analyze.observe 5.789 0.109 5.898
ssea.analyze.randgenes 5.660 0.102 5.762
ssea.start.relabel 5.471 0.091 5.571
ssea.prepare.counts 5.421 0.100 5.535
ssea.control 5.379 0.132 5.510
ssea.start 5.342 0.081 5.425
ssea.prepare 5.338 0.081 5.420
ssea.prepare.structure 5.220 0.078 5.297
ssea.analyze.randloci 5.145 0.071 5.217
* checking for unstated dependencies in ‘tests’ ... OK
* checking tests ...
Running ‘runTests.R’
OK
* checking for unstated dependencies in vignettes ... OK
* checking package vignettes in ‘inst/doc’ ... OK
* checking running R code from vignettes ... SKIPPED
* checking re-building of vignette outputs ... SKIPPED
* checking PDF version of manual ... OK
* DONE
Status: 2 NOTEs
See
‘/Users/biocbuild/bbs-3.9-bioc/meat/Mergeomics.Rcheck/00check.log’
for details.
Mergeomics.Rcheck/00install.out
############################################################################## ############################################################################## ### ### Running command: ### ### /Library/Frameworks/R.framework/Versions/Current/Resources/bin/R CMD INSTALL Mergeomics ### ############################################################################## ############################################################################## * installing to library ‘/Library/Frameworks/R.framework/Versions/3.6/Resources/library’ * installing *source* package ‘Mergeomics’ ... ** using staged installation ** R ** data ** inst ** byte-compile and prepare package for lazy loading ** help *** installing help indices ** building package indices ** installing vignettes ** testing if installed package can be loaded from temporary location ** testing if installed package can be loaded from final location ** testing if installed package keeps a record of temporary installation path * DONE (Mergeomics)
Mergeomics.Rcheck/tests/runTests.Rout
R Under development (unstable) (2019-03-18 r76245) -- "Unsuffered Consequences"
Copyright (C) 2019 The R Foundation for Statistical Computing
Platform: x86_64-apple-darwin15.6.0 (64-bit)
R is free software and comes with ABSOLUTELY NO WARRANTY.
You are welcome to redistribute it under certain conditions.
Type 'license()' or 'licence()' for distribution details.
R is a collaborative project with many contributors.
Type 'contributors()' for more information and
'citation()' on how to cite R or R packages in publications.
Type 'demo()' for some demos, 'help()' for on-line help, or
'help.start()' for an HTML browser interface to help.
Type 'q()' to quit R.
> BiocGenerics:::testPackage("Mergeomics")
KDA Version:12.7.2015
Parameters:
Search depth: 1
Search direction: 1
Maximum overlap: 0.33
Minimum module size: 20
Minimum degree: automatic
Maximum degree: automatic
Edge factor: 0
Random seed: 1
Importing edges...
TAIL HEAD WEIGHT
Length:140663 Length:140663 Min. :1
Class :character Class :character 1st Qu.:1
Mode :character Mode :character Median :1
Mean :1
3rd Qu.:1
Max. :1
Importing modules...
MODULE NODE
Length:1643 Length:1643
Class :character Class :character
Mode :character Mode :character
Graph: 7.694687 Mb
Minimum degree set to 20
Maximum degree set to 278
Collecting hubs...
4876 hubs (25.21%)
Graph: 13.28496 Mb
Analyzing network...
6675: Dhcr7, n=114, p=2.24e-17
6648: Cit, n=20, p=7.89e-01
6643: Pbx4, n=23, p=2.32e-05
5582: Sypl, n=319, p=2.02e-02
4746: Tcf7l2, n=73, p=2.63e-02
4708: Tpte, n=86, p=5.05e-02
4511: Pzp, n=160, p=8.85e-03
4464: Tsc22d3, n=487, p=4.28e-13
4407: Dntt, n=93, p=2.40e-20
4360: Amica1, n=132, p=1.06e-06
4588,..: Lrg1, n=86, p=5.76e-12
MSEA Version:01.04.2016
Parameters:
Permutation type: gene
Permutations: 100
Random seed: 1
Minimum gene count: 10
Maximum gene count: 500
Maximum overlap between genes: 0.33
Importing modules...
MODULE DESCR
Length:20 Length:20
Class :character Class :character
Mode :character Mode :character
MODULE GENE
Length:2906 Length:2906
Class :character Class :character
Mode :character Mode :character
Importing marker values...
MARKER VALUE
Length:76866 Min. : 0.8094
Class :character 1st Qu.: 0.9450
Mode :character Median : 1.1374
Mean : 1.3944
3rd Qu.: 1.4688
Max. :323.0100
Importing mapping data...
GENE MARKER
Length:132705 Length:132705
Class :character Class :character
Mode :character Mode :character
Merging genes containing shared markers...
WARNING! Limited overlap analysis due to large number of groups.
85958/1673535
178349/1673535
249919/1673535
317334/1673535
390391/1673535
478979/1673535
566466/1673535
646570/1673535
738538/1673535
817548/1673535
888757/1673535
961622/1673535
1037515/1673535
1119414/1673535
1191932/1673535
1256565/1673535
1321478/1673535
1386345/1673535
1451349/1673535
1516109/1673535
1580901/1673535
1643320/1673535
1673535 comparisons
21115 comparisons
13861 comparisons
12880 comparisons
Job: 11.66891 Mb
Preparing data structures...
Job: 17.11776 Mb
Adding positive controls...
Job: 17.42039 Mb
Estimating enrichment...
100/100 cycles
Normalizing scores...
RUNIT TEST PROTOCOL -- Tue Apr 9 03:36:22 2019
***********************************************
Number of test functions: 2
Number of errors: 0
Number of failures: 0
1 Test Suite :
Mergeomics RUnit Tests - 2 test functions, 0 errors, 0 failures
Number of test functions: 2
Number of errors: 0
Number of failures: 0
>
> proc.time()
user system elapsed
622.887 24.017 662.320
Mergeomics.Rcheck/Mergeomics-Ex.timings
| name | user | system | elapsed | |
| MSEA.KDA.onestep | 0.003 | 0.001 | 0.004 | |
| job.kda | 0.024 | 0.005 | 0.029 | |
| kda.analyze | 0.019 | 0.005 | 0.026 | |
| kda.analyze.exec | 13.382 | 0.675 | 14.080 | |
| kda.analyze.simulate | 13.036 | 0.574 | 13.617 | |
| kda.analyze.test | 12.169 | 0.485 | 12.654 | |
| kda.configure | 0.002 | 0.000 | 0.002 | |
| kda.finish | 0.201 | 0.027 | 0.229 | |
| kda.finish.estimate | 0.122 | 0.007 | 0.128 | |
| kda.finish.save | 0.127 | 0.009 | 0.136 | |
| kda.finish.summarize | 0.121 | 0.009 | 0.130 | |
| kda.finish.trim | 0.104 | 0.008 | 0.112 | |
| kda.prepare | 13.052 | 0.469 | 13.524 | |
| kda.prepare.overlap | 0.001 | 0.001 | 0.002 | |
| kda.prepare.screen | 0.001 | 0.001 | 0.001 | |
| kda.start | 1.912 | 0.176 | 2.087 | |
| kda.start.edges | 0.003 | 0.001 | 0.004 | |
| kda.start.identify | 0.007 | 0.000 | 0.007 | |
| kda.start.modules | 0.003 | 0.001 | 0.005 | |
| kda2cytoscape | 0.61 | 0.02 | 0.63 | |
| kda2cytoscape.colorize | 0.001 | 0.000 | 0.001 | |
| kda2cytoscape.colormap | 0.001 | 0.000 | 0.001 | |
| kda2cytoscape.drivers | 0.159 | 0.010 | 0.169 | |
| kda2cytoscape.edges | 0.168 | 0.011 | 0.179 | |
| kda2cytoscape.exec | 0.194 | 0.017 | 0.210 | |
| kda2cytoscape.identify | 0.007 | 0.002 | 0.009 | |
| kda2himmeli | 0.589 | 0.017 | 0.608 | |
| kda2himmeli.colorize | 0.000 | 0.000 | 0.001 | |
| kda2himmeli.colormap | 0.002 | 0.001 | 0.001 | |
| kda2himmeli.drivers | 0.209 | 0.012 | 0.221 | |
| kda2himmeli.edges | 0.134 | 0.009 | 0.142 | |
| kda2himmeli.exec | 0.247 | 0.012 | 0.259 | |
| kda2himmeli.identify | 0.021 | 0.001 | 0.022 | |
| ssea.analyze | 7.027 | 0.646 | 7.678 | |
| ssea.analyze.observe | 5.789 | 0.109 | 5.898 | |
| ssea.analyze.randgenes | 5.660 | 0.102 | 5.762 | |
| ssea.analyze.randloci | 5.145 | 0.071 | 5.217 | |
| ssea.analyze.simulate | 6.595 | 0.617 | 7.212 | |
| ssea.analyze.statistic | 0.000 | 0.000 | 0.001 | |
| ssea.control | 5.379 | 0.132 | 5.510 | |
| ssea.finish | 7.844 | 0.726 | 8.570 | |
| ssea.finish.details | 7.718 | 0.629 | 8.347 | |
| ssea.finish.fdr | 7.661 | 0.679 | 8.340 | |
| ssea.finish.genes | 8.213 | 0.711 | 8.924 | |
| ssea.meta | 7.228 | 0.351 | 7.578 | |
| ssea.prepare | 5.338 | 0.081 | 5.420 | |
| ssea.prepare.counts | 5.421 | 0.100 | 5.535 | |
| ssea.prepare.structure | 5.220 | 0.078 | 5.297 | |
| ssea.start | 5.342 | 0.081 | 5.425 | |
| ssea.start.configure | 0.581 | 0.059 | 0.641 | |
| ssea.start.identify | 0.008 | 0.001 | 0.010 | |
| ssea.start.relabel | 5.471 | 0.091 | 5.571 | |
| ssea2kda | 10.098 | 1.316 | 11.453 | |
| ssea2kda.analyze | 9.690 | 1.199 | 10.895 | |
| ssea2kda.import | 7.496 | 0.644 | 8.141 | |
| tool.aggregate | 0.003 | 0.001 | 0.003 | |
| tool.cluster | 0.033 | 0.001 | 0.034 | |
| tool.cluster.static | 0.001 | 0.001 | 0.002 | |
| tool.coalesce | 0.094 | 0.008 | 0.102 | |
| tool.coalesce.exec | 0.224 | 0.001 | 0.225 | |
| tool.coalesce.find | 0.238 | 0.002 | 0.238 | |
| tool.coalesce.merge | 0.160 | 0.001 | 0.161 | |
| tool.fdr | 0.001 | 0.000 | 0.001 | |
| tool.fdr.bh | 0.000 | 0.000 | 0.001 | |
| tool.fdr.empirical | 0.001 | 0.000 | 0.001 | |
| tool.graph | 1.770 | 0.151 | 1.923 | |
| tool.graph.degree | 1.875 | 0.155 | 2.029 | |
| tool.graph.list | 1.870 | 0.132 | 2.003 | |
| tool.metap | 0.008 | 0.001 | 0.009 | |
| tool.normalize | 0.029 | 0.001 | 0.030 | |
| tool.normalize.quality | 0.017 | 0.001 | 0.017 | |
| tool.overlap | 0.012 | 0.001 | 0.014 | |
| tool.read | 0.361 | 0.043 | 0.405 | |
| tool.save | 0.002 | 0.001 | 0.003 | |
| tool.subgraph | 0.127 | 0.012 | 0.139 | |
| tool.subgraph.find | 0.126 | 0.009 | 0.135 | |
| tool.subgraph.search | 0.154 | 0.022 | 0.176 | |
| tool.subgraph.stats | 0.157 | 0.009 | 0.166 | |
| tool.translate | 0.051 | 0.004 | 0.056 | |
| tool.unify | 0.002 | 0.000 | 0.002 | |