| Back to Multiple platform build/check report for BioC 3.9 |
|
This page was generated on 2019-04-09 12:12:53 -0400 (Tue, 09 Apr 2019).
| Package 1040/1703 | Hostname | OS / Arch | INSTALL | BUILD | CHECK | BUILD BIN | ||||||
| MSstats 3.15.1 Meena Choi
| malbec2 | Linux (Ubuntu 18.04.2 LTS) / x86_64 | OK | OK | OK | |||||||
| tokay2 | Windows Server 2012 R2 Standard / x64 | OK | OK | OK | [ OK ] | |||||||
| celaya2 | OS X 10.11.6 El Capitan / x86_64 | OK | OK | OK | OK | |||||||
| merida2 | OS X 10.11.6 El Capitan / x86_64 | OK | OK | OK | OK |
| Package: MSstats |
| Version: 3.15.1 |
| Command: rm -rf MSstats.buildbin-libdir && mkdir MSstats.buildbin-libdir && C:\Users\biocbuild\bbs-3.9-bioc\R\bin\R.exe CMD INSTALL --merge-multiarch --build --library=MSstats.buildbin-libdir MSstats_3.15.1.tar.gz |
| StartedAt: 2019-04-09 08:31:52 -0400 (Tue, 09 Apr 2019) |
| EndedAt: 2019-04-09 08:32:28 -0400 (Tue, 09 Apr 2019) |
| EllapsedTime: 36.8 seconds |
| RetCode: 0 |
| Status: OK |
| PackageFile: MSstats_3.15.1.zip |
| PackageFileSize: 688.3 KiB |
##############################################################################
##############################################################################
###
### Running command:
###
### rm -rf MSstats.buildbin-libdir && mkdir MSstats.buildbin-libdir && C:\Users\biocbuild\bbs-3.9-bioc\R\bin\R.exe CMD INSTALL --merge-multiarch --build --library=MSstats.buildbin-libdir MSstats_3.15.1.tar.gz
###
##############################################################################
##############################################################################
install for i386
* installing *source* package 'MSstats' ...
** R
** data
*** moving datasets to lazyload DB
** inst
** byte-compile and prepare package for lazy loading
** help
*** installing help indices
converting help for package 'MSstats'
finding HTML links ... done
DDARawData html
DDARawData.Skyline html
DIARawData html
DIAUmpiretoMSstatsFormat html
MSstats-package html
MaxQtoMSstatsFormat html
OpenMStoMSstatsFormat html
OpenSWATHtoMSstatsFormat html
PDtoMSstatsFormat html
ProgenesistoMSstatsFormat html
SRMRawData html
SkylinetoMSstatsFormat html
SpectronauttoMSstatsFormat html
SpikeInDataLinear html
SpikeInDataNonLinear html
dataProcess html
dataProcessPlots html
designSampleSize html
designSampleSizeClassification html
designSampleSizeClassificationPlots html
designSampleSizePlots html
groupComparison html
groupComparisonPlots html
linear_quantlim html
modelBasedQCPlots html
nonlinear_quantlim html
plot_quantlim html
quantification html
** building package indices
** installing vignettes
** testing if installed package can be loaded from temporary location
** testing if installed package can be loaded from final location
** testing if installed package keeps a record of temporary installation path
install for x64
* installing *source* package 'MSstats' ...
** testing if installed package can be loaded
* MD5 sums
packaged installation of 'MSstats' as MSstats_3.15.1.zip
* DONE (MSstats)