| Back to Multiple platform build/check report for BioC 3.9 |
|
This page was generated on 2019-04-09 11:58:19 -0400 (Tue, 09 Apr 2019).
| Package 916/1703 | Hostname | OS / Arch | INSTALL | BUILD | CHECK | BUILD BIN | ||||||
| MBCB 1.37.0 Jeff Allen
| malbec2 | Linux (Ubuntu 18.04.2 LTS) / x86_64 | OK | OK | OK | |||||||
| tokay2 | Windows Server 2012 R2 Standard / x64 | OK | OK | OK | [ OK ] | |||||||
| celaya2 | OS X 10.11.6 El Capitan / x86_64 | OK | OK | OK | OK | |||||||
| merida2 | OS X 10.11.6 El Capitan / x86_64 | OK | OK | OK | OK |
| Package: MBCB |
| Version: 1.37.0 |
| Command: rm -rf MBCB.buildbin-libdir && mkdir MBCB.buildbin-libdir && C:\Users\biocbuild\bbs-3.9-bioc\R\bin\R.exe CMD INSTALL --merge-multiarch --build --library=MBCB.buildbin-libdir MBCB_1.37.0.tar.gz |
| StartedAt: 2019-04-09 08:24:27 -0400 (Tue, 09 Apr 2019) |
| EndedAt: 2019-04-09 08:25:20 -0400 (Tue, 09 Apr 2019) |
| EllapsedTime: 52.7 seconds |
| RetCode: 0 |
| Status: OK |
| PackageFile: MBCB_1.37.0.zip |
| PackageFileSize: 262 KiB |
##############################################################################
##############################################################################
###
### Running command:
###
### rm -rf MBCB.buildbin-libdir && mkdir MBCB.buildbin-libdir && C:\Users\biocbuild\bbs-3.9-bioc\R\bin\R.exe CMD INSTALL --merge-multiarch --build --library=MBCB.buildbin-libdir MBCB_1.37.0.tar.gz
###
##############################################################################
##############################################################################
install for i386
* installing *source* package 'MBCB' ...
** R
** data
** inst
** byte-compile and prepare package for lazy loading
** help
*** installing help indices
converting help for package 'MBCB'
finding HTML links ... done
MBCBExpressionData html
bg.mcmc html
bg.rma html
mbcb.correct html
mbcb.gui html
mbcb.main html
mbcb.parseFile html
printMBCBOutput html
** building package indices
** installing vignettes
** testing if installed package can be loaded from temporary location
** testing if installed package can be loaded from final location
** testing if installed package keeps a record of temporary installation path
install for x64
* installing *source* package 'MBCB' ...
** testing if installed package can be loaded
* MD5 sums
packaged installation of 'MBCB' as MBCB_1.37.0.zip
* DONE (MBCB)