| Back to Multiple platform build/check report for BioC 3.9 | 
 | 
This page was generated on 2019-04-09 13:25:20 -0400 (Tue, 09 Apr 2019).
| Package 916/1703 | Hostname | OS / Arch | INSTALL | BUILD | CHECK | BUILD BIN | ||||||
| MBCB 1.37.0 Jeff Allen 
 | malbec2 | Linux (Ubuntu 18.04.2 LTS) / x86_64 | OK | OK | OK |  | ||||||
| tokay2 | Windows Server 2012 R2 Standard / x64 | OK | OK | OK | OK |  | ||||||
| celaya2 | OS X 10.11.6 El Capitan / x86_64 | OK | OK | OK | OK |  | ||||||
| merida2 | OS X 10.11.6 El Capitan / x86_64 | OK | OK | OK | [ OK ] | 
| Package: MBCB | 
| Version: 1.37.0 | 
| Command: rm -rf MBCB.buildbin-libdir && mkdir MBCB.buildbin-libdir && /Users/biocbuild/BBS/utils/build-universal.sh MBCB_1.37.0.tar.gz /Library/Frameworks/R.framework/Versions/Current/Resources/bin/R MBCB.buildbin-libdir | 
| StartedAt: 2019-04-09 05:47:38 -0400 (Tue, 09 Apr 2019) | 
| EndedAt: 2019-04-09 05:48:56 -0400 (Tue, 09 Apr 2019) | 
| EllapsedTime: 77.9 seconds | 
| RetCode: 0 | 
| Status: OK | 
| PackageFile: MBCB_1.37.0.tgz | 
| PackageFileSize: 253.2 KiB | 
############################################################################## ############################################################################## ### ### Running command: ### ### rm -rf MBCB.buildbin-libdir && mkdir MBCB.buildbin-libdir && /Users/biocbuild/BBS/utils/build-universal.sh MBCB_1.37.0.tar.gz /Library/Frameworks/R.framework/Versions/Current/Resources/bin/R MBCB.buildbin-libdir ### ############################################################################## ############################################################################## >>>>>>> >>>>>>> INSTALLATION WITH 'R CMD INSTALL --preclean --no-multiarch --library=MBCB.buildbin-libdir MBCB_1.37.0.tar.gz' >>>>>>> * installing *source* package ‘MBCB’ ... ** R ** data ** inst ** byte-compile and prepare package for lazy loading ** help *** installing help indices ** building package indices ** installing vignettes ** testing if installed package can be loaded * DONE (MBCB)