| Back to Multiple platform build/check report for BioC 3.9 |
|
This page was generated on 2019-04-09 12:27:42 -0400 (Tue, 09 Apr 2019).
| Package 909/1703 | Hostname | OS / Arch | INSTALL | BUILD | CHECK | BUILD BIN | ||||||
| MAST 1.9.2 Andrew McDavid
| malbec2 | Linux (Ubuntu 18.04.2 LTS) / x86_64 | OK | OK | OK | |||||||
| tokay2 | Windows Server 2012 R2 Standard / x64 | OK | OK | OK | [ OK ] | |||||||
| celaya2 | OS X 10.11.6 El Capitan / x86_64 | OK | OK | OK | OK | |||||||
| merida2 | OS X 10.11.6 El Capitan / x86_64 | OK | OK | OK | OK |
| Package: MAST |
| Version: 1.9.2 |
| Command: rm -rf MAST.buildbin-libdir && mkdir MAST.buildbin-libdir && C:\Users\biocbuild\bbs-3.9-bioc\R\bin\R.exe CMD INSTALL --merge-multiarch --build --library=MAST.buildbin-libdir MAST_1.9.2.tar.gz |
| StartedAt: 2019-04-09 08:23:59 -0400 (Tue, 09 Apr 2019) |
| EndedAt: 2019-04-09 08:24:50 -0400 (Tue, 09 Apr 2019) |
| EllapsedTime: 50.9 seconds |
| RetCode: 0 |
| Status: OK |
| PackageFile: MAST_1.9.2.zip |
| PackageFileSize: 6.195 MiB |
##############################################################################
##############################################################################
###
### Running command:
###
### rm -rf MAST.buildbin-libdir && mkdir MAST.buildbin-libdir && C:\Users\biocbuild\bbs-3.9-bioc\R\bin\R.exe CMD INSTALL --merge-multiarch --build --library=MAST.buildbin-libdir MAST_1.9.2.tar.gz
###
##############################################################################
##############################################################################
install for i386
* installing *source* package 'MAST' ...
** R
** data
*** moving datasets to lazyload DB
** inst
** byte-compile and prepare package for lazy loading
** help
*** installing help indices
converting help for package 'MAST'
finding HTML links ... done
BayesGLMlike-class html
CovFromBoots html
Drop html
FromFlatDF html
FromMatrix html
GLMlike-class html
GSEATests-class html
Hypothesis html
LMERlike-class html
LMlike-class html
LRT html
MAST-package html
SceToSingleCellAssay html
ZlmFit-class html
applyFlat html
bootVcov1 html
cData html
finding level-2 HTML links ... done
calcZ html
colData-set-SingleCellAssay-DataFrame-method
html
collectResiduals html
computeEtFromCt html
convertMASTClassicToSingleCellAssay html
defaultAssay html
defaultPrior html
dof html
ebayes html
expavg html
fData-methods html
featureData-methods html
filterLowExpressedGenes html
fit html
freq html
getConcordance html
getwellKey html
gseaAfterBoot html
hushWarning html
impute html
influence.bayesglm html
invlogit html
logFC html
logmean html
lrTest-ZlmFit-character-method html
lrTest html
maits-dataset html
mast_filter html
melt.SingleCellAssay html
model.matrix-set html
model.matrix html
myBiplot html
pbootVcov1 html
plot.thresholdSCRNACountMatrix html
plotSCAConcordance html
plotlrt html
predict.ZlmFit html
predicted_sig-dataset html
primerAverage html
print.summaryZlmFit html
read.fluidigm html
removeResponse html
rstandard.bayesglm html
se.coef html
show html
split-SingleCellAssay-character-method
html
stat_ell html
subset-SingleCellAssay-method html
summarize html
summary-GSEATests-method html
summary-ZlmFit-method html
summary.thresholdSCRNACountMatrix html
thresholdSCRNACountMatrix html
vbeta-dataset html
vbetaFA-dataset html
waldTest-ZlmFit-matrix-method html
waldTest html
xform html
zlm html
** building package indices
** installing vignettes
** testing if installed package can be loaded from temporary location
** testing if installed package can be loaded from final location
** testing if installed package keeps a record of temporary installation path
install for x64
* installing *source* package 'MAST' ...
** testing if installed package can be loaded
* MD5 sums
packaged installation of 'MAST' as MAST_1.9.2.zip
* DONE (MAST)