| Back to Multiple platform build/check report for BioC 3.9 | 
 | 
This page was generated on 2019-04-09 12:42:25 -0400 (Tue, 09 Apr 2019).
| Package 846/1703 | Hostname | OS / Arch | INSTALL | BUILD | CHECK | BUILD BIN | ||||||
| KinSwingR 1.1.3 Ashley J. Waardenberg 
 | malbec2 | Linux (Ubuntu 18.04.2 LTS) / x86_64 | OK | OK | OK |  | ||||||
| tokay2 | Windows Server 2012 R2 Standard / x64 | [ OK ] | OK | OK | OK |  | ||||||
| celaya2 | OS X 10.11.6 El Capitan / x86_64 | OK | ERROR | skipped | skipped | |||||||
| merida2 | OS X 10.11.6 El Capitan / x86_64 | OK | OK | OK | OK | 
| Package: KinSwingR | 
| Version: 1.1.3 | 
| Command: C:\cygwin\bin\curl.exe -O https://malbec2.bioconductor.org/BBS/3.9/bioc/src/contrib/KinSwingR_1.1.3.tar.gz && rm -rf KinSwingR.buildbin-libdir && mkdir KinSwingR.buildbin-libdir && C:\Users\biocbuild\bbs-3.9-bioc\R\bin\R.exe CMD INSTALL --merge-multiarch --build --library=KinSwingR.buildbin-libdir KinSwingR_1.1.3.tar.gz && C:\Users\biocbuild\bbs-3.9-bioc\R\bin\R.exe CMD INSTALL KinSwingR_1.1.3.zip && rm KinSwingR_1.1.3.tar.gz KinSwingR_1.1.3.zip | 
| StartedAt: 2019-04-08 19:08:43 -0400 (Mon, 08 Apr 2019) | 
| EndedAt: 2019-04-08 19:09:03 -0400 (Mon, 08 Apr 2019) | 
| EllapsedTime: 19.7 seconds | 
| RetCode: 0 | 
| Status: OK | 
##############################################################################
##############################################################################
###
### Running command:
###
###   C:\cygwin\bin\curl.exe -O https://malbec2.bioconductor.org/BBS/3.9/bioc/src/contrib/KinSwingR_1.1.3.tar.gz && rm -rf KinSwingR.buildbin-libdir && mkdir KinSwingR.buildbin-libdir && C:\Users\biocbuild\bbs-3.9-bioc\R\bin\R.exe CMD INSTALL --merge-multiarch --build --library=KinSwingR.buildbin-libdir KinSwingR_1.1.3.tar.gz && C:\Users\biocbuild\bbs-3.9-bioc\R\bin\R.exe CMD INSTALL KinSwingR_1.1.3.zip && rm KinSwingR_1.1.3.tar.gz KinSwingR_1.1.3.zip
###
##############################################################################
##############################################################################
  % Total    % Received % Xferd  Average Speed   Time    Time     Time  Current
                                 Dload  Upload   Total   Spent    Left  Speed
  0     0    0     0    0     0      0      0 --:--:-- --:--:-- --:--:--     0
100  284k  100  284k    0     0  5185k      0 --:--:-- --:--:-- --:--:-- 5924k
install for i386
* installing *source* package 'KinSwingR' ...
** R
** data
*** moving datasets to lazyload DB
** byte-compile and prepare package for lazy loading
** help
*** installing help indices
  converting help for package 'KinSwingR'
    finding HTML links ... done
    KinSwingR                               html  
    buildPWM                                html  
    cleanAnnotation                         html  
    example_phosphoproteome                 html  
    phosphositeplus_human                   html  
    scoreSequences                          html  
    swing                                   html  
    viewPWM                                 html  
** building package indices
** installing vignettes
** testing if installed package can be loaded from temporary location
** testing if installed package can be loaded from final location
** testing if installed package keeps a record of temporary installation path
install for x64
* installing *source* package 'KinSwingR' ...
** testing if installed package can be loaded
* MD5 sums
packaged installation of 'KinSwingR' as KinSwingR_1.1.3.zip
* DONE (KinSwingR)
* installing to library 'C:/Users/biocbuild/bbs-3.9-bioc/R/library'
package 'KinSwingR' successfully unpacked and MD5 sums checked