| Back to Multiple platform build/check report for BioC 3.9 |
|
This page was generated on 2019-04-09 12:42:26 -0400 (Tue, 09 Apr 2019).
| Package 846/1703 | Hostname | OS / Arch | INSTALL | BUILD | CHECK | BUILD BIN | ||||||
| KinSwingR 1.1.3 Ashley J. Waardenberg
| malbec2 | Linux (Ubuntu 18.04.2 LTS) / x86_64 | OK | OK | OK | |||||||
| tokay2 | Windows Server 2012 R2 Standard / x64 | OK | OK | OK | [ OK ] | |||||||
| celaya2 | OS X 10.11.6 El Capitan / x86_64 | OK | ERROR | skipped | skipped | |||||||
| merida2 | OS X 10.11.6 El Capitan / x86_64 | OK | OK | OK | OK |
| Package: KinSwingR |
| Version: 1.1.3 |
| Command: rm -rf KinSwingR.buildbin-libdir && mkdir KinSwingR.buildbin-libdir && C:\Users\biocbuild\bbs-3.9-bioc\R\bin\R.exe CMD INSTALL --merge-multiarch --build --library=KinSwingR.buildbin-libdir KinSwingR_1.1.3.tar.gz |
| StartedAt: 2019-04-09 08:20:00 -0400 (Tue, 09 Apr 2019) |
| EndedAt: 2019-04-09 08:20:47 -0400 (Tue, 09 Apr 2019) |
| EllapsedTime: 46.8 seconds |
| RetCode: 0 |
| Status: OK |
| PackageFile: KinSwingR_1.1.3.zip |
| PackageFileSize: 620.3 KiB |
##############################################################################
##############################################################################
###
### Running command:
###
### rm -rf KinSwingR.buildbin-libdir && mkdir KinSwingR.buildbin-libdir && C:\Users\biocbuild\bbs-3.9-bioc\R\bin\R.exe CMD INSTALL --merge-multiarch --build --library=KinSwingR.buildbin-libdir KinSwingR_1.1.3.tar.gz
###
##############################################################################
##############################################################################
install for i386
* installing *source* package 'KinSwingR' ...
** R
** data
*** moving datasets to lazyload DB
** inst
** byte-compile and prepare package for lazy loading
** help
*** installing help indices
converting help for package 'KinSwingR'
finding HTML links ... done
KinSwingR html
buildPWM html
cleanAnnotation html
example_phosphoproteome html
phosphositeplus_human html
scoreSequences html
swing html
viewPWM html
** building package indices
** installing vignettes
** testing if installed package can be loaded from temporary location
** testing if installed package can be loaded from final location
** testing if installed package keeps a record of temporary installation path
install for x64
* installing *source* package 'KinSwingR' ...
** testing if installed package can be loaded
* MD5 sums
packaged installation of 'KinSwingR' as KinSwingR_1.1.3.zip
* DONE (KinSwingR)