| Back to Multiple platform build/check report for BioC 3.9 |
|
This page was generated on 2019-04-09 12:31:17 -0400 (Tue, 09 Apr 2019).
| Package 823/1703 | Hostname | OS / Arch | INSTALL | BUILD | CHECK | BUILD BIN | ||||||
| IsoformSwitchAnalyzeR 1.5.6 Kristoffer Vitting-Seerup
| malbec2 | Linux (Ubuntu 18.04.2 LTS) / x86_64 | OK | OK | WARNINGS | |||||||
| tokay2 | Windows Server 2012 R2 Standard / x64 | [ OK ] | OK | WARNINGS | OK | |||||||
| celaya2 | OS X 10.11.6 El Capitan / x86_64 | OK | OK | WARNINGS | OK | |||||||
| merida2 | OS X 10.11.6 El Capitan / x86_64 | OK | OK | WARNINGS | OK |
| Package: IsoformSwitchAnalyzeR |
| Version: 1.5.6 |
| Command: C:\cygwin\bin\curl.exe -O https://malbec2.bioconductor.org/BBS/3.9/bioc/src/contrib/IsoformSwitchAnalyzeR_1.5.6.tar.gz && rm -rf IsoformSwitchAnalyzeR.buildbin-libdir && mkdir IsoformSwitchAnalyzeR.buildbin-libdir && C:\Users\biocbuild\bbs-3.9-bioc\R\bin\R.exe CMD INSTALL --merge-multiarch --build --library=IsoformSwitchAnalyzeR.buildbin-libdir IsoformSwitchAnalyzeR_1.5.6.tar.gz && C:\Users\biocbuild\bbs-3.9-bioc\R\bin\R.exe CMD INSTALL IsoformSwitchAnalyzeR_1.5.6.zip && rm IsoformSwitchAnalyzeR_1.5.6.tar.gz IsoformSwitchAnalyzeR_1.5.6.zip |
| StartedAt: 2019-04-08 20:22:44 -0400 (Mon, 08 Apr 2019) |
| EndedAt: 2019-04-08 20:24:20 -0400 (Mon, 08 Apr 2019) |
| EllapsedTime: 96.3 seconds |
| RetCode: 0 |
| Status: OK |
##############################################################################
##############################################################################
###
### Running command:
###
### C:\cygwin\bin\curl.exe -O https://malbec2.bioconductor.org/BBS/3.9/bioc/src/contrib/IsoformSwitchAnalyzeR_1.5.6.tar.gz && rm -rf IsoformSwitchAnalyzeR.buildbin-libdir && mkdir IsoformSwitchAnalyzeR.buildbin-libdir && C:\Users\biocbuild\bbs-3.9-bioc\R\bin\R.exe CMD INSTALL --merge-multiarch --build --library=IsoformSwitchAnalyzeR.buildbin-libdir IsoformSwitchAnalyzeR_1.5.6.tar.gz && C:\Users\biocbuild\bbs-3.9-bioc\R\bin\R.exe CMD INSTALL IsoformSwitchAnalyzeR_1.5.6.zip && rm IsoformSwitchAnalyzeR_1.5.6.tar.gz IsoformSwitchAnalyzeR_1.5.6.zip
###
##############################################################################
##############################################################################
% Total % Received % Xferd Average Speed Time Time Time Current
Dload Upload Total Spent Left Speed
0 0 0 0 0 0 0 0 --:--:-- --:--:-- --:--:-- 0
100 2805k 100 2805k 0 0 34.5M 0 --:--:-- --:--:-- --:--:-- 38.0M
install for i386
* installing *source* package 'IsoformSwitchAnalyzeR' ...
** libs
C:/Rtools/mingw_32/bin/gcc -I"C:/Users/BIOCBU˜1/BBS-3˜1.9-B/R/include" -DNDEBUG -I"C:/extsoft/include" -O3 -Wall -std=gnu99 -mtune=generic -c utils.c -o utils.o
C:/Rtools/mingw_32/bin/gcc -shared -s -static-libgcc -o IsoformSwitchAnalyzeR.dll tmp.def utils.o -LC:/extsoft/lib/i386 -LC:/extsoft/lib -LC:/Users/BIOCBU˜1/BBS-3˜1.9-B/R/bin/i386 -lR
installing to C:/Users/biocbuild/bbs-3.9-bioc/meat/IsoformSwitchAnalyzeR.buildbin-libdir/00LOCK-IsoformSwitchAnalyzeR/00new/IsoformSwitchAnalyzeR/libs/i386
** R
** data
** inst
** byte-compile and prepare package for lazy loading
Warning: replacing previous import 'DEXSeq::plotMA' by 'limma::plotMA' when loading 'IsoformSwitchAnalyzeR'
** help
*** installing help indices
converting help for package 'IsoformSwitchAnalyzeR'
finding HTML links ... done
CDSSet html
IsoformSwitchTestDEXSeq html
IsoformSwitchTestDRIMSeq html
finding level-2 HTML links ... done
analyzeAlternativSplicing html
analyzeCPAT html
analyzeCPC2 html
analyzeNetSurf2 html
analyzeORF html
analyzePFAM html
analyzeSignalP html
analyzeSwitchConsequences html
expressionAnalysisPlots html
extractConsequenceEnrichment html
extractConsequenceEnrichmentComparison
html
extractConsequenceSummary html
extractExpressionMatrix html
extractGenomeWideAnalysis html
extractGenomeWideSplicingAnalysis html
extractSequence html
extractSplicingEnrichment html
extractSplicingEnrichmentComparison html
extractSplicingSummary html
extractSwitchOverlap html
extractSwitchSummary html
extractTopSwitches html
getCDS html
importCufflinksGalaxyData html
importGTF html
importIsoformExpression html
importRdata html
isoformSwitchAnalysisCombined html
isoformSwitchAnalysisPart1 html
isoformSwitchAnalysisPart2 html
isoformToGeneExp html
isoformToIsoformFraction html
preFilter html
subsetSwitchAnalyzeRlist html
switchAnalyzeRlist html
switchPlot html
switchPlotTopSwitches html
switchPlotTranscript html
testData html
** building package indices
** installing vignettes
** testing if installed package can be loaded from temporary location
Warning: replacing previous import 'DEXSeq::plotMA' by 'limma::plotMA' when loading 'IsoformSwitchAnalyzeR'
** testing if installed package can be loaded from final location
Warning: replacing previous import 'DEXSeq::plotMA' by 'limma::plotMA' when loading 'IsoformSwitchAnalyzeR'
** testing if installed package keeps a record of temporary installation path
install for x64
* installing *source* package 'IsoformSwitchAnalyzeR' ...
** libs
C:/Rtools/mingw_64/bin/gcc -I"C:/Users/BIOCBU˜1/BBS-3˜1.9-B/R/include" -DNDEBUG -I"C:/extsoft/include" -O2 -Wall -std=gnu99 -mtune=generic -c utils.c -o utils.o
C:/Rtools/mingw_64/bin/gcc -shared -s -static-libgcc -o IsoformSwitchAnalyzeR.dll tmp.def utils.o -LC:/extsoft/lib/x64 -LC:/extsoft/lib -LC:/Users/BIOCBU˜1/BBS-3˜1.9-B/R/bin/x64 -lR
installing to C:/Users/biocbuild/bbs-3.9-bioc/meat/IsoformSwitchAnalyzeR.buildbin-libdir/IsoformSwitchAnalyzeR/libs/x64
** testing if installed package can be loaded
Warning: replacing previous import 'DEXSeq::plotMA' by 'limma::plotMA' when loading 'IsoformSwitchAnalyzeR'
* MD5 sums
packaged installation of 'IsoformSwitchAnalyzeR' as IsoformSwitchAnalyzeR_1.5.6.zip
* DONE (IsoformSwitchAnalyzeR)
* installing to library 'C:/Users/biocbuild/bbs-3.9-bioc/R/library'
package 'IsoformSwitchAnalyzeR' successfully unpacked and MD5 sums checked