| Back to Multiple platform build/check report for BioC 3.9 |
|
This page was generated on 2019-04-09 13:18:26 -0400 (Tue, 09 Apr 2019).
| Package 823/1703 | Hostname | OS / Arch | INSTALL | BUILD | CHECK | BUILD BIN | ||||||
| IsoformSwitchAnalyzeR 1.5.6 Kristoffer Vitting-Seerup
| malbec2 | Linux (Ubuntu 18.04.2 LTS) / x86_64 | OK | OK | WARNINGS | |||||||
| tokay2 | Windows Server 2012 R2 Standard / x64 | OK | OK | WARNINGS | OK | |||||||
| celaya2 | OS X 10.11.6 El Capitan / x86_64 | OK | [ OK ] | WARNINGS | OK | |||||||
| merida2 | OS X 10.11.6 El Capitan / x86_64 | OK | OK | WARNINGS | OK |
| Package: IsoformSwitchAnalyzeR |
| Version: 1.5.6 |
| Command: /Library/Frameworks/R.framework/Versions/Current/Resources/bin/R CMD build --keep-empty-dirs --no-resave-data IsoformSwitchAnalyzeR |
| StartedAt: 2019-04-08 22:33:45 -0400 (Mon, 08 Apr 2019) |
| EndedAt: 2019-04-08 22:38:20 -0400 (Mon, 08 Apr 2019) |
| EllapsedTime: 274.8 seconds |
| RetCode: 0 |
| Status: OK |
| PackageFile: IsoformSwitchAnalyzeR_1.5.6.tar.gz |
| PackageFileSize: 5.622 MiB |
############################################################################## ############################################################################## ### ### Running command: ### ### /Library/Frameworks/R.framework/Versions/Current/Resources/bin/R CMD build --keep-empty-dirs --no-resave-data IsoformSwitchAnalyzeR ### ############################################################################## ############################################################################## * checking for file ‘IsoformSwitchAnalyzeR/DESCRIPTION’ ... OK * preparing ‘IsoformSwitchAnalyzeR’: * checking DESCRIPTION meta-information ... OK * cleaning src * installing the package to build vignettes * creating vignettes ... OK * cleaning src * checking for LF line-endings in source and make files and shell scripts * checking for empty or unneeded directories * looking to see if a ‘data/datalist’ file should be added * building ‘IsoformSwitchAnalyzeR_1.5.6.tar.gz’