| Back to Multiple platform build/check report for BioC 3.9 | 
  | 
This page was generated on 2019-04-09 13:37:37 -0400 (Tue, 09 Apr 2019).
| Package 821/1703 | Hostname | OS / Arch | INSTALL | BUILD | CHECK | BUILD BIN | ||||||
| IsoCorrectoR 1.1.4 Christian Kohler 
  | malbec2 | Linux (Ubuntu 18.04.2 LTS) / x86_64 | OK | OK | OK | |||||||
| tokay2 | Windows Server 2012 R2 Standard / x64 | OK | OK | OK | OK | |||||||
| celaya2 | OS X 10.11.6 El Capitan / x86_64 | OK | OK | OK | OK | |||||||
| merida2 | OS X 10.11.6 El Capitan / x86_64 | OK | OK | [ OK ] | OK | 
| Package: IsoCorrectoR | 
| Version: 1.1.4 | 
| Command: /Library/Frameworks/R.framework/Versions/Current/Resources/bin/R CMD check --install=check:IsoCorrectoR.install-out.txt --library=/Library/Frameworks/R.framework/Versions/Current/Resources/library --no-vignettes --timings IsoCorrectoR_1.1.4.tar.gz | 
| StartedAt: 2019-04-09 01:43:15 -0400 (Tue, 09 Apr 2019) | 
| EndedAt: 2019-04-09 01:45:11 -0400 (Tue, 09 Apr 2019) | 
| EllapsedTime: 116.8 seconds | 
| RetCode: 0 | 
| Status: OK | 
| CheckDir: IsoCorrectoR.Rcheck | 
| Warnings: 0 | 
##############################################################################
##############################################################################
###
### Running command:
###
###   /Library/Frameworks/R.framework/Versions/Current/Resources/bin/R CMD check --install=check:IsoCorrectoR.install-out.txt --library=/Library/Frameworks/R.framework/Versions/Current/Resources/library --no-vignettes --timings IsoCorrectoR_1.1.4.tar.gz
###
##############################################################################
##############################################################################
* using log directory ‘/Users/biocbuild/bbs-3.9-bioc/meat/IsoCorrectoR.Rcheck’
* using R Under development (unstable) (2018-11-27 r75683)
* using platform: x86_64-apple-darwin15.6.0 (64-bit)
* using session charset: UTF-8
* using option ‘--no-vignettes’
* checking for file ‘IsoCorrectoR/DESCRIPTION’ ... OK
* this is package ‘IsoCorrectoR’ version ‘1.1.4’
* checking package namespace information ... OK
* checking package dependencies ... OK
* checking if this is a source package ... OK
* checking if there is a namespace ... OK
* checking for hidden files and directories ... OK
* checking for portable file names ... OK
* checking for sufficient/correct file permissions ... OK
* checking whether package ‘IsoCorrectoR’ can be installed ... OK
* checking installed package size ... NOTE
  installed size is  6.0Mb
  sub-directories of 1Mb or more:
    testdata   5.2Mb
* checking package directory ... OK
* checking ‘build’ directory ... OK
* checking DESCRIPTION meta-information ... OK
* checking top-level files ... OK
* checking for left-over files ... OK
* checking index information ... OK
* checking package subdirectories ... OK
* checking R files for non-ASCII characters ... OK
* checking R files for syntax errors ... OK
* checking whether the package can be loaded ... OK
* checking whether the package can be loaded with stated dependencies ... OK
* checking whether the package can be unloaded cleanly ... OK
* checking whether the namespace can be loaded with stated dependencies ... OK
* checking whether the namespace can be unloaded cleanly ... OK
* checking dependencies in R code ... OK
* checking S3 generic/method consistency ... OK
* checking replacement functions ... OK
* checking foreign function calls ... OK
* checking R code for possible problems ... OK
* checking Rd files ... OK
* checking Rd metadata ... OK
* checking Rd cross-references ... OK
* checking for missing documentation entries ... OK
* checking for code/documentation mismatches ... OK
* checking Rd \usage sections ... OK
* checking Rd contents ... OK
* checking for unstated dependencies in examples ... OK
* checking contents of ‘data’ directory ... OK
* checking data for non-ASCII characters ... OK
* checking data for ASCII and uncompressed saves ... OK
* checking files in ‘vignettes’ ... OK
* checking examples ... OK
* checking for unstated dependencies in ‘tests’ ... OK
* checking tests ...
  Running ‘testthat.R’
 OK
* checking for unstated dependencies in vignettes ... OK
* checking package vignettes in ‘inst/doc’ ... OK
* checking running R code from vignettes ... SKIPPED
* checking re-building of vignette outputs ... SKIPPED
* checking PDF version of manual ... OK
* DONE
Status: 1 NOTE
See
  ‘/Users/biocbuild/bbs-3.9-bioc/meat/IsoCorrectoR.Rcheck/00check.log’
for details.
IsoCorrectoR.Rcheck/00install.out
############################################################################## ############################################################################## ### ### Running command: ### ### /Library/Frameworks/R.framework/Versions/Current/Resources/bin/R CMD INSTALL IsoCorrectoR ### ############################################################################## ############################################################################## * installing to library ‘/Library/Frameworks/R.framework/Versions/3.6/Resources/library’ * installing *source* package ‘IsoCorrectoR’ ... ** R ** data *** moving datasets to lazyload DB ** inst ** byte-compile and prepare package for lazy loading ** help *** installing help indices ** building package indices ** installing vignettes ** testing if installed package can be loaded * DONE (IsoCorrectoR)
IsoCorrectoR.Rcheck/tests/testthat.Rout
R Under development (unstable) (2018-11-27 r75683) -- "Unsuffered Consequences"
Copyright (C) 2018 The R Foundation for Statistical Computing
Platform: x86_64-apple-darwin15.6.0 (64-bit)
R is free software and comes with ABSOLUTELY NO WARRANTY.
You are welcome to redistribute it under certain conditions.
Type 'license()' or 'licence()' for distribution details.
R is a collaborative project with many contributors.
Type 'contributors()' for more information and
'citation()' on how to cite R or R packages in publications.
Type 'demo()' for some demos, 'help()' for on-line help, or
'help.start()' for an HTML browser interface to help.
Type 'q()' to quit R.
> library(testthat)
> library(IsoCorrectoR)
IsoCorrectoR v1.1.4
For help, type browseVignettes('IsoCorrectoR') to view the IsoCorrectoR documentation or ?IsoCorrection
to view the documentation of the IsoCorrection() function.
IsoCorrectoR is licensed under GPL-3. It is free software and comes without any warranty.
If you use IsoCorrectoR in published research, please cite:
Paul Heinrich, Christian Kohler et al.
Correction for natural isotope abundance and tracer impurity in MS-, MS/MS- and high-resolution multiple-tracer-data from stable isotope labeling experiments with IsoCorrectoR (Manuscript accepted)
> 
> test_check("IsoCorrectoR")
══ testthat results  ═══════════════════════════════════════════════════════════
OK: 372 SKIPPED: 1 FAILED: 0
> 
> proc.time()
   user  system elapsed 
 67.564   0.864  68.984 
IsoCorrectoR.Rcheck/IsoCorrectoR-Ex.timings
| name | user | system | elapsed | |
| IsoCorrection | 2.067 | 0.053 | 2.142 | |