| Back to Multiple platform build/check report for BioC 3.9 | 
  | 
This page was generated on 2019-04-09 13:21:08 -0400 (Tue, 09 Apr 2019).
| Package 821/1703 | Hostname | OS / Arch | INSTALL | BUILD | CHECK | BUILD BIN | ||||||
| IsoCorrectoR 1.1.4 Christian Kohler 
  | malbec2 | Linux (Ubuntu 18.04.2 LTS) / x86_64 | OK | OK | OK | |||||||
| tokay2 | Windows Server 2012 R2 Standard / x64 | OK | OK | OK | OK | |||||||
| celaya2 | OS X 10.11.6 El Capitan / x86_64 | OK | OK | OK | [ OK ] | |||||||
| merida2 | OS X 10.11.6 El Capitan / x86_64 | OK | OK | OK | OK | 
| Package: IsoCorrectoR | 
| Version: 1.1.4 | 
| Command: rm -rf IsoCorrectoR.buildbin-libdir && mkdir IsoCorrectoR.buildbin-libdir && /Users/biocbuild/BBS/utils/build-universal.sh IsoCorrectoR_1.1.4.tar.gz /Library/Frameworks/R.framework/Versions/Current/Resources/bin/R IsoCorrectoR.buildbin-libdir | 
| StartedAt: 2019-04-09 07:14:54 -0400 (Tue, 09 Apr 2019) | 
| EndedAt: 2019-04-09 07:15:21 -0400 (Tue, 09 Apr 2019) | 
| EllapsedTime: 27.0 seconds | 
| RetCode: 0 | 
| Status: OK | 
| PackageFile: IsoCorrectoR_1.1.4.tgz | 
| PackageFileSize: 1.75 MiB | 
############################################################################## ############################################################################## ### ### Running command: ### ### rm -rf IsoCorrectoR.buildbin-libdir && mkdir IsoCorrectoR.buildbin-libdir && /Users/biocbuild/BBS/utils/build-universal.sh IsoCorrectoR_1.1.4.tar.gz /Library/Frameworks/R.framework/Versions/Current/Resources/bin/R IsoCorrectoR.buildbin-libdir ### ############################################################################## ############################################################################## >>>>>>> >>>>>>> INSTALLATION WITH 'R CMD INSTALL --preclean --no-multiarch --library=IsoCorrectoR.buildbin-libdir IsoCorrectoR_1.1.4.tar.gz' >>>>>>> * installing *source* package ‘IsoCorrectoR’ ... ** using staged installation ** R ** data *** moving datasets to lazyload DB ** inst ** byte-compile and prepare package for lazy loading ** help *** installing help indices ** building package indices ** installing vignettes ** testing if installed package can be loaded from temporary location ** testing if installed package can be loaded from final location ** testing if installed package keeps a record of temporary installation path * DONE (IsoCorrectoR)