| Back to Multiple platform build/check report for BioC 3.9 | 
 | 
This page was generated on 2019-04-09 13:35:41 -0400 (Tue, 09 Apr 2019).
| Package 809/1703 | Hostname | OS / Arch | INSTALL | BUILD | CHECK | BUILD BIN | ||||||
| InterMineR 1.5.2 InterMine Team 
 | malbec2 | Linux (Ubuntu 18.04.2 LTS) / x86_64 | OK | OK | OK |  | ||||||
| tokay2 | Windows Server 2012 R2 Standard / x64 | OK | OK | WARNINGS | OK |  | ||||||
| celaya2 | OS X 10.11.6 El Capitan / x86_64 | OK | OK | OK | OK |  | ||||||
| merida2 | OS X 10.11.6 El Capitan / x86_64 | OK | OK | OK | [ OK ] | 
| Package: InterMineR | 
| Version: 1.5.2 | 
| Command: rm -rf InterMineR.buildbin-libdir && mkdir InterMineR.buildbin-libdir && /Users/biocbuild/BBS/utils/build-universal.sh InterMineR_1.5.2.tar.gz /Library/Frameworks/R.framework/Versions/Current/Resources/bin/R InterMineR.buildbin-libdir | 
| StartedAt: 2019-04-09 05:39:06 -0400 (Tue, 09 Apr 2019) | 
| EndedAt: 2019-04-09 05:40:26 -0400 (Tue, 09 Apr 2019) | 
| EllapsedTime: 79.7 seconds | 
| RetCode: 0 | 
| Status: OK | 
| PackageFile: InterMineR_1.5.2.tgz | 
| PackageFileSize: 5.236 MiB | 
############################################################################## ############################################################################## ### ### Running command: ### ### rm -rf InterMineR.buildbin-libdir && mkdir InterMineR.buildbin-libdir && /Users/biocbuild/BBS/utils/build-universal.sh InterMineR_1.5.2.tar.gz /Library/Frameworks/R.framework/Versions/Current/Resources/bin/R InterMineR.buildbin-libdir ### ############################################################################## ############################################################################## >>>>>>> >>>>>>> INSTALLATION WITH 'R CMD INSTALL --preclean --no-multiarch --library=InterMineR.buildbin-libdir InterMineR_1.5.2.tar.gz' >>>>>>> * installing *source* package ‘InterMineR’ ... ** R ** data *** moving datasets to lazyload DB ** inst ** byte-compile and prepare package for lazy loading ** help *** installing help indices ** building package indices ** installing vignettes ** testing if installed package can be loaded * DONE (InterMineR)